{"text_format":"1","workbook":"xlsx","n_sheets":9,"sheets":["Das Aachener Anlaufmgmt.Modell","Unternehmen","Entscheidungsgrundlage","Einheitliches Zielsystem","Entscheidungsfähigkeit","Ist-Matrix","Report","Urmatrix","Parameter"],"not_rendered":{"charts":0,"images":54,"macros":1,"external_links":1,"defined_names":5,"comments":1,"pivot_tables":0},"unopened":[],"bounds":{"document_bytes":16777216,"sheet_cells":100000,"rows_first":2000,"rows_last":500,"rows_between":2000,"halvings":0,"cell_chars":16384,"cell_head_chars":4096},"cells_cut":0,"cells_raw":0,"read":"whole","date_system":"1900"}

{"sheet":"Das Aachener Anlaufmgmt.Modell","index":0,"n_rows":49,"n_cols":3,"rows_kept":49,"cut":false,"hidden":false,"merged":[[1,2,4,6],[17,2,31,6],[48,2,48,7],[50,15,50,18],[50,19,50,22],[50,2,50,5],[33,2,42,6],[44,2,45,6],[5,2,15,6]]}
[]
[null,null,"Willkommen im Aachener Anlaufmodell\nEinem Konfigurator für Ihr Anlaufmanagement"]
[]
[]
[]
[null,null,"Rechts finden Sie eine Darstellung des Ordnungsrahmens des Graduiertenkollegs \"Anlaufmanagement\". Er soll der Komplexität des Systems \"Produktionsanlauf\" durch eine dezentrale, systematische Verbesserung der Einzelentscheidungen unter Berücksichtigung der Wirkzusammenhänge gerecht werden. Der Aufbau des Konfigurators folgt diesem Gestaltungsrahmen."]
[]
[]
[]
[]
[]
[]
[]
[]
[]
[]
[]
[null,null,"Auf den Reitern \"Unternehmen\", \"Entscheidungsgrundlage\" und \"Einheitliches Zielsystem\" können Sie Ihre unternehmensspezifische Anlaufsituation anhand der Merkmale beschreiben. Im Reiter \"Entscheidungsfähigkeit\" erhalten Sie unsere Handlungsempfehlungen für Gestaltungsdimensionen Ihres Anlaufmanagements. Wollen Sie darüber hinaus noch mehr wissen, erstellt Ihnen der Report eine Übersicht zu relevanten Dissertationen des Graduiertenkollegs \"Anlaufmanagement\". "]
[]
[]
[]
[]
[]
[]
[]
[]
[]
[]
[]
[]
[]
[]
[]
[null,null,"Natürlich freuen wir uns, auch mit Ihnen persönlich Ihre Herausforderungen im Anlauf und im Anlaufmanagement zu diskutieren. Sie finden die Kontaktdaten der Kollegiaten an ihren jeweiligen Lehrstühlen auf diesem Reiter aufgeführt. Weitere Informationen finden Sie auch auf der Internetpräsenz des Graduiertenkollegs:"]
[]
[]
[]
[]
[]
[]
[]
[]
[]
[]
[null,null,"Graduiertenkollg Anlaufmanagement"]
[]
[]
[]
[null,null,"Die Kollegiaten des Graduiertenkollges \"Anlaufmanagement\""]

{"sheet":"Unternehmen","index":1,"n_rows":34,"n_cols":51,"rows_kept":34,"cut":false,"hidden":false,"merged":[[33,5,33,17],[33,20,33,32],[33,35,33,47],[33,50,33,62],[21,5,21,17],[21,20,21,32],[21,35,21,47],[27,35,27,47],[23,45,23,62],[23,5,23,22],[23,25,23,42],[21,50,21,62],[27,5,27,17],[27,20,27,32],[17,5,17,22],[17,25,17,42],[25,45,25,62],[19,5,19,17],[19,20,19,32],[19,35,19,47],[19,50,19,62],[17,45,17,62],[7,4,7,62],[13,45,13,62],[15,5,15,22],[15,25,15,42],[15,45,15,62],[9,4,9,62],[1,2,2,64],[25,5,25,22],[25,25,25,42],[27,50,27,62],[31,5,31,22],[31,25,31,42],[31,45,31,62],[29,5,29,17],[29,20,29,32],[29,35,29,47],[29,50,29,62],[11,5,11,22],[11,25,11,42],[11,45,11,62],[13,5,13,22],[13,25,13,42]]}
[]
[null,null,"Unternehmensbeschreibung"]
[]
[]
[]
[]
[]
[null,null,"Merkmale",null,"Ausprägungen (Zutreffendes bitte anklicken!)"]
[]
[null,null,"betrachtetes Produkt / Produktgruppe"]
[]
[null,null,"Komplexität der Produktarchitektur",null,null,"gering",null,null,null,null,null,null,null,null,null,null,null,null,null,null,null,null,null,null,null,"mittel",null,null,null,null,null,null,null,null,null,null,null,null,null,null,null,null,null,null,null,"hoch"]
[]
[null,null,"Sicherheitsrelevanz des Produktes",null,null,"gering",null,null,null,null,null,null,null,null,null,null,null,null,null,null,null,null,null,null,null,"mittel",null,null,null,null,null,null,null,null,null,null,null,null,null,null,null,null,null,null,null,"hoch"]
[]
[null,null,"Art des Produkts",null,null,"Verbrauchsgut",null,null,null,null,null,null,null,null,null,null,null,null,null,null,null,null,null,null,null,"kurzlebigs Gebrauchsgut",null,null,null,null,null,null,null,null,null,null,null,null,null,null,null,null,null,null,null,"langlebiges Gebrauchsgut"]
[]
[null,null,"geplanter Umsatzanteil",null,null,"gering",null,null,null,null,null,null,null,null,null,null,null,null,null,null,null,null,null,null,null,"mittel",null,null,null,null,null,null,null,null,null,null,null,null,null,null,null,null,null,null,null,"hoch"]
[]
[null,null,"Anzahl gefertigter\nProdukte pro Jahr",null,null,"< 100",null,null,null,null,null,null,null,null,null,null,null,null,null,null,"100 - 9999",null,null,null,null,null,null,null,null,null,null,null,null,null,null,"10000 - 1 Mio.",null,null,null,null,null,null,null,null,null,null,null,null,null,null,"> 1 Mio."]
[]
[null,null,"Erzeugnisspektrum",null,null,"Erzeugnisse nach\nKundenspezifikation",null,null,null,null,null,null,null,null,null,null,null,null,null,null,"Standarderzeugnisse\nmit kundenspez. Var.",null,null,null,null,null,null,null,null,null,null,null,null,null,null,"Standarderzeugnisse mit Varianten",null,null,null,null,null,null,null,null,null,null,null,null,null,null,"Standarderzeugnisse\nohne Varianten"]
[]
[null,null,"Wichtigkeit des\nProduktpreises",null,null,"Kostenführerschaft",null,null,null,null,null,null,null,null,null,null,null,null,null,null,null,null,null,null,null,"Preisführerschaft",null,null,null,null,null,null,null,null,null,null,null,null,null,null,null,null,null,null,null,"Qualitätsführerschaft"]
[]
[null,null,"Wichtigkeit produkt-\nspezifischer Dienstleistungen",null,null,"klein",null,null,null,null,null,null,null,null,null,null,null,null,null,null,null,null,null,null,null,"mittel",null,null,null,null,null,null,null,null,null,null,null,null,null,null,null,null,null,null,null,"groß"]
[]
[null,null,"Häufigkeit des\nKundenbedarfs",null,null,"nicht wiederkehrend",null,null,null,null,null,null,null,null,null,null,null,null,null,null,"blockweise",null,null,null,null,null,null,null,null,null,null,null,null,null,null,"regulär",null,null,null,null,null,null,null,null,null,null,null,null,null,null,"kontinuierlich"]
[]
[null,null,"Regelmäßigkeit des\nKundenbedarfs",null,null,"unregelmäßig",null,null,null,null,null,null,null,null,null,null,null,null,null,null,"saisonal",null,null,null,null,null,null,null,null,null,null,null,null,null,null,"trendabhängig",null,null,null,null,null,null,null,null,null,null,null,null,null,null,"regelmäßig/konstant"]
[]
[null,null,"Beschaffungsart",null,null,"überwiegend externe\nBeschaffung",null,null,null,null,null,null,null,null,null,null,null,null,null,null,null,null,null,null,null,"teilweise externe Beschaffung",null,null,null,null,null,null,null,null,null,null,null,null,null,null,null,null,null,null,null,"kaum externe\nBeschaffung"]
[]
[null,null,"Produktionskonzept",null,null,"Engineer-to-Order",null,null,null,null,null,null,null,null,null,null,null,null,null,null,"Make-to-Order",null,null,null,null,null,null,null,null,null,null,null,null,null,null,"Assemble-to-Order",null,null,null,null,null,null,null,null,null,null,null,null,null,null,"Make-to-Stock"]

{"sheet":"Entscheidungsgrundlage","index":2,"n_rows":42,"n_cols":56,"rows_kept":42,"cut":false,"hidden":false,"merged":[[17,35,17,42],[17,45,17,52],[25,2,27,2],[7,4,7,62],[25,55,25,62],[27,5,27,12],[27,15,27,22],[27,25,27,32],[27,35,27,42],[27,45,27,52],[27,55,27,62],[25,5,25,12],[25,15,25,22],[25,25,25,32],[25,35,25,42],[25,45,25,52],[19,20,19,32],[19,35,19,47],[35,25,35,42],[35,45,35,62],[37,5,37,22],[37,25,37,42],[37,45,37,62],[41,5,41,22],[41,25,41,42],[41,45,41,62],[29,5,29,22],[29,25,29,42],[29,45,29,62],[33,5,33,22],[33,25,33,42],[33,45,33,62],[39,5,39,17],[39,20,39,32],[39,35,39,47],[39,50,39,62],[31,5,31,32],[31,35,31,62],[35,5,35,22],[15,5,15,22],[15,25,15,42],[15,45,15,62],[23,5,23,22],[23,25,23,42],[23,45,23,62],[19,5,19,17],[19,50,19,62],[21,5,21,17],[21,20,21,32],[21,35,21,47],[21,50,21,62],[17,55,17,62],[17,5,17,12],[17,15,17,22],[17,25,17,32],[13,5,13,14],[13,17,13,26],[13,29,13,38],[13,41,13,50],[13,53,13,62],[1,2,2,63],[9,5,9,22],[9,25,9,42],[9,45,9,62],[11,5,11,17],[11,20,11,32],[11,35,11,47],[11,50,11,62]]}
[]
[null,null,"Entscheidungsgrundlage - Anlaufdimensionen"]
[]
[]
[]
[]
[]
[null,null,"Merkmal",null,"Ausprägungen (Zutreffendes bitte anklicken!)"]
[]
[null,null,"Änderungsgrad / Innovationsgrad",null,null,"neu",null,null,null,null,null,null,null,null,null,null,null,null,null,null,null,null,null,null,null,"geändert",null,null,null,null,null,null,null,null,null,null,null,null,null,null,null,null,null,null,null,"angepasst"]
[]
[null,null,"Änderungsgegenstand",null,null,"Prozess",null,null,null,null,null,null,null,null,null,null,null,null,null,null,"Produkt",null,null,null,null,null,null,null,null,null,null,null,null,null,null,"Umfeld",null,null,null,null,null,null,null,null,null,null,null,null,null,null,"Organisation"]
[]
[null,null,"Phase im Produktentwicklungs-prozess",null,null,"Prototyp",null,null,null,null,null,null,null,null,null,null,null,"Vorserie",null,null,null,null,null,null,null,null,null,null,null,"0-Serie",null,null,null,null,null,null,null,null,null,null,null,"Hochlauf",null,null,null,null,null,null,null,null,null,null,null,"Serie"]
[]
[null,null,"Häufigkeit von Anläufen",null,null,"mehrmals im Monat",null,null,null,null,null,null,null,null,null,null,null,null,null,null,null,null,null,null,null,"mehrmals im Jahr",null,null,null,null,null,null,null,null,null,null,null,null,null,null,null,null,null,null,null,"selten"]
[]
[null,null,"Änderungsgrund",null,null,"KVP (Hochfahren auf Nennkapazität)",null,null,null,null,null,null,null,null,null,"Qualitätsmängel (Produkt/ Prozess)",null,null,null,null,null,null,null,null,null,"Prozess-Technologie",null,null,null,null,null,null,null,null,null,"Produkt-Technologie",null,null,null,null,null,null,null,null,null,"Gesetz",null,null,null,null,null,null,null,null,null,"Kundenwunsch"]
[]
[null,null,"Laufzeit / Dauer",null,null,"Tage",null,null,null,null,null,null,null,null,null,null,null,null,null,null,">14 Tage",null,null,null,null,null,null,null,null,null,null,null,null,null,null,">8 Wochen",null,null,null,null,null,null,null,null,null,null,null,null,null,null,">6 Monate"]
[]
[null,null,"involvierte Mitarbeiter",null,null,"Einzelperson",null,null,null,null,null,null,null,null,null,null,null,null,null,null,"Gruppe (2-4)",null,null,null,null,null,null,null,null,null,null,null,null,null,null,"Team (5-12)",null,null,null,null,null,null,null,null,null,null,null,null,null,null,"Mehrere Teams (>12)"]
[]
[null,null,"Qualifikation involvierter Mitarbeiter",null,null,"individuelle Experten",null,null,null,null,null,null,null,null,null,null,null,null,null,null,null,null,null,null,null,"sensibilisierte Mitarbeiter ",null,null,null,null,null,null,null,null,null,null,null,null,null,null,null,null,null,null,null,"anlauferfahrene Mitarbeiter"]
[]
[null,null,"Interdisziplinarität",null,null,"Produktentwicklung",null,null,null,null,null,null,null,null,null,"Technologieplanung",null,null,null,null,null,null,null,null,null,"Logistik",null,null,null,null,null,null,null,null,null,"Qualität",null,null,null,null,null,null,null,null,null,"Fabikplanung",null,null,null,null,null,null,null,null,null,"Serienproduktion"]
[]
[null,null,null,null,null,"Einkauf",null,null,null,null,null,null,null,null,null,"Vertrieb/ Produktmanagement",null,null,null,null,null,null,null,null,null,"Geschäftsführung",null,null,null,null,null,null,null,null,null,"Lieferkette/ Zulieferer",null,null,null,null,null,null,null,null,null,"weitere Standorte",null,null,null,null,null,null,null,null,null,"Andere"]
[]
[null,null,"Räumliche Verteilung",null,null,"stationär",null,null,null,null,null,null,null,null,null,null,null,null,null,null,null,null,null,null,null,"regional",null,null,null,null,null,null,null,null,null,null,null,null,null,null,null,null,null,null,null,"überregional"]
[]
[null,null,"Internationalität der Mitarbeiter",null,null,"national",null,null,null,null,null,null,null,null,null,null,null,null,null,null,null,null,null,null,null,null,null,null,null,null,null,null,null,null,null,"international"]
[]
[null,null,"Zielhomogenität",null,null,"Zielneutralität",null,null,null,null,null,null,null,null,null,null,null,null,null,null,null,null,null,null,null,"Zielkomplementarität ",null,null,null,null,null,null,null,null,null,null,null,null,null,null,null,null,null,null,null,"Zielkonkurrenz "]
[]
[null,null," Häufigkeit von Änderungen",null,null,"gering",null,null,null,null,null,null,null,null,null,null,null,null,null,null,null,null,null,null,null,"mittel",null,null,null,null,null,null,null,null,null,null,null,null,null,null,null,null,null,null,null,"hoch"]
[]
[null,null," Ausmaß der Änderungen\nAnteil des Ändeurngsaufwands i.V. z. Entwicklungsaufwand",null,null,"gering",null,null,null,null,null,null,null,null,null,null,null,null,null,null,null,null,null,null,null,"mittel",null,null,null,null,null,null,null,null,null,null,null,null,null,null,null,null,null,null,null,"hoch"]
[]
[null,null,"Projektkosten / -umfang",null,null,"<10k",null,null,null,null,null,null,null,null,null,null,null,null,null,null,"<100k",null,null,null,null,null,null,null,null,null,null,null,null,null,null,"<1000k",null,null,null,null,null,null,null,null,null,null,null,null,null,null,">1000k"]
[]
[null,null,"Varianteneinführung",null,null,"parallel",null,null,null,null,null,null,null,null,null,null,null,null,null,null,null,null,null,null,null,"sukzessiv",null,null,null,null,null,null,null,null,null,null,null,null,null,null,null,null,null,null,null,"Stufen"]

{"sheet":"Einheitliches Zielsystem","index":3,"n_rows":53,"n_cols":48,"rows_kept":53,"cut":false,"hidden":false,"merged":[[30,47,30,62],[32,47,32,62],[34,47,34,62],[36,47,36,62],[12,45,14,46],[16,45,20,46],[22,45,28,46],[30,45,36,46],[28,47,28,62],[18,5,18,22],[20,5,20,22],[18,27,18,42],[22,47,22,62],[26,47,26,62],[18,47,18,62],[20,47,20,62],[24,47,24,62],[1,2,2,64],[12,47,12,62],[14,47,14,62],[16,47,16,62],[7,4,7,62],[9,5,9,22],[9,25,9,42],[9,45,9,62],[12,25,12,42],[14,25,14,42],[16,25,16,42],[12,5,12,22],[14,5,14,22],[16,5,16,22],[52,45,52,62],[52,5,52,22],[52,25,52,42],[38,47,38,62],[40,47,40,62],[42,47,42,62],[44,47,44,62],[46,47,46,62],[48,47,48,62],[50,5,50,22],[50,25,50,42],[50,45,50,62],[38,45,42,46],[44,45,48,46]]}
[]
[null,null,"Einheitliches Zielsystem"]
[]
[]
[]
[]
[]
[null,null,"Merkmal",null,"Ausprägungen (Zutreffendes bitte anklicken!)"]
[]
[null,null,"Priorisierung der Hauptziele im Anlauf",null,null,"Qualität\n(Effektivitätsziele)",null,null,null,null,null,null,null,null,null,null,null,null,null,null,null,null,null,null,null,"Zeit\n(Terminziele)",null,null,null,null,null,null,null,null,null,null,null,null,null,null,null,null,null,null,null,"Kosten\n(Effizienzziele)"]
[]
[null,null,"Kennzahlaufschlüsselung (Ankreuzen für Kennzahlenabdeckung)"]
[null,null,null,null,null,"Erfüllungsgrad der Anforderungen",null,null,null,null,null,null,null,null,null,null,null,null,null,null,null,null,null,null,null,"Anlaufzeit (time-to-volume)",null,null,null,null,null,null,null,null,null,null,null,null,null,null,null,null,null,null,null,"Lost Sales",null,"Verlorene Stückzahlen/ Lost Sales"]
[]
[null,null,null,null,null,"Kundenzufriedenheit",null,null,null,null,null,null,null,null,null,null,null,null,null,null,null,null,null,null,null,"Entwicklungszeit und Produktions-anlaufzeit (time-to-market)",null,null,null,null,null,null,null,null,null,null,null,null,null,null,null,null,null,null,null,null,null,"Abschreibungszeitraum"]
[]
[null,null,null,null,null,"mengenmäßige Leistungsfähigkeit der Produktion",null,null,null,null,null,null,null,null,null,null,null,null,null,null,null,null,null,null,null,"Zeit zum Erfüllen der Finanzziele (time-to-payback)",null,null,null,null,null,null,null,null,null,null,null,null,null,null,null,null,null,null,null,"Änderungskosten Produktion",null,"Zusätzlicher Planungsaufwand"]
[]
[null,null,null,null,null,"Gutteilmenge",null,null,null,null,null,null,null,null,null,null,null,null,null,null,null,null,null,null,null,null,null,null,null,null,null,null,null,null,null,null,null,null,null,null,null,null,null,null,null,null,null,"Kommunikationsaufwand"]
[]
[null,null,null,null,null,"Fähigkeit der Produktionsprozesse",null,null,null,null,null,null,null,null,null,null,null,null,null,null,null,null,null,null,null,null,null,null,null,null,null,null,null,null,null,null,null,null,null,null,null,null,null,null,null,null,null,"Nachinvestitionen in Maschinen und Anlagen"]
[]
[null,null,null,null,null,null,null,null,null,null,null,null,null,null,null,null,null,null,null,null,null,null,null,null,null,null,null,null,null,null,null,null,null,null,null,null,null,null,null,null,null,null,null,null,null,"Änderungskosten Produkt",null,"Kosten für Neu-/ Änderungsteile"]
[]
[null,null,null,null,null,null,null,null,null,null,null,null,null,null,null,null,null,null,null,null,null,null,null,null,null,null,null,null,null,null,null,null,null,null,null,null,null,null,null,null,null,null,null,null,null,null,null,"Kosten für Werkzeugänderungen"]
[]
[null,null,null,null,null,null,null,null,null,null,null,null,null,null,null,null,null,null,null,null,null,null,null,null,null,null,null,null,null,null,null,null,null,null,null,null,null,null,null,null,null,null,null,null,null,null,null,"Nachbemusterung und Freigabe"]
[]
[null,null,null,null,null,null,null,null,null,null,null,null,null,null,null,null,null,null,null,null,null,null,null,null,null,null,null,null,null,null,null,null,null,null,null,null,null,null,null,null,null,null,null,null,null,null,null,"Verschrottung"]
[]
[null,null,null,null,null,null,null,null,null,null,null,null,null,null,null,null,null,null,null,null,null,null,null,null,null,null,null,null,null,null,null,null,null,null,null,null,null,null,null,null,null,null,null,null,null,"Personalkosten",null,"Versuchsaufbau/ Pilothalle/ Anlaufteam"]
[]
[null,null,null,null,null,null,null,null,null,null,null,null,null,null,null,null,null,null,null,null,null,null,null,null,null,null,null,null,null,null,null,null,null,null,null,null,null,null,null,null,null,null,null,null,null,null,null,"Nacharbeit"]
[]
[null,null,null,null,null,null,null,null,null,null,null,null,null,null,null,null,null,null,null,null,null,null,null,null,null,null,null,null,null,null,null,null,null,null,null,null,null,null,null,null,null,null,null,null,null,null,null,"Sonderschichtzulagen"]
[]
[null,null,null,null,null,null,null,null,null,null,null,null,null,null,null,null,null,null,null,null,null,null,null,null,null,null,null,null,null,null,null,null,null,null,null,null,null,null,null,null,null,null,null,null,null,null,null,"Produktivitätsverluste"]
[]
[null,null,null,null,null,null,null,null,null,null,null,null,null,null,null,null,null,null,null,null,null,null,null,null,null,null,null,null,null,null,null,null,null,null,null,null,null,null,null,null,null,null,null,null,null,"Materialkosten",null,"Termin-Aufholkosten (Werkzeuge)"]
[]
[null,null,null,null,null,null,null,null,null,null,null,null,null,null,null,null,null,null,null,null,null,null,null,null,null,null,null,null,null,null,null,null,null,null,null,null,null,null,null,null,null,null,null,null,null,null,null,"Termin-Aufholkosten (Musterteile)"]
[]
[null,null,null,null,null,null,null,null,null,null,null,null,null,null,null,null,null,null,null,null,null,null,null,null,null,null,null,null,null,null,null,null,null,null,null,null,null,null,null,null,null,null,null,null,null,null,null,"Teile aus Prototypen-/ Vorserienwerkzeuge"]
[]
[null,null,null,null,null,null,null,null,null,null,null,null,null,null,null,null,null,null,null,null,null,null,null,null,null,null,null,null,null,null,null,null,null,null,null,null,null,null,null,null,null,null,null,null,null,"Logistikkosten",null,"Bestandskosten"]
[]
[null,null,null,null,null,null,null,null,null,null,null,null,null,null,null,null,null,null,null,null,null,null,null,null,null,null,null,null,null,null,null,null,null,null,null,null,null,null,null,null,null,null,null,null,null,null,null,"Mangelnde Teileversorung durch Lieferanten"]
[]
[null,null,null,null,null,null,null,null,null,null,null,null,null,null,null,null,null,null,null,null,null,null,null,null,null,null,null,null,null,null,null,null,null,null,null,null,null,null,null,null,null,null,null,null,null,null,null,"Sonderfrachtkosten"]
[]
[null,null,"Nebenziele",null,null,"Mitarbeiter-Motivation",null,null,null,null,null,null,null,null,null,null,null,null,null,null,null,null,null,null,null,"Ökologische Ziele",null,null,null,null,null,null,null,null,null,null,null,null,null,null,null,null,null,null,null,"Soziale/ Nomative Ziele"]
[]
[null,null,"Bewertung der Problemrelevanz zur Erfüllung einer Kennzahl im Anlauf",null,null,"Qualität\n(Effektivitätsziele)",null,null,null,null,null,null,null,null,null,null,null,null,null,null,null,null,null,null,null,"Zeit\n(Terminziele)",null,null,null,null,null,null,null,null,null,null,null,null,null,null,null,null,null,null,null,"Kosten\n(Effizienzziele)"]

{"sheet":"Entscheidungsfähigkeit","index":4,"n_rows":51,"n_cols":58,"rows_kept":51,"cut":false,"hidden":false,"merged":[[46,47,46,64],[47,7,47,24],[47,27,47,44],[47,47,47,64],[43,7,43,19],[43,22,43,34],[43,37,43,49],[43,52,43,64],[44,7,44,19],[44,22,44,34],[44,37,44,49],[44,52,44,64],[46,46,47,46],[46,26,47,26],[35,47,35,54],[35,57,35,64],[37,7,37,19],[37,22,37,34],[37,37,37,49],[37,52,37,64],[37,51,38,51],[38,7,38,19],[38,22,38,34],[38,37,38,49],[38,52,38,64],[49,51,50,51],[49,7,49,19],[49,22,49,34],[49,37,49,49],[50,7,50,19],[50,22,50,34],[50,37,50,49],[10,47,10,64],[11,47,11,64],[13,7,13,34],[14,7,14,34],[13,37,13,64],[14,37,14,64],[16,7,16,24],[16,27,16,44],[16,47,16,64],[17,7,17,24],[17,27,17,44],[17,47,17,64],[19,7,19,14],[20,7,20,14],[19,17,19,24],[20,17,20,24],[19,27,19,34],[40,46,41,46],[43,6,44,6],[43,21,44,21],[43,36,44,36],[43,51,44,51],[40,7,40,24],[40,27,40,44],[40,47,40,64],[41,7,41,24],[41,27,41,44],[41,47,41,64],[31,54,32,54],[34,56,35,56],[34,46,35,46],[34,36,35,36],[34,26,35,26],[34,16,35,16],[34,6,35,6],[34,7,34,14],[34,17,34,24],[34,27,34,34],[34,37,34,44],[34,47,34,54],[31,7,31,16],[32,7,32,16],[31,19,31,28],[32,19,32,28],[31,31,31,40],[32,31,32,40],[31,43,31,52],[32,43,32,52],[31,55,31,64],[32,55,32,64],[34,57,34,64],[35,7,35,14],[25,22,25,34],[26,22,26,34],[25,37,25,49],[26,37,26,49],[26,52,26,64],[28,7,28,34],[28,37,28,64],[29,7,29,34],[29,37,29,64],[49,52,49,64],[50,52,50,64],[13,3,14,3],[43,3,47,3],[13,6,14,6],[13,36,14,36],[16,6,17,6],[16,26,17,26],[16,46,17,46],[19,6,20,6],[19,16,20,16],[19,26,20,26],[19,36,20,36],[19,46,20,46],[19,56,20,56],[25,52,25,64],[31,3,32,3],[34,3,35,3],[37,3,38,3],[40,3,41,3],[22,6,23,6],[22,36,23,36],[25,51,26,51],[28,36,29,36],[31,6,32,6],[31,18,32,18],[31,30,32,30],[31,42,32,42],[37,6,38,6],[37,21,38,21],[37,36,38,36],[46,6,47,6],[49,6,50,6],[49,21,50,21],[49,36,50,36],[40,6,41,6],[40,26,41,26],[35,17,35,24],[35,27,35,34],[35,37,35,44],[46,7,46,24],[46,27,46,44],[10,4,11,4],[13,4,14,4],[16,4,17,4],[19,4,20,4],[22,4,23,4],[25,3,26,3],[28,3,29,3],[10,26,11,26],[10,46,11,46],[10,7,10,24],[11,7,11,24],[10,27,10,44],[11,27,11,44],[25,36,26,36],[25,21,26,21],[25,6,26,6],[20,27,20,34],[28,6,29,6],[22,7,22,34],[22,37,22,64],[23,7,23,34],[23,37,23,64],[25,7,25,19],[26,7,26,19],[19,2,20,2],[34,2,35,2],[25,2,26,2],[37,2,38,2],[49,2,50,2],[31,2,32,2],[43,2,44,2],[1,3,2,66],[10,6,11,6],[10,2,11,2],[10,3,11,3],[16,3,17,3],[19,3,20,3],[22,3,23,3],[19,37,19,44],[20,37,20,44],[19,47,19,54],[20,47,20,54],[19,57,19,64],[20,57,20,64],[13,2,14,2],[16,2,17,2],[22,2,23,2],[8,7,8,65],[25,4,26,4],[28,4,29,4],[31,4,32,4],[34,4,35,4],[37,4,38,4],[40,4,41,4],[43,4,47,4],[49,4,50,4],[28,2,29,2],[40,2,41,2],[49,3,50,3]]}
[]
[null,null,null,"Entscheidungsfähigkeit"]
[]
[]
[]
[]
[]
[]
[null,null,null,"Merkmal","Priorität",null,null,"Priorisierte Ausprägungen (Bitte die für Sie interessanten Merkmale auswählen!)"]
[]
[null,null,{"$f":"IF(OR(Entscheidungsfähigkeit!G11=\"x\",Entscheidungsfähigkeit!AA11=\"x\",Entscheidungsfähigkeit!AU11=\"x\"),\"x\",\"\")","v":""},"Tätigkeitsprofil des Managementsystems",{"$f":"IF(OR(H12=\"Priorität A\",AB12=\"Priorität A\",AV12=\"Priorität A\"),\"Prio A\",IF(OR(H12=\"Priorität B\",AB12=\"Priorität B\",AV12=\"Priorität B\"),\"Prio B\",IF(OR(H12=\"Priorität C\",AB12=\"Priorität C\",AV12=\"Priorität C\"),\"Prio C\",\"nicht relevant\")))","v":"nicht relevant"},null,null,"Planen",null,null,null,null,null,null,null,null,null,null,null,null,null,null,null,null,null,null,null,"Kontrollieren",null,null,null,null,null,null,null,null,null,null,null,null,null,null,null,null,null,null,null,"Eskalieren / Reagieren"]
[null,null,null,null,null,null,null,{"$f":"IF('Ist-Matrix'!I153=0,\"nicht relevant\",IF('Ist-Matrix'!I153>=50%,\"Priorität A\",IF('Ist-Matrix'!I153>=30%,\"Priorität B\",\"Priorität C\")))","v":"nicht relevant"},null,null,null,null,null,null,null,null,null,null,null,null,null,null,null,null,null,null,null,{"$f":"IF('Ist-Matrix'!J153=0,\"nicht relevant\",IF('Ist-Matrix'!J153>=50%,\"Priorität A\",IF('Ist-Matrix'!J153>=30%,\"Priorität B\",\"Priorität C\")))","v":"nicht relevant"},null,null,null,null,null,null,null,null,null,null,null,null,null,null,null,null,null,null,null,{"$f":"IF('Ist-Matrix'!K153=0,\"nicht relevant\",IF('Ist-Matrix'!K153>=50%,\"Priorität A\",IF('Ist-Matrix'!K153>=30%,\"Priorität B\",\"Priorität C\")))","v":"nicht relevant"}]
[]
[null,null,{"$f":"IF(OR(Entscheidungsfähigkeit!G14=\"x\",Entscheidungsfähigkeit!AK14=\"x\"),\"x\",\"\")","v":""},"Modellbildung",{"$f":"IF(OR(H15=\"Priorität A\",AL15=\"Priorität A\"),\"Prio A\",IF(OR(H15=\"Priorität B\",AL15=\"Priorität B\"),\"Prio B\",IF(OR(H15=\"Priorität C\",AL15=\"Priorität C\"),\"Prio C\",\"nicht relevant\")))","v":"nicht relevant"},null,null,"Modellieren",null,null,null,null,null,null,null,null,null,null,null,null,null,null,null,null,null,null,null,null,null,null,null,null,null,null,null,null,null,"Simulieren"]
[null,null,null,null,null,null,null,{"$f":"IF('Ist-Matrix'!L153=0,\"nicht relevant\",IF('Ist-Matrix'!L153>=50%,\"Priorität A\",IF('Ist-Matrix'!L153>=30%,\"Priorität B\",\"Priorität C\")))","v":"nicht relevant"},null,null,null,null,null,null,null,null,null,null,null,null,null,null,null,null,null,null,null,null,null,null,null,null,null,null,null,null,null,{"$f":"IF('Ist-Matrix'!M153=0,\"nicht relevant\",IF('Ist-Matrix'!M153>=50%,\"Priorität A\",IF('Ist-Matrix'!M153>=30%,\"Priorität B\",\"Priorität C\")))","v":"nicht relevant"}]
[]
[null,null,{"$f":"IF(OR(Entscheidungsfähigkeit!G17=\"x\",Entscheidungsfähigkeit!AA17=\"x\",Entscheidungsfähigkeit!AU17=\"x\"),\"x\",\"\")","v":""},"Managementebene",{"$f":"IF(OR(H18=\"Priorität A\",AB18=\"Priorität A\",AV18=\"Priorität A\"),\"Prio A\",IF(OR(H18=\"Priorität B\",AB18=\"Priorität B\",AV18=\"Priorität B\"),\"Prio B\",IF(OR(H18=\"Priorität C\",AB18=\"Priorität C\",AV18=\"Priorität C\"),\"Prio C\",\"nicht relevant\")))","v":"nicht relevant"},null,null,"normatives Management",null,null,null,null,null,null,null,null,null,null,null,null,null,null,null,null,null,null,null,"strategisches Management",null,null,null,null,null,null,null,null,null,null,null,null,null,null,null,null,null,null,null,"taktisches / operatives Management"]
[null,null,null,null,null,null,null,{"$f":"IF('Ist-Matrix'!N153=0,\"nicht relevant\",IF('Ist-Matrix'!N153>=50%,\"Priorität A\",IF('Ist-Matrix'!N153>=30%,\"Priorität B\",\"Priorität C\")))","v":"nicht relevant"},null,null,null,null,null,null,null,null,null,null,null,null,null,null,null,null,null,null,null,{"$f":"IF('Ist-Matrix'!O153=0,\"nicht relevant\",IF('Ist-Matrix'!O153>=50%,\"Priorität A\",IF('Ist-Matrix'!O153>=30%,\"Priorität B\",\"Priorität C\")))","v":"nicht relevant"},null,null,null,null,null,null,null,null,null,null,null,null,null,null,null,null,null,null,null,{"$f":"IF('Ist-Matrix'!P153=0,\"nicht relevant\",IF('Ist-Matrix'!P153>=50%,\"Priorität A\",IF('Ist-Matrix'!P153>=30%,\"Priorität B\",\"Priorität C\")))","v":"nicht relevant"}]
[]
[null,null,{"$f":"IF(OR(Entscheidungsfähigkeit!G20=\"x\",Q20=\"x\",AA20=\"x\",AK20=\"x\",AU20=\"x\",BE20=\"x\"),\"x\",\"\")","v":""},"Anlaufmanagement in der primären Organisationsstruktur",{"$f":"IF(OR(H21=\"Priorität A\",R21=\"Priorität A\",AB21=\"Priorität A\",AL21=\"Priorität A\",AV21=\"Priorität A\",BF21=\"Priorität A\"),\"Prio A\",IF(OR(H21=\"Priorität B\",R21=\"Priorität B\",AB21=\"Priorität B\",AL21=\"Priorität B\",AV21=\"Priorität B\",BF21=\"Priorität B\"),\"Prio B\",IF(OR(H21=\"Priorität C\",R21=\"Priorität C\",AB21=\"Priorität C\",AL21=\"Priorität C\",AV21=\"Priorität C\",BF21=\"Priorität C\"),\"Prio C\",\"nicht relevant\")))","v":"nicht relevant"},null,null," Stabsstelle des Konzerns",null,null,null,null,null,null,null,null,null,"Stabsstelle des Werks",null,null,null,null,null,null,null,null,null,"spezialisierter/ fachspezifischer Anlaufmanager",null,null,null,null,null,null,null,null,null,"Teil der Projektorganistion",null,null,null,null,null,null,null,null,null," untersteht der Entwicklung",null,null,null,null,null,null,null,null,null,"untersteht der Serie"]
[null,null,null,null,null,null,null,{"$f":"IF('Ist-Matrix'!Q153=0,\"nicht relevant\",IF('Ist-Matrix'!Q153>=50%,\"Priorität A\",IF('Ist-Matrix'!Q153>=30%,\"Priorität B\",\"Priorität C\")))","v":"nicht relevant"},null,null,null,null,null,null,null,null,null,{"$f":"IF('Ist-Matrix'!R153=0,\"nicht relevant\",IF('Ist-Matrix'!R153>=50%,\"Priorität A\",IF('Ist-Matrix'!R153>=30%,\"Priorität B\",\"Priorität C\")))","v":"nicht relevant"},null,null,null,null,null,null,null,null,null,{"$f":"IF('Ist-Matrix'!S153=0,\"nicht relevant\",IF('Ist-Matrix'!S153>=50%,\"Priorität A\",IF('Ist-Matrix'!S153>=30%,\"Priorität B\",\"Priorität C\")))","v":"nicht relevant"},null,null,null,null,null,null,null,null,null,{"$f":"IF('Ist-Matrix'!T153=0,\"nicht relevant\",IF('Ist-Matrix'!T153>=50%,\"Priorität A\",IF('Ist-Matrix'!T153>=30%,\"Priorität B\",\"Priorität C\")))","v":"nicht relevant"},null,null,null,null,null,null,null,null,null,{"$f":"IF('Ist-Matrix'!U153=0,\"nicht relevant\",IF('Ist-Matrix'!U153>=50%,\"Priorität A\",IF('Ist-Matrix'!U153>=30%,\"Priorität B\",\"Priorität C\")))","v":"nicht relevant"},null,null,null,null,null,null,null,null,null,{"$f":"IF('Ist-Matrix'!V153=0,\"nicht relevant\",IF('Ist-Matrix'!V153>=50%,\"Priorität A\",IF('Ist-Matrix'!V153>=30%,\"Priorität B\",\"Priorität C\")))","v":"nicht relevant"}]
[]
[null,null,{"$f":"IF(OR(Entscheidungsfähigkeit!G23=\"x\",Entscheidungsfähigkeit!AK23=\"x\"),\"x\",\"\")","v":""},"Anlaufmanagement-Staffing",{"$f":"IF(OR(H24=\"Priorität A\",AL24=\"Priorität A\"),\"Prio A\",IF(OR(H24=\"Priorität B\",AL24=\"Priorität B\"),\"Prio B\",IF(OR(H24=\"Priorität C\",AL24=\"Priorität C\"),\"Prio C\",\"nicht relevant\")))","v":"nicht relevant"},null,null,"Aufgaben werden alleine wahrgenommen",null,null,null,null,null,null,null,null,null,null,null,null,null,null,null,null,null,null,null,null,null,null,null,null,null,null,null,null,null,"Aufgaben werden im Team wahrgenommen"]
[null,null,null,null,null,null,null,{"$f":"IF('Ist-Matrix'!W153=0,\"nicht relevant\",IF('Ist-Matrix'!W153>=50%,\"Priorität A\",IF('Ist-Matrix'!W153>=30%,\"Priorität B\",\"Priorität C\")))","v":"nicht relevant"},null,null,null,null,null,null,null,null,null,null,null,null,null,null,null,null,null,null,null,null,null,null,null,null,null,null,null,null,null,{"$f":"IF('Ist-Matrix'!X153=0,\"nicht relevant\",IF('Ist-Matrix'!X153>=50%,\"Priorität A\",IF('Ist-Matrix'!X153>=30%,\"Priorität B\",\"Priorität C\")))","v":"nicht relevant"}]
[]
[null,null,{"$f":"IF(OR(Entscheidungsfähigkeit!G26=\"x\",V26=\"x\",AK26=\"x\",AK26=\"x\",AZ26=\"x\"),\"x\",\"\")","v":""},"Sekundärorganisation des Anlaufmanagements",{"$f":"IF(OR(H27=\"Priorität A\",W27=\"Priorität A\",AL27=\"Priorität A\",BA27=\"Priorität A\"),\"Prio A\",IF(OR(H27=\"Priorität B\",W27=\"Priorität B\",AL27=\"Priorität B\",BA27=\"Priorität B\"),\"Prio B\",IF(OR(H27=\"Priorität C\",W27=\"Priorität C\",AL27=\"Priorität C\",BA27=\"Priorität C\"),\"Prio C\",\"nicht relevant\")))","v":"nicht relevant"},null,null,"prozessorientiert strukturiert",null,null,null,null,null,null,null,null,null,null,null,null,null,null,"nach den Objekten/ Kunden (Produkte, Prozesse) strukturiert",null,null,null,null,null,null,null,null,null,null,null,null,null,null,"regional strukturiert",null,null,null,null,null,null,null,null,null,null,null,null,null,null,"projektindividuell strukturiert"]
[null,null,null,null,null,null,null,{"$f":"IF('Ist-Matrix'!Y153=0,\"nicht relevant\",IF('Ist-Matrix'!Y153>=50%,\"Priorität A\",IF('Ist-Matrix'!Y153>=30%,\"Priorität B\",\"Priorität C\")))","v":"nicht relevant"},null,null,null,null,null,null,null,null,null,null,null,null,null,null,{"$f":"IF('Ist-Matrix'!Z153=0,\"nicht relevant\",IF('Ist-Matrix'!Z153>=50%,\"Priorität A\",IF('Ist-Matrix'!Z153>=30%,\"Priorität B\",\"Priorität C\")))","v":"nicht relevant"},null,null,null,null,null,null,null,null,null,null,null,null,null,null,{"$f":"IF('Ist-Matrix'!AA153=0,\"nicht relevant\",IF('Ist-Matrix'!AA153>=50%,\"Priorität A\",IF('Ist-Matrix'!AA153>=30%,\"Priorität B\",\"Priorität C\")))","v":"nicht relevant"},null,null,null,null,null,null,null,null,null,null,null,null,null,null,{"$f":"IF('Ist-Matrix'!AB153=0,\"nicht relevant\",IF('Ist-Matrix'!AB153>=50%,\"Priorität A\",IF('Ist-Matrix'!AB153>=30%,\"Priorität B\",\"Priorität C\")))","v":"nicht relevant"}]
[]
[null,null,{"$f":"IF(OR(Entscheidungsfähigkeit!G29=\"x\",Entscheidungsfähigkeit!AK29=\"x\"),\"x\",\"\")","v":""},"Auslagerung des Anlaufmanagements als Schlüsselkompetenz",{"$f":"IF(OR(H30=\"Priorität A\",AL30=\"Priorität A\"),\"Prio A\",IF(OR(H30=\"Priorität B\",AL30=\"Priorität B\"),\"Prio B\",IF(OR(H30=\"Priorität C\",AL30=\"Priorität C\"),\"Prio C\",\"nicht relevant\")))","v":"nicht relevant"},null,null,"rein intern",null,null,null,null,null,null,null,null,null,null,null,null,null,null,null,null,null,null,null,null,null,null,null,null,null,null,null,null,null,"mit Hilfe von externen Experten/ Beratern"]
[null,null,null,null,null,null,null,{"$f":"IF('Ist-Matrix'!AC153=0,\"nicht relevant\",IF('Ist-Matrix'!AC153>=50%,\"Priorität A\",IF('Ist-Matrix'!AC153>=30%,\"Priorität B\",\"Priorität C\")))","v":"nicht relevant"},null,null,null,null,null,null,null,null,null,null,null,null,null,null,null,null,null,null,null,null,null,null,null,null,null,null,null,null,null,{"$f":"IF('Ist-Matrix'!AD153=0,\"nicht relevant\",IF('Ist-Matrix'!AD153>=50%,\"Priorität A\",IF('Ist-Matrix'!AD153>=30%,\"Priorität B\",\"Priorität C\")))","v":"nicht relevant"}]
[]
[null,null,{"$f":"IF(OR(Entscheidungsfähigkeit!G32=\"x\",S32=\"x\",AE32=\"x\",AQ32=\"x\",BC32=\"x\",),\"x\",\"\")","v":""},"Leitungskomeptenzen des Anlaufmanagements",{"$f":"IF(OR(H33=\"Priorität A\",T33=\"Priorität A\",AF33=\"Priorität A\",AR33=\"Priorität A\",BD33=\"Priorität A\"),\"Prio A\",IF(OR(H33=\"Priorität B\",T33=\"Priorität B\",AF33=\"Priorität B\",AR33=\"Priorität B\",BD33=\"Priorität B\"),\"Prio B\",IF(OR(H33=\"Priorität C\",T33=\"Priorität C\",AF33=\"Priorität C\",AR33=\"Priorität C\",BD33=\"Priorität C\"),\"Prio C\",\"nicht relevant\")))","v":"nicht relevant"},null,null,"Fremdentscheidungs-/ Weisungskompetenz",null,null,null,null,null,null,null,null,null,null,null,"Richtlinienkompetenz",null,null,null,null,null,null,null,null,null,null,null,"Kontrollkompetenz",null,null,null,null,null,null,null,null,null,null,null,"Verfahrenskontrolle",null,null,null,null,null,null,null,null,null,null,null,"Ergebniskonrolle"]
[null,null,null,null,null,null,null,{"$f":"IF('Ist-Matrix'!AE153=0,\"nicht relevant\",IF('Ist-Matrix'!AE153>=50%,\"Priorität A\",IF('Ist-Matrix'!AE153>=30%,\"Priorität B\",\"Priorität C\")))","v":"nicht relevant"},null,null,null,null,null,null,null,null,null,null,null,{"$f":"IF('Ist-Matrix'!AF153=0,\"nicht relevant\",IF('Ist-Matrix'!AF153>=50%,\"Priorität A\",IF('Ist-Matrix'!AF153>=30%,\"Priorität B\",\"Priorität C\")))","v":"nicht relevant"},null,null,null,null,null,null,null,null,null,null,null,{"$f":"IF('Ist-Matrix'!AG153=0,\"nicht relevant\",IF('Ist-Matrix'!AG153>=50%,\"Priorität A\",IF('Ist-Matrix'!AG153>=30%,\"Priorität B\",\"Priorität C\")))","v":"nicht relevant"},null,null,null,null,null,null,null,null,null,null,null,{"$f":"IF('Ist-Matrix'!AH153=0,\"nicht relevant\",IF('Ist-Matrix'!AH153>=50%,\"Priorität A\",IF('Ist-Matrix'!AH153>=30%,\"Priorität B\",\"Priorität C\")))","v":"nicht relevant"},null,null,null,null,null,null,null,null,null,null,null,{"$f":"IF('Ist-Matrix'!AI153=0,\"nicht relevant\",IF('Ist-Matrix'!AI153>=50%,\"Priorität A\",IF('Ist-Matrix'!AI153>=30%,\"Priorität B\",\"Priorität C\")))","v":"nicht relevant"}]
[]
[null,null,{"$f":"IF(OR(Entscheidungsfähigkeit!G35=\"x\",Q35=\"x\",AA35=\"x\",AK35=\"x\",AU35=\"x\",BE35=\"x\"),\"x\",\"\")","v":""},"Handlungsrahmen / Interdisziplinarität",{"$f":"IF(OR(H36=\"Priorität A\",R36=\"Priorität A\",AB36=\"Priorität A\",AL36=\"Priorität A\",AV36=\"Priorität A\",BF36=\"Priorität A\"),\"Prio A\",IF(OR(H36=\"Priorität B\",R36=\"Priorität B\",AB36=\"Priorität B\",AL36=\"Priorität B\",AV36=\"Priorität B\",BF36=\"Priorität B\"),\"Prio B\",IF(OR(H36=\"Priorität C\",R36=\"Priorität C\",AB36=\"Priorität C\",AL36=\"Priorität C\",AV36=\"Priorität C\",BF36=\"Priorität C\"),\"Prio C\",\"nicht relevant\")))","v":"nicht relevant"},null,null,"abteilungsintern",null,null,null,null,null,null,null,null,null,"abteilungs-übergreifend",null,null,null,null,null,null,null,null,null,"werksintern",null,null,null,null,null,null,null,null,null,"werksübergreifend",null,null,null,null,null,null,null,null,null,"konzernweit",null,null,null,null,null,null,null,null,null,"Lieferkette"]
[null,null,null,null,null,null,null,{"$f":"IF('Ist-Matrix'!AJ153=0,\"nicht relevant\",IF('Ist-Matrix'!AJ153>=50%,\"Priorität A\",IF('Ist-Matrix'!AJ153>=30%,\"Priorität B\",\"Priorität C\")))","v":"nicht relevant"},null,null,null,null,null,null,null,null,null,{"$f":"IF('Ist-Matrix'!AK153=0,\"nicht relevant\",IF('Ist-Matrix'!AK153>=50%,\"Priorität A\",IF('Ist-Matrix'!AK153>=30%,\"Priorität B\",\"Priorität C\")))","v":"nicht relevant"},null,null,null,null,null,null,null,null,null,{"$f":"IF('Ist-Matrix'!AL153=0,\"nicht relevant\",IF('Ist-Matrix'!AL153>=50%,\"Priorität A\",IF('Ist-Matrix'!AL153>=30%,\"Priorität B\",\"Priorität C\")))","v":"nicht relevant"},null,null,null,null,null,null,null,null,null,{"$f":"IF('Ist-Matrix'!AM153=0,\"nicht relevant\",IF('Ist-Matrix'!AM153>=50%,\"Priorität A\",IF('Ist-Matrix'!AM153>=30%,\"Priorität B\",\"Priorität C\")))","v":"nicht relevant"},null,null,null,null,null,null,null,null,null,{"$f":"IF('Ist-Matrix'!AN153=0,\"nicht relevant\",IF('Ist-Matrix'!AN153>=50%,\"Priorität A\",IF('Ist-Matrix'!AN153>=30%,\"Priorität B\",\"Priorität C\")))","v":"nicht relevant"},null,null,null,null,null,null,null,null,null,{"$f":"IF('Ist-Matrix'!AO153=0,\"nicht relevant\",IF('Ist-Matrix'!AO153>=50%,\"Priorität A\",IF('Ist-Matrix'!AO153>=30%,\"Priorität B\",\"Priorität C\")))","v":"nicht relevant"}]
[]
[null,null,{"$f":"IF(OR(Entscheidungsfähigkeit!G38=\"x\",V38=\"x\",AK38=\"x\",AK38=\"x\",AZ38=\"x\"),\"x\",\"\")","v":""},"Kontrollobjekte",{"$f":"IF(OR(H39=\"Priorität A\",W39=\"Priorität A\",AL39=\"Priorität A\",BA39=\"Priorität A\"),\"Prio A\",IF(OR(H39=\"Priorität B\",W39=\"Priorität B\",AL39=\"Priorität B\",BA39=\"Priorität B\"),\"Prio B\",IF(OR(H39=\"Priorität C\",W39=\"Priorität C\",AL39=\"Priorität C\",BA39=\"Priorität C\"),\"Prio C\",\"nicht relevant\")))","v":"nicht relevant"},null,null,"Termine",null,null,null,null,null,null,null,null,null,null,null,null,null,null,"Kosten",null,null,null,null,null,null,null,null,null,null,null,null,null,null,"Produktqualität",null,null,null,null,null,null,null,null,null,null,null,null,null,null,"Prozessqualität"]
[null,null,null,null,null,null,null,{"$f":"IF('Ist-Matrix'!AP153=0,\"nicht relevant\",IF('Ist-Matrix'!AP153>=50%,\"Priorität A\",IF('Ist-Matrix'!AP153>=30%,\"Priorität B\",\"Priorität C\")))","v":"nicht relevant"},null,null,null,null,null,null,null,null,null,null,null,null,null,null,{"$f":"IF('Ist-Matrix'!AQ153=0,\"nicht relevant\",IF('Ist-Matrix'!AQ153>=50%,\"Priorität A\",IF('Ist-Matrix'!AQ153>=30%,\"Priorität B\",\"Priorität C\")))","v":"nicht relevant"},null,null,null,null,null,null,null,null,null,null,null,null,null,null,{"$f":"IF('Ist-Matrix'!AR153=0,\"nicht relevant\",IF('Ist-Matrix'!AR153>=50%,\"Priorität A\",IF('Ist-Matrix'!AR153>=30%,\"Priorität B\",\"Priorität C\")))","v":"nicht relevant"},null,null,null,null,null,null,null,null,null,null,null,null,null,null,{"$f":"IF('Ist-Matrix'!AS153=0,\"nicht relevant\",IF('Ist-Matrix'!AS153>=50%,\"Priorität A\",IF('Ist-Matrix'!AS153>=30%,\"Priorität B\",\"Priorität C\")))","v":"nicht relevant"}]
[]
[null,null,{"$f":"IF(OR(Entscheidungsfähigkeit!G41=\"x\",Entscheidungsfähigkeit!AA41=\"x\",Entscheidungsfähigkeit!AU41=\"x\"),\"x\",\"\")","v":""},"Managementumfang",{"$f":"IF(OR(H42=\"Priorität A\",AB42=\"Priorität A\",AV42=\"Priorität A\"),\"Prio A\",IF(OR(H42=\"Priorität B\",AB42=\"Priorität B\",AV42=\"Priorität B\"),\"Prio B\",IF(OR(H42=\"Priorität C\",AB42=\"Priorität C\",AV42=\"Priorität C\"),\"Prio C\",\"nicht relevant\")))","v":"nicht relevant"},null,null,"kontinuierlich",null,null,null,null,null,null,null,null,null,null,null,null,null,null,null,null,null,null,null,"ereignisorientiert geplant",null,null,null,null,null,null,null,null,null,null,null,null,null,null,null,null,null,null,null,"ereignisorientiert ungeplant"]
[null,null,null,null,null,null,null,{"$f":"IF('Ist-Matrix'!AT153=0,\"nicht relevant\",IF('Ist-Matrix'!AT153>=50%,\"Priorität A\",IF('Ist-Matrix'!AT153>=30%,\"Priorität B\",\"Priorität C\")))","v":"nicht relevant"},null,null,null,null,null,null,null,null,null,null,null,null,null,null,null,null,null,null,null,{"$f":"IF('Ist-Matrix'!AU153=0,\"nicht relevant\",IF('Ist-Matrix'!AU153>=50%,\"Priorität A\",IF('Ist-Matrix'!AU153>=30%,\"Priorität B\",\"Priorität C\")))","v":"nicht relevant"},null,null,null,null,null,null,null,null,null,null,null,null,null,null,null,null,null,null,null,{"$f":"IF('Ist-Matrix'!AV153=0,\"nicht relevant\",IF('Ist-Matrix'!AV153>=50%,\"Priorität A\",IF('Ist-Matrix'!AV153>=30%,\"Priorität B\",\"Priorität C\")))","v":"nicht relevant"}]
[]
[null,null,{"$f":"IF(OR(Entscheidungsfähigkeit!G44=\"x\",Entscheidungsfähigkeit!V44=\"x\",Entscheidungsfähigkeit!AK44=\"x\",G47=\"x\",AA47=\"x\",AU47=\"x\",AZ44=\"x\"),\"x\",\"\")","v":""},"Qualifizierungsobjekte",{"$f":"IF(OR(H45=\"Priorität A\",W45=\"Priorität A\",AL45=\"Priorität A\",BA45=\"Priorität A\",H48=\"Priorität A\",AB48=\"Priorität A\",AV48=\"Priorität A\"),\"Prio A\",IF(OR(H45=\"Priorität B\",W45=\"Priorität B\",AL45=\"Priorität B\",BA45=\"Priorität B\",H48=\"Priorität B\",AB48=\"Priorität B\",AV48=\"Priorität B\"),\"Prio B\",IF(OR(H45=\"Priorität C\",W45=\"Priorität C\",AL45=\"Priorität C\",BA45=\"Priorität C\",H48=\"Priorität C\",AB48=\"Priorität C\",AV48=\"Priorität C\"),\"Prio C\",\"nicht relevant\")))","v":"nicht relevant"},null,null,"genaue Projektdokumentation",null,null,null,null,null,null,null,null,null,null,null,null,null,null,"Definition und Entwicklung von Best Practices",null,null,null,null,null,null,null,null,null,null,null,null,null,null,"Maßnahmen mit Produktfokussierung",null,null,null,null,null,null,null,null,null,null,null,null,null,null,"Maßnahmen mit Prozessfokussierung"]
[null,null,null,null,null,null,null,{"$f":"IF('Ist-Matrix'!AW153=0,\"nicht relevant\",IF('Ist-Matrix'!AW153>=50%,\"Priorität A\",IF('Ist-Matrix'!AW153>=30%,\"Priorität B\",\"Priorität C\")))","v":"nicht relevant"},null,null,null,null,null,null,null,null,null,null,null,null,null,null,{"$f":"IF('Ist-Matrix'!AX153=0,\"nicht relevant\",IF('Ist-Matrix'!AX153>=50%,\"Priorität A\",IF('Ist-Matrix'!AX153>=30%,\"Priorität B\",\"Priorität C\")))","v":"nicht relevant"},null,null,null,null,null,null,null,null,null,null,null,null,null,null,{"$f":"IF('Ist-Matrix'!AY153=0,\"nicht relevant\",IF('Ist-Matrix'!AY153>=50%,\"Priorität A\",IF('Ist-Matrix'!AY153>=30%,\"Priorität B\",\"Priorität C\")))","v":"nicht relevant"},null,null,null,null,null,null,null,null,null,null,null,null,null,null,{"$f":"IF('Ist-Matrix'!AZ153=0,\"nicht relevant\",IF('Ist-Matrix'!AZ153>=50%,\"Priorität A\",IF('Ist-Matrix'!AZ153>=30%,\"Priorität B\",\"Priorität C\")))","v":"nicht relevant"}]
[]
[null,null,null,null,null,null,null,"Maßnahmen mit Netzwerkfokussierung",null,null,null,null,null,null,null,null,null,null,null,null,null,null,null,null,null,null,null,"Maßnahmen mit Organisationsfokussierung",null,null,null,null,null,null,null,null,null,null,null,null,null,null,null,null,null,null,null,"Maßnahmen mit Mitarbeiterfokussierung"]
[null,null,null,null,null,null,null,{"$f":"IF('Ist-Matrix'!BA153=0,\"nicht relevant\",IF('Ist-Matrix'!BA153>=50%,\"Priorität A\",IF('Ist-Matrix'!BA153>=30%,\"Priorität B\",\"Priorität C\")))","v":"nicht relevant"},null,null,null,null,null,null,null,null,null,null,null,null,null,null,null,null,null,null,null,{"$f":"IF('Ist-Matrix'!BB153=0,\"nicht relevant\",IF('Ist-Matrix'!BB153>=50%,\"Priorität A\",IF('Ist-Matrix'!BB153>=30%,\"Priorität B\",\"Priorität C\")))","v":"nicht relevant"},null,null,null,null,null,null,null,null,null,null,null,null,null,null,null,null,null,null,null,{"$f":"IF('Ist-Matrix'!BC153=0,\"nicht relevant\",IF('Ist-Matrix'!BC153>=50%,\"Priorität A\",IF('Ist-Matrix'!BC153>=30%,\"Priorität B\",\"Priorität C\")))","v":"nicht relevant"}]
[]
[null,null,{"$f":"IF(OR(Entscheidungsfähigkeit!G50=\"x\",V50=\"x\",AK50=\"x\",AK50=\"x\",AZ50=\"x\"),\"x\",\"\")","v":""},"Anlaufstrategien zur Integration von Varianten",{"$f":"IF(OR(H51=\"Priorität A\",W51=\"Priorität A\",AL51=\"Priorität A\",BA51=\"Priorität A\"),\"Prio A\",IF(OR(H51=\"Priorität B\",W51=\"Priorität B\",AL51=\"Priorität B\",BA51=\"Priorität B\"),\"Prio B\",IF(OR(H51=\"Priorität C\",W51=\"Priorität C\",AL51=\"Priorität C\",BA51=\"Priorität C\"),\"Prio C\",\"nicht relevant\")))","v":"nicht relevant"},null,null,"Slow Motion",null,null,null,null,null,null,null,null,null,null,null,null,null,null,"First Volume",null,null,null,null,null,null,null,null,null,null,null,null,null,null,"Step by Step",null,null,null,null,null,null,null,null,null,null,null,null,null,null,"Dedication"]
[null,null,null,null,null,null,null,{"$f":"IF('Ist-Matrix'!BD153=0,\"nicht relevant\",IF('Ist-Matrix'!BD153>=50%,\"Priorität A\",IF('Ist-Matrix'!BD153>=30%,\"Priorität B\",\"Priorität C\")))","v":"nicht relevant"},null,null,null,null,null,null,null,null,null,null,null,null,null,null,{"$f":"IF('Ist-Matrix'!BE153=0,\"nicht relevant\",IF('Ist-Matrix'!BE153>=50%,\"Priorität A\",IF('Ist-Matrix'!BE153>=30%,\"Priorität B\",\"Priorität C\")))","v":"nicht relevant"},null,null,null,null,null,null,null,null,null,null,null,null,null,null,{"$f":"IF('Ist-Matrix'!BF153=0,\"nicht relevant\",IF('Ist-Matrix'!BF153>=50%,\"Priorität A\",IF('Ist-Matrix'!BF153>=30%,\"Priorität B\",\"Priorität C\")))","v":"nicht relevant"},null,null,null,null,null,null,null,null,null,null,null,null,null,null,{"$f":"IF('Ist-Matrix'!BG153=0,\"nicht relevant\",IF('Ist-Matrix'!BG153>=50%,\"Priorität A\",IF('Ist-Matrix'!BG153>=30%,\"Priorität B\",\"Priorität C\")))","v":"nicht relevant"}]

{"sheet":"Ist-Matrix","index":5,"n_rows":153,"n_cols":59,"rows_kept":153,"cut":false,"hidden":true,"merged":[[141,5,143,5],[144,1,146,1],[144,2,146,2],[144,3,146,3],[144,4,146,4],[144,5,146,5],[138,0,146,0],[138,1,140,1],[138,2,140,2],[138,3,140,3],[138,4,140,4],[138,5,140,5],[141,1,143,1],[141,2,143,2],[141,3,143,3],[141,4,143,4],[122,4,124,4],[122,5,124,5],[135,2,137,2],[135,3,137,3],[135,4,137,4],[135,5,137,5],[125,1,127,1],[125,2,127,2],[125,3,127,3],[125,4,127,4],[125,5,127,5],[128,1,130,1],[128,2,130,2],[128,3,130,3],[128,4,130,4],[128,5,130,5],[131,1,134,1],[131,2,134,2],[131,3,134,3],[131,4,134,4],[131,5,134,5],[135,1,137,1],[105,5,116,5],[117,1,119,1],[117,2,119,2],[117,3,119,3],[117,4,119,4],[117,5,119,5],[120,1,121,1],[120,2,121,2],[120,3,121,3],[120,4,121,4],[120,5,121,5],[94,5,97,5],[98,1,101,1],[98,2,101,2],[98,3,101,3],[98,4,101,4],[98,5,101,5],[102,1,104,1],[102,2,104,2],[102,3,104,3],[102,4,104,4],[102,5,104,5],[80,5,84,5],[85,1,87,1],[85,2,87,2],[85,3,87,3],[85,4,87,4],[85,5,87,5],[88,1,93,1],[88,2,93,2],[88,3,93,3],[88,4,93,4],[88,5,93,5],[73,5,75,5],[76,1,79,1],[76,2,79,2],[76,3,79,3],[76,4,79,4],[76,5,79,5],[69,1,72,1],[69,2,72,2],[69,3,72,3],[69,4,72,4],[69,5,72,5],[73,0,137,0],[73,1,75,1],[73,2,75,2],[73,3,75,3],[73,4,75,4],[66,1,68,1],[66,2,68,2],[66,3,68,3],[66,4,68,4],[80,1,84,1],[80,2,84,2],[80,3,84,3],[80,4,84,4],[94,1,97,1],[94,2,97,2],[94,3,97,3],[94,4,97,4],[105,1,116,1],[105,2,116,2],[105,3,116,3],[105,4,116,4],[122,1,124,1],[122,2,124,2],[122,3,124,3],[66,5,68,5],[58,1,61,1],[58,2,61,2],[58,3,61,3],[58,4,61,4],[58,5,61,5],[62,1,65,1],[62,2,65,2],[62,3,65,3],[62,4,65,4],[62,5,65,5],[52,1,54,1],[52,2,54,2],[52,3,54,3],[52,4,54,4],[52,5,54,5],[55,1,57,1],[55,2,57,2],[55,3,57,3],[55,4,57,4],[55,5,57,5],[41,4,43,4],[41,5,43,5],[44,1,47,1],[44,2,47,2],[44,3,47,3],[44,4,47,4],[44,5,47,5],[48,1,51,1],[48,2,51,2],[48,3,51,3],[48,4,51,4],[48,5,51,5],[2,24,2,27],[2,28,2,29],[2,30,2,34],[2,35,2,40],[2,41,2,44],[32,0,72,0],[32,1,34,1],[32,2,34,2],[32,3,34,3],[32,4,34,4],[32,5,34,5],[35,1,37,1],[35,2,37,2],[35,3,37,3],[35,4,37,4],[35,5,37,5],[38,1,40,1],[38,2,40,2],[38,3,40,3],[38,4,40,4],[38,5,40,5],[41,1,43,1],[41,2,43,2],[41,3,43,3],[3,41,3,44],[0,8,0,58],[1,8,1,10],[1,11,1,12],[1,13,1,15],[1,16,1,21],[1,22,1,23],[1,24,1,27],[1,28,1,29],[1,30,1,34],[1,35,1,40],[1,41,1,44],[1,45,1,47],[1,48,1,54],[1,55,1,58],[2,8,2,10],[2,11,2,12],[2,13,2,15],[2,16,2,21],[2,45,2,47],[2,48,2,54],[2,55,2,58],[3,22,3,23],[2,22,2,23],[3,45,3,47],[3,48,3,54],[3,55,3,58],[5,8,5,10],[5,11,5,12],[5,13,5,15],[5,16,5,21],[5,22,5,23],[5,24,5,27],[5,28,5,29],[5,30,5,34],[5,35,5,40],[5,41,5,44],[5,45,5,47],[5,48,5,54],[5,55,5,58],[3,8,3,10],[3,11,3,12],[3,13,3,15],[3,16,3,21],[3,24,3,27],[3,28,3,29],[3,30,3,34],[3,35,3,40],[7,41,7,44],[7,45,7,47],[7,48,7,54],[7,55,7,58],[8,8,8,10],[8,13,8,15],[8,16,8,21],[8,22,8,23],[8,24,8,27],[8,30,8,34],[8,35,8,40],[8,41,8,44],[8,45,8,47],[8,55,8,58],[8,28,8,29],[7,8,7,10],[7,11,7,12],[7,13,7,15],[7,16,7,21],[7,22,7,23],[7,24,7,27],[7,28,7,29],[7,30,7,34],[7,35,7,40],[9,55,9,58],[10,8,10,10],[10,13,10,15],[10,16,10,21],[10,22,10,23],[10,24,10,27],[10,30,10,34],[10,35,10,40],[10,41,10,44],[10,45,10,47],[10,55,10,58],[9,28,9,29],[10,28,10,29],[9,8,9,10],[9,13,9,15],[9,16,9,21],[9,22,9,23],[9,24,9,27],[9,30,9,34],[9,35,9,40],[9,41,9,44],[9,45,9,47],[11,55,11,58],[12,8,12,10],[12,13,12,15],[12,16,12,21],[12,22,12,23],[12,24,12,27],[12,30,12,34],[12,35,12,40],[12,41,12,44],[12,45,12,47],[12,55,12,58],[11,28,11,29],[12,28,12,29],[11,8,11,10],[11,13,11,15],[11,16,11,21],[11,22,11,23],[11,24,11,27],[11,30,11,34],[11,35,11,40],[11,41,11,44],[11,45,11,47],[13,55,13,58],[14,8,14,10],[14,13,14,15],[14,16,14,21],[14,22,14,23],[14,24,14,27],[14,30,14,34],[14,35,14,40],[14,41,14,44],[14,45,14,47],[14,55,14,58],[13,28,13,29],[14,28,14,29],[13,8,13,10],[13,13,13,15],[13,16,13,21],[13,22,13,23],[13,24,13,27],[13,30,13,34],[13,35,13,40],[13,41,13,44],[13,45,13,47],[15,55,15,58],[16,8,16,10],[16,13,16,15],[16,16,16,21],[16,22,16,23],[16,24,16,27],[16,30,16,34],[16,35,16,40],[16,41,16,44],[16,45,16,47],[16,55,16,58],[15,28,15,29],[16,28,16,29],[15,8,15,10],[15,13,15,15],[15,16,15,21],[15,22,15,23],[15,24,15,27],[15,30,15,34],[15,35,15,40],[15,41,15,44],[15,45,15,47],[17,55,17,58],[18,8,18,10],[18,13,18,15],[18,16,18,21],[18,22,18,23],[18,24,18,27],[18,30,18,34],[18,35,18,40],[18,41,18,44],[18,45,18,47],[18,55,18,58],[17,28,17,29],[18,28,18,29],[17,8,17,10],[17,13,17,15],[17,16,17,21],[17,22,17,23],[17,24,17,27],[17,30,17,34],[17,35,17,40],[17,41,17,44],[17,45,17,47],[19,55,19,58],[20,8,20,10],[20,13,20,15],[20,16,20,21],[20,22,20,23],[20,24,20,27],[20,30,20,34],[20,35,20,40],[20,41,20,44],[20,45,20,47],[20,55,20,58],[19,28,19,29],[20,28,20,29],[19,8,19,10],[19,13,19,15],[19,16,19,21],[19,22,19,23],[19,24,19,27],[19,30,19,34],[19,35,19,40],[19,41,19,44],[19,45,19,47],[21,55,21,58],[22,8,22,10],[22,13,22,15],[22,16,22,21],[22,22,22,23],[22,24,22,27],[22,30,22,34],[22,35,22,40],[22,41,22,44],[22,45,22,47],[22,55,22,58],[21,28,21,29],[22,28,22,29],[21,8,21,10],[21,13,21,15],[21,16,21,21],[21,22,21,23],[21,24,21,27],[21,30,21,34],[21,35,21,40],[21,41,21,44],[21,45,21,47],[23,55,23,58],[24,8,24,10],[24,13,24,15],[24,16,24,21],[24,22,24,23],[24,24,24,27],[24,30,24,34],[24,35,24,40],[24,41,24,44],[24,45,24,47],[24,55,24,58],[23,28,23,29],[24,28,24,29],[23,8,23,10],[23,13,23,15],[23,16,23,21],[23,22,23,23],[23,24,23,27],[23,30,23,34],[23,35,23,40],[23,41,23,44],[23,45,23,47],[25,55,25,58],[26,8,26,10],[26,13,26,15],[26,16,26,21],[26,22,26,23],[26,24,26,27],[26,30,26,34],[26,35,26,40],[26,41,26,44],[26,45,26,47],[26,55,26,58],[25,28,25,29],[26,28,26,29],[25,8,25,10],[25,13,25,15],[25,16,25,21],[25,22,25,23],[25,24,25,27],[25,30,25,34],[25,35,25,40],[25,41,25,44],[25,45,25,47],[27,55,27,58],[28,8,28,10],[28,13,28,15],[28,16,28,21],[28,22,28,23],[28,24,28,27],[28,30,28,34],[28,35,28,40],[28,41,28,44],[28,45,28,47],[28,55,28,58],[27,28,27,29],[28,28,28,29],[27,8,27,10],[27,13,27,15],[27,16,27,21],[27,22,27,23],[27,24,27,27],[27,30,27,34],[27,35,27,40],[27,41,27,44],[27,45,27,47],[29,55,29,58],[30,8,30,10],[30,13,30,15],[30,16,30,21],[30,22,30,23],[30,24,30,27],[30,30,30,34],[30,35,30,40],[30,41,30,44],[30,45,30,47],[30,55,30,58],[29,28,29,29],[30,28,30,29],[29,8,29,10],[29,13,29,15],[29,16,29,21],[29,22,29,23],[29,24,29,27],[29,30,29,34],[29,35,29,40],[29,41,29,44],[29,45,29,47]]}
[null,null,null,null,null,null,null,null,"Anlaufmanagementdimensionen"]
[null,null,null,null,null,null,null,null,"Schürmeyer",null,null,"Müller",null,"Steiner",null,null,"Stiller",null,null,null,null,null,"Nowacki",null,"Janßen",null,null,null,"Maue",null,"Kujas",null,null,null,null,"Buchholz",null,null,null,null,null,"Basse",null,null,null,"Müller",null,null,"Bußwolder",null,null,null,null,null,null,"Stiller"]
[null,null,null,null,null,null,null,null,"Tätigkeitsprofil des Managementsystems",null,null,"Modellbildung",null,"Managementebene",null,null,"Anlaufmanagement in der primären Organisationsstruktur",null,null,null,null,null,"Anlaufmanagement-Staffing",null,"Sekundärorganisation des Anlaufmanagements",null,null,null,"Auslagerung des Anlaufmanagements als Schlüsselkompetenz",null,"Leitungskomeptenzen des Anlaufmanagements",null,null,null,null,"Handlungsrahmen/ Interdisziplinarität",null,null,null,null,null,"Kontrollobjekte",null,null,null,"Managementumfang",null,null,"Qualifizierungsobjekte",null,null,null,null,null,null,"Anlaufstrategien zur Integration von Varianten"]
[null,null,null,null,null,null,null,"Kommentar/ Beschreibung","Bei der Betrachtung von Magementsystemen ist zwischen grunsätzlich unterschiedlichen Arten von Tätigkeitsprofilen zu unterscheiden. Übt das Managementsystem vornehmlich zukunftsbezogene Tätigkeiten aus, so kann von einem planenden Tätigkeitsprofil gesprochen werden. Planende Tätigkeiten im Anlaufmanagement umfassen beispielsweise das Aufstellen Personal-, Maschinen-, Bedarfs- oder Investitionsplänen. Jene Aufgaben, die sich auf den Erfüllungsgrad der Pläne oder bestimmter Zielvorgaben konzentrieren, können zu den \"Kontrollierenden Aufgaben\" zusammengefasst werden. Dabei können alle zuvor aufgestellten Pläne hinsichtlich ihrer Einhaltung, alle Ziele hinsichtlich ihrer Erfüllung und alle Parameter hinsichtlich ihrer Akzeptabilität kontrolliert werden. Jene Handlungen, die durch das Auftreten eines unvorhergesehenen Ereignisses (\"Störung\") hervorgerufen werden und auf die Reduzierung von negativen Auswirkungen abzielen, werden zu den \"Reaktiven Maßnahmen\" zusammengefasst.",null,null,"Modelle lassen sich als Abbildung oder Repräsentation eines bestimmten Originals verstehen. Geht man davon aus, dass ein Original ein Objekt der Realität ist, stellt ein Modell folglich die Abbildung eines Realitätsausschnitts dar. Weil im Sinne einer systemtheoretischen Anwendung der Modellierung grundsätzlich von einem komplexen System auszugehen ist, lassen sich die Elemente und Relationen des Systems, sowie unterschiedliche, im Zeitablauf dynamische Zustände kaum beschreiben und analysieren. Um jedoch Schlussfolgerungen über das Systemverhalten des realen Objektes zu ermöglichen oder kontrollierend und bei Bedarf korrigierend einwirken zu können, ist ein vereinfachendes Modell notwendig. In der Realität finden Modelle auch zunehmend in simulativen Bereichen, bespw. als Prognosemodelle.  Die zugrundeliegeden Modelle müssen hierzu \"ausführbar\" sein, d.h. sie müssen Daten verarbeiten können.",null,"Nach dem Drei-Ebenen-Modell sollte das Anlaufmanagement Erfolgskriterien auf drei logischen Ebenen erfüllen: operatives Management (\"Effizienz\"), strategisches Management (\"Effektivität\") und normatives Management (\"Nachhaltigkeit\"). Unabhängig von der Entscheidung der organisationalen Ausgestaltung des Anlaufmanagements, finden einzelne Entscheidungen im Rahmen des Anlaufmanagements auf verschiedenen Managementebenen statt und addressieren folgerichtig auch unterschiedliche Akteure im Unternehmen. Die Anlaufplanung und -strategie sowie das Projektmanagement, die Projektkultur und -organisation bilden dabei den Rahmen für die einzelnen Bausteine des Anlaufmanagement. Das Prinzip der Rekursion innerhalb des Drei-Ebenen-Modells verdeutlicht, dass alle drei logischen Managementebenen (operative, strategische und normative) jeweils auf jeder der organisatorischen Rekursionsebenen (übergeordnete Ebene, Projekt, Teilprojekte) ausgeprägt sein sollten. Dies führt dazu, dass beispielsweise auch für die Unterprojekte, Ziele des strategischen und Prinzipien des normativen Managements gelten.\nDas Drei-Ebenen-Modell besitzt für die Projektmanager einen doppelten Nutzen. Erstens hilft es, komplexe Managementprobleme durch deren Strukturierung und durch die Konzentration auf die dargelegten Maßstäbe zu bewältigen. Zweitens liefert es ein Analyseschema für mögliche Konflikte, die aus dem Widerspruch oder Wettbewerb zwischen den verschiedenen logischen Ebenen entstehen.\n ",null,null,"Es gibt grundsätzlich verschiedene Möglichkeiten das Anlaufmanagement in der Organisation des Unternehmens zu verankern. Das Anlaufmanagement kann als eigene Funktion als \"Organisationseinheit des Konzerns\" arbeiten. Das Anlaufmanagement als Organisationseinheit des Werks führt die Anläufe in einem Werk. Wird das Anlaufmanagement nicht in der Primärorganisation eines Unternehmens verankert ist es denkbar, kann der Anlaufmanager als eigene Rolle im Entwicklungsprojekt vorgesehen werden oder die Aufgaben in die Verantwortung des Projektleiters als Teile der Projektorganisation fallen. Dabei ist zu unterscheiden, ob die Rolle/ die Aufgaben des Anlaufmanagements durch Mitarbeiter der Entwicklungs oder die Serienorganisation übernommen werden. ",null,null,null,null,null,"In den entstehenden Problemsituationen während des Produktionsanlaufes kann üblicherweise nur auf eine dünne Personaldecke zurückgegriffen werden, die die Bildung von Task Forces nicht zulässt. Oftmals ist die Organisation funktional strukturiert, wodurch die Nachteile der Bereichsegoismen durch die sequenzielle Logik der einzelnen Bearbeiter sich negativ auswirken. Die Personalselektion und -qualifizierung bei der Auswahl der Teammitglieder soll zum einen aufgrund der fachlichen Anforderungen geschehen und zum anderen die Fähigkeit der Personen in einem Team zu arbeiten einbeziehen. Im Rahmen der Zielsetzung müssen zum einen Gruppenziele gesetzt werden, zum anderen muss sichergestellt werden, dass die Gruppenziele nicht mit den individuellen Zielen der Teammitglieder in Widerspruch stehen. \nAufgabe der Planung des Personaleinsatzes im Produktionsanlaufs ist die Verteilung der gegenwärtigen Mitarbeiter auf die verschiedenen Arbeitsplätze unter Berücksichtigung der quantitativen, zeitlichen und örtlichen Erfordernisse des Anlaufs.",null,"\"Sekundärorganisationen sind hierarchieübergreifende/-ergänzende, zeitlich\nmeist befristete Organisationseinheiten zur Durchführung neuartiger oder einmaliger\nAktivitäten sowie zur Verbesserung bei dauerhaften Aufgaben. In der Praxis\nhäufig vorkommende Formen von Sekundärorganisationen sind das Stabsprinzip,\ndas Matrixprinzip, das Ausgliederungsprinzip und das Arbeitsgruppenprinzip.\" Schuh 2008 S. 56",null,null,null,"Für eine mögliche Auslagerung des Anlaufmanagements gibt es im wesentlichen zwei Gründe. Zum einen erfordern insbesondere komplexe Produktionsanläufe einen hohen Personaleinsatz. Die personellen Ressourcen sind vielen Fällen nicht vorhanden. Gerade wenn eine Organisation mehrere Produktionsanläufe parallel durchführt, reicht das vorhandene Personal zur Abdeckung der notwendigen Managementaufgaben vielfach nicht aus. Ein weiterer Grund für eine Auslagerungsentscheidung ist, dass die für den Anlauf notwendige Expertise in der Organisation nicht vorhanden ist. Es gibt bereits einige Unternehmen, die sich auf die Unterstützung und Beratung bei Produktionsanläufen spezialisiert hat.",null,"Ein Controlling als Teil des Anlaufmanagements basiert im Wesentlichen auf den Rollenkonzepten und Kompetenzzuordnungen wie sie in den angrenzenden Phasen (F&E, Serienproduktion) zu finden sind. Der jeweilige Gegenstand, auf den sich das Controlling bezieht, dient hier als Unterscheidungskriterium. Neben der reinen Ergebniskontrolle kann das Verfahren, etwa der Produktionsprozess, als Gegenstand dienen. Weitere Arten der Kompetenz bietet eine Unterscheidung zwischen der Kontrolle und Richtlinien. Die Anlauforganisation kann für involvierte Unternehmensbereiche Richtlinien festlegen oder deren Ausführungen kontrollieren. Darüber hinausgehend kann eine Fremdentscheidungs-/ oder Weisungkompetenz vorliegen. Die Anlauforganisation hat dabei das Recht für andere, in den Anlauf involvierte Unternehmensbereiche, anlaufrelevante Entscheidungen zu treffen.",null,null,null,null,"Das Anlaufmanagment geht mit einem hohen Maß an Komplexität einher, die aus der zunehmenden Dynamik, der Vielzahl von Interdependenzen und der Interdisziplinarität der beteiligten Funktionalbereiche ergibt. Die Komplexität als Folge der Interdisziplinarität resultiert aus den originär getrennten Funktionalbereichen, die gleichzeitig in das Anlaufmanagement involviert sind z.B. Produktion, Produktentwicklung, Logistik, Einkauf und Qualitätsmanagement. Darüber hinaus müssen sowohl unternehmensinterne als auch unternehmensübergreifende  Bereiche interdisziplinär und vernetzt zusammen arbeiten. ",null,null,null,null,null,"Im Anlauf können gemäß des Zieldreiecks aus Zeit, Kosten und Qualität unterschiedliche Kontrollobjekte hinsichtlich der jeweiligen Priorisierung eines dieser Ziele herangezogen werden.\nDie Kontrolle der Termine betrifft vor allem die Einhaltung von Meilensteinen und das Erreichen der Kammlinie zum definierten Zeitpunkt. \nDas Kontrollobjekt Kosten gliedert sich in die direkten und indirekten Anlaufkosten.\nNeben der direkten Prüfung der Produktqualität kann auf diese auch durch Kontrolle der Fertigungsprozesse zurückgeschlossen werden. Zudem betrifft die Prozessqualität auch organisatorische und nicht wertschöpfende Prozesse\n",null,null,null,"Es gibt verschiedene Möglichkeiten den Managementumfang des Anlaufs zu gestalten. Grundsätzlich lassen sich die Arten des Eingriffs in regelmäßige und ereignisbasierte Arten unterscheiden. Bei den regelmäßigen Eingriffen werden beispielsweise tägliche oder wöchentliche Statusberichte zum aktuellen Geschehen präsentiert. Für das ereignisbasierte Management lässt sich zwischen erwarteten und unerwarteten Ereignissen unterscheiden. Zu den erwarteten Ereignissen zählt beispielsweise das Erreichen von vorher definierten Meilensteinen. Zum Managementumfang bei unerwarteten Ereignissen zählt die Reaktion auf ungeplante Änderungen – wie beispielsweise Prozessinstabilitäten.",null,null,"Um das Erreichen eines stabilen Anlaufs zu gewährleisten, ist die Qualifizierung der einzelnen Elemente eines Anlaufprojektes notwendig. Dies umfasst insbesondere Produkte, Prozesse, Lieferanten und Mitarbeiter. Ermöglicht wird dies zum Teil über die Dokumentation vergangener Anläufe. Neben der Anlaufplanung ist das Reifegradcontrolling ein Mittel zur Validierung. In frühen Phasen des Anlaufs steht das Produkt im Mittelpunkt (z.B. durch Prototypen), während in späteren Phasen der Produktionsprozess relevanter wird. Hier können Leistungstest unter Serienbedingungen Aussagen über die Leistungsfähigkeit generieren. Da Zulieferer ebenfalls auf den Anlauf einwirken, sind sie frühzeitig zu selektieren. Aus der Kombination der Eigenschaften des Anlaufobjektes und denen des Zulieferers ist die Anlaufkritizität zu bestimmen. Risikoanalysen und Prozessaudits unterstützen das Vorgehen. Mitarbeiter haben zu jedem Zeitpunkt entscheidenden Einfluss auf den Erfolg des Projekts. Gerade die frühzeitige Mitarbeiterqualifikation kann hier, verbunden mit Personalkontinuität, unterstützend wirken. Dieser Aspekt hat große Schnittmengen mit einer adäquaten Dokumentation. Durch systematische Erfassung und Aufbereitung der gesammelten Erfahrungen, können die Informationsverfügbarkeit verbessert und mögliche Handlungsalternativen aufgezeigt werden.",null,null,null,null,null,null,"Mit den Anlaufstrategien werden situationsabhängige Strategien zur Bildung von Reihenfolgen in Produktanläufen mehrere Varianten beschrieben. Slow-Motion: Der komplette Produktmix wird langsam parallel hochgefahren, um den Lernfortschritt\nzu unterstützen. Erst zum Ende wird die Ausbringung deutlich erhöht.\nVolume First: Eine Produktvariante wird schnell hochgefahren, um unmittelbar nach Anlaufbeginn\ndie geplante Produktionsrate zu erreichen.\nDedication: Der komplette Produktmix wird parallel hochgefahren. Nach Deckung des anfänglich\nerhöhten Lernbedarfs der Mitarbeiter findet ein schneller Hochlauf statt.\nStep-by-step: Der Produktmix wird sequenziell hochgefahren, um produktspezifische Anlagenstörungen\nvoneinander zu entkoppeln und Fehlerursachen gezielt zu beheben."]
[]
[null,null,null,null,null,null,null,"Methoden und Quellen für die weitere Bearbeitung","Scholz-Reiter, Bernd; Krohne, Farian; Ebert, Konrad; Halmich, Julian (2010) Reaktionsstrategiemodell für ein effizientes Anlaufmanagement\n\nPfohl, Hans-Christian; Stölzle, Wolfgang (1997) Planung und Kontrolle - Konzeption, Gestaltung, Implementierung",null,null,"Stachowiak 1973, S. 129; Heinen 1985, S. 19; Adam 1996, S. 60f.; Bossel 1994, S. 27; Dörner 1984, S. 337; Strina n.v., S. 34",null,"\nBleicher, K. (2001): Das Konzept integriertes Management. 6. Auflage. Frankfurt, New York: Campus Verlag.\nSchwaninger, M. (1994): Managementsysteme. St. Galler Management-Konzept, Band 4. Frankfurt/New York: Campus.\nSchwaninger, M., Körner, M. (2001): Systemisches Projektmanagement: Ein Instrumentarium\nfür komplexe Veränderungs- und Entwicklungsprojekte. Diskussionspapier. No. 43. September. St. Gallen.\n",null,null,"Arbeits- und Aufgabenanalyse und -Synthese zur Organisationsgestaltung (Vahs S. 51ff; Steinmann/ Schreyögg 2005, S. 443; Kosiol 1976, S. 49ff, Bleicher 1991, S. 49)",null,null,null,null,null,"ENDER, T. (2009). Prognose von Personalbedarfen im Produktionsanlauf: unter Berücksichtigung dynamischer Planungsgrössen. Aachen, Shaker. \nRottinger, S. (2005). Mehrphasige Personalentwicklungsplanung für Fertigungssysteme auf Basis des Technologiekalender-Konzeptes. Karlsruhe: Univ.-Verl. \nSchmelzer, Hermann J. 1992. Organisation und Controlling von Produktentwicklungen: Praxis des wettbewerbsorientierten Entwicklungsmanagements. Stuttgart: Schäffer-Poeschel. ",null," Schuh 2008; Schmidt, G. (Organisation), 2002, S. 7 1.",null,null,null,null,null,"Definition von Rollen und Kompetenzarten (Vahs 2007, S. 65ff)\nInformationsmanagement (Lutz/Lehner, 2008, S. 174ff.)",null,null,null,null,"Schmitt 2010 Das Aachner Modell zum interdisziplinären Anlaufmanagment, wt Werktstattstechnik online, S.317-322;                      Schuh 2008 Anlaufmanagement in der Automobilindustrie erfolgreich umsetzen,  Springer, S.55 ff.                                                                                                      Schuh 2005 Anlaufmanagement: Kosten senken - Anlaufzeit verkürzen - Qualität sichern. wt Werkstattstechnik online, S.405-409",null,null,null,null,null,null,null,null,null,"Moderation des Anlaufmanagements (Pufall/Frasso/de Kok, 2007, S.21ff.; Ender, 2009, S.36)",null,null,"Schuh, Kampker, Franzkoch (2005), S. 405-409; Wiendahl et al. (2002), S. 26-32; Schulte: Logistik (2013), S. 287-292; In: Schuh (Hrsg.): Anlaufmanagement in der Automobilindustrie erfolgreich umsetzen (2008): Franzkoch, Gottschalk, S. 55-64; Druml, Blechinger, S. 121-129; Kirst, S. 93-105.",null,null,null,null,null,null,"Schuh, G. et al. (Optimised production ramp-up), 2004, S. 8"]
[]
[null,null,null,null,null,null,null,"Dissertationen des GRK","Disseration Sebastian Schmitt:\nAufgabenmodell zur qualitätsorientierten Planung, Evaluierung und Regelung des Anlaufmanagements\n\nDissertation Patrick Beaujean: aufbauorganisatorisches Gestaltungsmodell für das reaktive Qualitätsmanagement\n\nDissertation Maik Schürmeyer (nicht veröffentlicht):\nKybernetische Produktionsprogrammplanung bei anlaufintensiver Programmfertigung",null,null,"Dissertation Bastian Nau: Anlauforietierte Technologieplanung zur Auswahl von Fertigungstechnologien\nDisseration Steffen Buchholz (nicht veröffentlicht): Substitutionsrisiko von Fertigungssystemen\nDisseration Tim Renner: Theoretischer Ansatz zur quantitativen Simulation des Produktionsanlaufs\nDissertation Sebastian Stiller (nicht veröffentlicht): Systemtheoretische Modellierung von Realisierungssystemen zur Simulation des Systemverhaltens - Modellierung des Fallbeispiels Produktionsanlauf mit Simulation einer Anlaufkurve\nDissertation Isabel Basse (nicht veröffentlicht): Systemtheoretische Modellierung von Qualitätsprüfungen im Anlauf\nDissertation Martin Göbel: Inbetriebnahme von Industrierobotern durch inituitive, herstellerunabhängige Spezifikation von Roboterprogrammen\nDissertation Simon Müller (nicht veröffentlicht): Verbesserte Planung und Inbetriebnahme von automatisierten Produktionsprozessen durch Viable-MES-Modelle\nDissertation Christoph Nowacki (nicht veröffentlicht): Identifikation des optimalen Grades aus Standardisierung und Flexibilität in Technologieketten\nDissertation Thomas Gartzen, S. 107f: Wirkmodell der komplexitätsspezifischen Instabilität im Anlauf\nDissertation Andreas Maue (nicht veröffentlicht): Integration des Anlaufs in die Serienplanung bei Kleinserien\nDissertation Christian Janßen (nicht veröffentlicht): Modellierung der Inbetriebnahme des Automobils ",null,"Dissertation Esther Borowski: \nEbenen des Agilen Anlaufmanagementsystems\nDissertation Frank Steiner (nicht veröffentlicht): strategische Aspekte des Anlaufmanagments in heterogenen / unsicheren Märkten n Dissertation\nUwe Gross (S.96ff.): Die strategische Rolle des Anlaufmanagments für den Neuprodukterfolg\nDissertation Maik Schürmeyer:\nKybernetische Produktionsprogrammplanung bei anlaufintensiver Programmfertigung",null,null,"Dissertation Uwe Gross: Organisationstheortetische Aspekte zur effektiven und effizienten Reaktion auf Probleme im Produktionsanlauf\nDisseration Sebastian Schmitt:\nAufgabenmodell zur qualitätsorientierten Planung, Evaluierung und Regelung des Anlaufmanagements\nn Dissertation Andreas Maue (nicht veröffentlicht): \nIntegration des Anlaufs in die Serienplanung bei Kleinserien",null,null,null,null,null,"Dissertation Tim Renner\nDissertation Wesch: Synchronisationsmechanismen zwischen Mitarbeitern und Kommunikation in Teams",null,"Disseration Patrick Beaujean:\nn Gründe für die Schaffung von Sekundärorganisationen (S. 32 ff)\nDisseration Sebastian Schmitt:\nMöglichkeit zur Gestaltung der Sekundärorganisation",null,null,null,"keine Dissertation",null,"\nDissertation Sebastian Stiller (nicht veröffentlicht): Leitungskompetenzen als Differenzierungsmerkmale des Realisierungsmanagements\nEsther Borowski: Eingriffe des Anlaufmanagements in den Anlauf",null,null,null,null,"Dissertation Isabel Basse (nicht veröffentlicht): innerbetriebliches, anlaufendes Montagesystem\nDissertation Thomas Gartzen: S. 35f: Vorstellung der Anlaufstrategien und Diskussion von Anlaufkurventypologien n Dissertation Uwe Gross: (S.15) Schnittstellen im Neuproduktentwicklungsprozess n Dissertation Uwe Gross: (S.125ff.) Mitigating Effects of Supply Chain Integration\nJerome Quick (nicht veröffentlicht): Anlaufmanagement in Supply Chains",null,null,null,null,null,"Dissertation Bastian Nau: Anlauforietierte Technologieplanung zur Auswahl von Fertigungstechnologien\nDissertation Sebastian Stiller (nicht veröffentlicht): Zielsystem zur Erfolgsmessung in der Produktrealisierung (auf Anlauf anwendbar)\nDissertation Isabel Basse (nicht veröffentlicht): Kontrolle der Produkt- und Prozessqualität\nDissertation Marc Kujas (nicht veröffentlicht): Lebenszyklusorientierte Kosten-/Nutzenanalyse von Modellwechseln langlebiger Gebrauchsgüter\nDissertation Thomas Gartzen, S. 204ff: Steuerung und Regelung der diskreten Migration n Dissertation Uwe Gross: (S.19) Ziele im Produktionsanlauf",null,null,null,"n Dissertation Uwe Gross: Organisationstheoretische Aspekte zur effektiven und effizienten Reaktion auf Probleme im Produktionsanlauf\nn Dissertation Tim Renner: Beeinflussung in den Tätigkeiten des Anlaufmanagements\n",null,null,"Dissertation Uwe Gross: \nProduct Innovation and the Factory (Bezug zur Produktqualifizierung)\nDissertation Tim Renner: \nSerienreifegrad nach Wangenheim (1998); Zielkatalog des Produktionsanlaufs (Mitarbeiter und Prozessstabilität)\nThomas Gartzen:\nMaßnahmen zur... Mitarbeiterfokussierung / Organisationsfokussierung / Netzwerkfokussierung / Prozessfokussierung / Produktfokussierung\nPeter Bußwolder (nicht veröffentlicht):\nStärkung der Entscheidungsfähigkeit von Mitarbeitern in komplexen Systemen\nJerome Quick (nicht veröffentlicht): Anlaufmanagement in Supply Chains\nCathrin Wesch-Potente (nicht veröffentlicht): Koordination von Teams im Anlauf\nDissertation Christian Janßen (nicht veröffentlicht):\nModellierung der Inbetriebnahme des Automobils \nDissertation Martin Göbel: \nInbetriebnahme von Industrierobotern durch inituitive, herstellerunabhängige Spezifikation von Roboterprogrammen\nDissertation Simon Müller (nicht veröffentlicht):\nVerbesserte Planung und Inbetriebnahme von automatisierten Produktionsprozessen durch Viable-MES-Modelle",null,null,null,null,null,null,"n Dissertation Thomas Gartzen, S. 35f: Vorstellung der Anlaufstrategien und Diskussion von Anlaufkurventypologien \nn Dissertation Christoph Nowacki (nicht veröffentlicht):\nReduktion der varianteninduziierten Komplexität in einer integrierten Produkt- und Prozessentwicklung n Dissertation Frank Steiner (nicht veröffentlicht): Planung und Umsetzung eines variantenreichen Produktlösungsraumes für heterogene Märkte\n"]
[null,null,null,null,null,null,{"$f":"SUM(I9:BG9)","v":0},"Patrick Beaujean",{"$f":"IF(Entscheidungsfähigkeit!$C$11=\"x\",Urmatrix!I10,0)","v":0},null,null,{"$f":"IF(Entscheidungsfähigkeit!$C$14=\"x\",Urmatrix!L10,0)","v":0},{"$f":"IF(Entscheidungsfähigkeit!$C$14=\"x\",Urmatrix!M10,0)","v":0},{"$f":"IF(Entscheidungsfähigkeit!$C$17=\"x\",Urmatrix!N10,0)","v":0},null,null,{"$f":"IF(Entscheidungsfähigkeit!$C$20=\"x\",Urmatrix!Q10,0)","v":0},null,null,null,null,null,{"$f":"IF(Entscheidungsfähigkeit!$C$23=\"x\",Urmatrix!W10,0)","v":0},null,{"$f":"IF(Entscheidungsfähigkeit!$C$26=\"x\",Urmatrix!Y10,0)","v":0},null,null,null,{"$f":"IF(Entscheidungsfähigkeit!$C$29=\"x\",Urmatrix!AC10,0)","v":0},null,{"$f":"IF(Entscheidungsfähigkeit!$C$32=\"x\",Urmatrix!AE10,0)","v":0},null,null,null,null,{"$f":"IF(Entscheidungsfähigkeit!$C$35=\"x\",Urmatrix!AJ10,0)","v":0},null,null,null,null,null,{"$f":"IF(Entscheidungsfähigkeit!$C$38=\"x\",Urmatrix!AP10,0)","v":0},null,null,null,{"$f":"IF(Entscheidungsfähigkeit!$C$41=\"x\",Urmatrix!AT10,0)","v":0},null,null,{"$f":"IF(Entscheidungsfähigkeit!$C$44=\"x\",Urmatrix!AW10,AT90)","v":0},{"$f":"IF(Entscheidungsfähigkeit!$C$44=\"x\",Urmatrix!AX10,0)","v":0},{"$f":"IF(Entscheidungsfähigkeit!$C$44=\"x\",Urmatrix!AY10,0)","v":0},{"$f":"IF(Entscheidungsfähigkeit!$C$44=\"x\",Urmatrix!AZ10,0)","v":0},{"$f":"IF(Entscheidungsfähigkeit!$C$44=\"x\",Urmatrix!BA10,0)","v":0},{"$f":"IF(Entscheidungsfähigkeit!$C$44=\"x\",Urmatrix!BB10,0)","v":0},{"$f":"IF(Entscheidungsfähigkeit!$C$44=\"x\",Urmatrix!BC10,0)","v":0},{"$f":"IF(Entscheidungsfähigkeit!$C$50=\"x\",Urmatrix!BD10,0)","v":0}]
[null,null,null,null,null,null,{"$f":"SUM(I10:BG10)","v":0},"Peter Burggräf",{"$f":"IF(Entscheidungsfähigkeit!$C$11=\"x\",Urmatrix!I11,0)","v":0},null,null,{"$f":"IF(Entscheidungsfähigkeit!$C$14=\"x\",Urmatrix!L11,0)","v":0},{"$f":"IF(Entscheidungsfähigkeit!$C$14=\"x\",Urmatrix!M11,0)","v":0},{"$f":"IF(Entscheidungsfähigkeit!$C$17=\"x\",Urmatrix!N11,0)","v":0},null,null,{"$f":"IF(Entscheidungsfähigkeit!$C$20=\"x\",Urmatrix!Q11,0)","v":0},null,null,null,null,null,{"$f":"IF(Entscheidungsfähigkeit!$C$23=\"x\",Urmatrix!W11,0)","v":0},null,{"$f":"IF(Entscheidungsfähigkeit!$C$26=\"x\",Urmatrix!Y11,0)","v":0},null,null,null,{"$f":"IF(Entscheidungsfähigkeit!$C$29=\"x\",Urmatrix!AC11,0)","v":0},null,{"$f":"IF(Entscheidungsfähigkeit!$C$32=\"x\",Urmatrix!AE11,0)","v":0},null,null,null,null,{"$f":"IF(Entscheidungsfähigkeit!$C$35=\"x\",Urmatrix!AJ11,0)","v":0},null,null,null,null,null,{"$f":"IF(Entscheidungsfähigkeit!$C$38=\"x\",Urmatrix!AP11,0)","v":0},null,null,null,{"$f":"IF(Entscheidungsfähigkeit!$C$41=\"x\",Urmatrix!AT11,0)","v":0},null,null,{"$f":"IF(Entscheidungsfähigkeit!$C$44=\"x\",Urmatrix!AW11,0)","v":0},{"$f":"IF(Entscheidungsfähigkeit!$C$44=\"x\",Urmatrix!AX11,0)","v":0},{"$f":"IF(Entscheidungsfähigkeit!$C$44=\"x\",Urmatrix!AY11,0)","v":0},{"$f":"IF(Entscheidungsfähigkeit!$C$44=\"x\",Urmatrix!AZ11,0)","v":0},{"$f":"IF(Entscheidungsfähigkeit!$C$44=\"x\",Urmatrix!BA11,0)","v":0},{"$f":"IF(Entscheidungsfähigkeit!$C$44=\"x\",Urmatrix!BB11,0)","v":0},{"$f":"IF(Entscheidungsfähigkeit!$C$44=\"x\",Urmatrix!BC11,0)","v":0},{"$f":"IF(Entscheidungsfähigkeit!$C$50=\"x\",Urmatrix!BD11,0)","v":0}]
[null,null,null,null,null,null,0,"Chatrin Wesch-Potente",{"$f":"IF(Entscheidungsfähigkeit!$C$11=\"x\",Urmatrix!I12,0)","v":0},null,null,{"$f":"IF(Entscheidungsfähigkeit!$C$14=\"x\",Urmatrix!L12,0)","v":0},{"$f":"IF(Entscheidungsfähigkeit!$C$14=\"x\",Urmatrix!M12,0)","v":0},{"$f":"IF(Entscheidungsfähigkeit!$C$17=\"x\",Urmatrix!N12,0)","v":0},null,null,{"$f":"IF(Entscheidungsfähigkeit!$C$20=\"x\",Urmatrix!Q12,0)","v":0},null,null,null,null,null,{"$f":"IF(Entscheidungsfähigkeit!$C$23=\"x\",Urmatrix!W12,0)","v":0},null,{"$f":"IF(Entscheidungsfähigkeit!$C$26=\"x\",Urmatrix!Y12,0)","v":0},null,null,null,{"$f":"IF(Entscheidungsfähigkeit!$C$29=\"x\",Urmatrix!AC12,0)","v":0},null,{"$f":"IF(Entscheidungsfähigkeit!$C$32=\"x\",Urmatrix!AE12,0)","v":0},null,null,null,null,{"$f":"IF(Entscheidungsfähigkeit!$C$35=\"x\",Urmatrix!AJ12,0)","v":0},null,null,null,null,null,{"$f":"IF(Entscheidungsfähigkeit!$C$38=\"x\",Urmatrix!AP12,0)","v":0},null,null,null,{"$f":"IF(Entscheidungsfähigkeit!$C$41=\"x\",Urmatrix!AT12,0)","v":0},null,null,{"$f":"IF(Entscheidungsfähigkeit!$C$44=\"x\",Urmatrix!AW12,0)","v":0},{"$f":"IF(Entscheidungsfähigkeit!$C$44=\"x\",Urmatrix!AX12,0)","v":0},{"$f":"IF(Entscheidungsfähigkeit!$C$44=\"x\",Urmatrix!AY12,0)","v":0},{"$f":"IF(Entscheidungsfähigkeit!$C$44=\"x\",Urmatrix!AZ12,0)","v":0},{"$f":"IF(Entscheidungsfähigkeit!$C$44=\"x\",Urmatrix!BA12,0)","v":0},{"$f":"IF(Entscheidungsfähigkeit!$C$44=\"x\",Urmatrix!BB12,0)","v":0},{"$f":"IF(Entscheidungsfähigkeit!$C$44=\"x\",Urmatrix!BC12,0)","v":0},{"$f":"IF(Entscheidungsfähigkeit!$C$50=\"x\",Urmatrix!BD12,0)","v":0}]
[null,null,null,null,null,null,0,"Bastian Nau",{"$f":"IF(Entscheidungsfähigkeit!$C$11=\"x\",Urmatrix!I13,0)","v":0},null,null,{"$f":"IF(Entscheidungsfähigkeit!$C$14=\"x\",Urmatrix!L13,0)","v":0},{"$f":"IF(Entscheidungsfähigkeit!$C$14=\"x\",Urmatrix!M13,0)","v":0},{"$f":"IF(Entscheidungsfähigkeit!$C$17=\"x\",Urmatrix!N13,0)","v":0},null,null,{"$f":"IF(Entscheidungsfähigkeit!$C$20=\"x\",Urmatrix!Q13,0)","v":0},null,null,null,null,null,{"$f":"IF(Entscheidungsfähigkeit!$C$23=\"x\",Urmatrix!W13,0)","v":0},null,{"$f":"IF(Entscheidungsfähigkeit!$C$26=\"x\",Urmatrix!Y13,0)","v":0},null,null,null,{"$f":"IF(Entscheidungsfähigkeit!$C$29=\"x\",Urmatrix!AC13,0)","v":0},null,{"$f":"IF(Entscheidungsfähigkeit!$C$32=\"x\",Urmatrix!AE13,0)","v":0},null,null,null,null,{"$f":"IF(Entscheidungsfähigkeit!$C$35=\"x\",Urmatrix!AJ13,0)","v":0},null,null,null,null,null,{"$f":"IF(Entscheidungsfähigkeit!$C$38=\"x\",Urmatrix!AP13,0)","v":0},null,null,null,{"$f":"IF(Entscheidungsfähigkeit!$C$41=\"x\",Urmatrix!AT13,0)","v":0},null,null,{"$f":"IF(Entscheidungsfähigkeit!$C$44=\"x\",Urmatrix!AW13,0)","v":0},{"$f":"IF(Entscheidungsfähigkeit!$C$44=\"x\",Urmatrix!AX13,0)","v":0},{"$f":"IF(Entscheidungsfähigkeit!$C$44=\"x\",Urmatrix!AY13,0)","v":0},{"$f":"IF(Entscheidungsfähigkeit!$C$44=\"x\",Urmatrix!AZ13,0)","v":0},{"$f":"IF(Entscheidungsfähigkeit!$C$44=\"x\",Urmatrix!BA13,0)","v":0},{"$f":"IF(Entscheidungsfähigkeit!$C$44=\"x\",Urmatrix!BB13,0)","v":0},{"$f":"IF(Entscheidungsfähigkeit!$C$44=\"x\",Urmatrix!BC13,0)","v":0},{"$f":"IF(Entscheidungsfähigkeit!$C$50=\"x\",Urmatrix!BD13,0)","v":0}]
[null,null,null,null,null,null,0,"Martin Göbel",{"$f":"IF(Entscheidungsfähigkeit!$C$11=\"x\",Urmatrix!I14,0)","v":0},null,null,{"$f":"IF(Entscheidungsfähigkeit!$C$14=\"x\",Urmatrix!L14,0)","v":0},{"$f":"IF(Entscheidungsfähigkeit!$C$14=\"x\",Urmatrix!M14,0)","v":0},{"$f":"IF(Entscheidungsfähigkeit!$C$17=\"x\",Urmatrix!N14,0)","v":0},null,null,{"$f":"IF(Entscheidungsfähigkeit!$C$20=\"x\",Urmatrix!Q14,0)","v":0},null,null,null,null,null,{"$f":"IF(Entscheidungsfähigkeit!$C$23=\"x\",Urmatrix!W14,0)","v":0},null,{"$f":"IF(Entscheidungsfähigkeit!$C$26=\"x\",Urmatrix!Y14,0)","v":0},null,null,null,{"$f":"IF(Entscheidungsfähigkeit!$C$29=\"x\",Urmatrix!AC14,0)","v":0},null,{"$f":"IF(Entscheidungsfähigkeit!$C$32=\"x\",Urmatrix!AE14,0)","v":0},null,null,null,null,{"$f":"IF(Entscheidungsfähigkeit!$C$35=\"x\",Urmatrix!AJ14,0)","v":0},null,null,null,null,null,{"$f":"IF(Entscheidungsfähigkeit!$C$38=\"x\",Urmatrix!AP14,0)","v":0},null,null,null,{"$f":"IF(Entscheidungsfähigkeit!$C$41=\"x\",Urmatrix!AT14,0)","v":0},null,null,{"$f":"IF(Entscheidungsfähigkeit!$C$44=\"x\",Urmatrix!AW14,0)","v":0},{"$f":"IF(Entscheidungsfähigkeit!$C$44=\"x\",Urmatrix!AX14,0)","v":0},{"$f":"IF(Entscheidungsfähigkeit!$C$44=\"x\",Urmatrix!AY14,0)","v":0},{"$f":"IF(Entscheidungsfähigkeit!$C$44=\"x\",Urmatrix!AZ14,0)","v":0},{"$f":"IF(Entscheidungsfähigkeit!$C$44=\"x\",Urmatrix!BA14,0)","v":0},{"$f":"IF(Entscheidungsfähigkeit!$C$44=\"x\",Urmatrix!BB14,0)","v":0},{"$f":"IF(Entscheidungsfähigkeit!$C$44=\"x\",Urmatrix!BC14,0)","v":0},{"$f":"IF(Entscheidungsfähigkeit!$C$50=\"x\",Urmatrix!BD14,0)","v":0}]
[null,null,null,null,null,null,0,"Uwe Groß",{"$f":"IF(Entscheidungsfähigkeit!$C$11=\"x\",Urmatrix!I15,0)","v":0},null,null,{"$f":"IF(Entscheidungsfähigkeit!$C$14=\"x\",Urmatrix!L15,0)","v":0},{"$f":"IF(Entscheidungsfähigkeit!$C$14=\"x\",Urmatrix!M15,0)","v":0},{"$f":"IF(Entscheidungsfähigkeit!$C$17=\"x\",Urmatrix!N15,0)","v":0},null,null,{"$f":"IF(Entscheidungsfähigkeit!$C$20=\"x\",Urmatrix!Q15,0)","v":0},null,null,null,null,null,{"$f":"IF(Entscheidungsfähigkeit!$C$23=\"x\",Urmatrix!W15,0)","v":0},null,{"$f":"IF(Entscheidungsfähigkeit!$C$26=\"x\",Urmatrix!Y15,0)","v":0},null,null,null,{"$f":"IF(Entscheidungsfähigkeit!$C$29=\"x\",Urmatrix!AC15,0)","v":0},null,{"$f":"IF(Entscheidungsfähigkeit!$C$32=\"x\",Urmatrix!AE15,0)","v":0},null,null,null,null,{"$f":"IF(Entscheidungsfähigkeit!$C$35=\"x\",Urmatrix!AJ15,0)","v":0},null,null,null,null,null,{"$f":"IF(Entscheidungsfähigkeit!$C$38=\"x\",Urmatrix!AP15,0)","v":0},null,null,null,{"$f":"IF(Entscheidungsfähigkeit!$C$41=\"x\",Urmatrix!AT15,0)","v":0},null,null,{"$f":"IF(Entscheidungsfähigkeit!$C$44=\"x\",Urmatrix!AW15,0)","v":0},{"$f":"IF(Entscheidungsfähigkeit!$C$44=\"x\",Urmatrix!AX15,0)","v":0},{"$f":"IF(Entscheidungsfähigkeit!$C$44=\"x\",Urmatrix!AY15,0)","v":0},{"$f":"IF(Entscheidungsfähigkeit!$C$44=\"x\",Urmatrix!AZ15,0)","v":0},{"$f":"IF(Entscheidungsfähigkeit!$C$44=\"x\",Urmatrix!BA15,0)","v":0},{"$f":"IF(Entscheidungsfähigkeit!$C$44=\"x\",Urmatrix!BB15,0)","v":0},{"$f":"IF(Entscheidungsfähigkeit!$C$44=\"x\",Urmatrix!BC15,0)","v":0},{"$f":"IF(Entscheidungsfähigkeit!$C$50=\"x\",Urmatrix!BD15,0)","v":0}]
[null,null,null,null,null,null,0,"Thomas Gartzen",{"$f":"IF(Entscheidungsfähigkeit!$C$11=\"x\",Urmatrix!I16,0)","v":0},null,null,{"$f":"IF(Entscheidungsfähigkeit!$C$14=\"x\",Urmatrix!L16,0)","v":0},{"$f":"IF(Entscheidungsfähigkeit!$C$14=\"x\",Urmatrix!M16,0)","v":0},{"$f":"IF(Entscheidungsfähigkeit!$C$17=\"x\",Urmatrix!N16,0)","v":0},null,null,{"$f":"IF(Entscheidungsfähigkeit!$C$20=\"x\",Urmatrix!Q16,0)","v":0},null,null,null,null,null,{"$f":"IF(Entscheidungsfähigkeit!$C$23=\"x\",Urmatrix!W16,0)","v":0},null,{"$f":"IF(Entscheidungsfähigkeit!$C$26=\"x\",Urmatrix!Y16,0)","v":0},null,null,null,{"$f":"IF(Entscheidungsfähigkeit!$C$29=\"x\",Urmatrix!AC16,0)","v":0},null,{"$f":"IF(Entscheidungsfähigkeit!$C$32=\"x\",Urmatrix!AE16,0)","v":0},null,null,null,null,{"$f":"IF(Entscheidungsfähigkeit!$C$35=\"x\",Urmatrix!AJ16,0)","v":0},null,null,null,null,null,{"$f":"IF(Entscheidungsfähigkeit!$C$38=\"x\",Urmatrix!AP16,0)","v":0},null,null,null,{"$f":"IF(Entscheidungsfähigkeit!$C$41=\"x\",Urmatrix!AT16,0)","v":0},null,null,{"$f":"IF(Entscheidungsfähigkeit!$C$44=\"x\",Urmatrix!AW16,0)","v":0},{"$f":"IF(Entscheidungsfähigkeit!$C$44=\"x\",Urmatrix!AX16,0)","v":0},{"$f":"IF(Entscheidungsfähigkeit!$C$44=\"x\",Urmatrix!AY16,0)","v":0},{"$f":"IF(Entscheidungsfähigkeit!$C$44=\"x\",Urmatrix!AZ16,0)","v":0},{"$f":"IF(Entscheidungsfähigkeit!$C$44=\"x\",Urmatrix!BA16,0)","v":0},{"$f":"IF(Entscheidungsfähigkeit!$C$44=\"x\",Urmatrix!BB16,0)","v":0},{"$f":"IF(Entscheidungsfähigkeit!$C$44=\"x\",Urmatrix!BC16,0)","v":0},{"$f":"IF(Entscheidungsfähigkeit!$C$50=\"x\",Urmatrix!BD16,0)","v":0}]
[null,null,null,null,null,null,0,"Esther Borowski",{"$f":"IF(Entscheidungsfähigkeit!$C$11=\"x\",Urmatrix!I17,0)","v":0},null,null,{"$f":"IF(Entscheidungsfähigkeit!$C$14=\"x\",Urmatrix!L17,0)","v":0},{"$f":"IF(Entscheidungsfähigkeit!$C$14=\"x\",Urmatrix!M17,0)","v":0},{"$f":"IF(Entscheidungsfähigkeit!$C$17=\"x\",Urmatrix!N17,0)","v":0},null,null,{"$f":"IF(Entscheidungsfähigkeit!$C$20=\"x\",Urmatrix!Q17,0)","v":0},null,null,null,null,null,{"$f":"IF(Entscheidungsfähigkeit!$C$23=\"x\",Urmatrix!W17,0)","v":0},null,{"$f":"IF(Entscheidungsfähigkeit!$C$26=\"x\",Urmatrix!Y17,0)","v":0},null,null,null,{"$f":"IF(Entscheidungsfähigkeit!$C$29=\"x\",Urmatrix!AC17,0)","v":0},null,{"$f":"IF(Entscheidungsfähigkeit!$C$32=\"x\",Urmatrix!AE17,0)","v":0},null,null,null,null,{"$f":"IF(Entscheidungsfähigkeit!$C$35=\"x\",Urmatrix!AJ17,0)","v":0},null,null,null,null,null,{"$f":"IF(Entscheidungsfähigkeit!$C$38=\"x\",Urmatrix!AP17,0)","v":0},null,null,null,{"$f":"IF(Entscheidungsfähigkeit!$C$41=\"x\",Urmatrix!AT17,0)","v":0},null,null,{"$f":"IF(Entscheidungsfähigkeit!$C$44=\"x\",Urmatrix!AW17,0)","v":0},{"$f":"IF(Entscheidungsfähigkeit!$C$44=\"x\",Urmatrix!AX17,0)","v":0},{"$f":"IF(Entscheidungsfähigkeit!$C$44=\"x\",Urmatrix!AY17,0)","v":0},{"$f":"IF(Entscheidungsfähigkeit!$C$44=\"x\",Urmatrix!AZ17,0)","v":0},{"$f":"IF(Entscheidungsfähigkeit!$C$44=\"x\",Urmatrix!BA17,0)","v":0},{"$f":"IF(Entscheidungsfähigkeit!$C$44=\"x\",Urmatrix!BB17,0)","v":0},{"$f":"IF(Entscheidungsfähigkeit!$C$44=\"x\",Urmatrix!BC17,0)","v":0},{"$f":"IF(Entscheidungsfähigkeit!$C$50=\"x\",Urmatrix!BD17,0)","v":0}]
[null,null,null,null,null,null,0,"Tim Renner",{"$f":"IF(Entscheidungsfähigkeit!$C$11=\"x\",Urmatrix!I18,0)","v":0},null,null,{"$f":"IF(Entscheidungsfähigkeit!$C$14=\"x\",Urmatrix!L18,0)","v":0},{"$f":"IF(Entscheidungsfähigkeit!$C$14=\"x\",Urmatrix!M18,0)","v":0},{"$f":"IF(Entscheidungsfähigkeit!$C$17=\"x\",Urmatrix!N18,0)","v":0},null,null,{"$f":"IF(Entscheidungsfähigkeit!$C$20=\"x\",Urmatrix!Q18,0)","v":0},null,null,null,null,null,{"$f":"IF(Entscheidungsfähigkeit!$C$23=\"x\",Urmatrix!W18,0)","v":0},null,{"$f":"IF(Entscheidungsfähigkeit!$C$26=\"x\",Urmatrix!Y18,0)","v":0},null,null,null,{"$f":"IF(Entscheidungsfähigkeit!$C$29=\"x\",Urmatrix!AC18,0)","v":0},null,{"$f":"IF(Entscheidungsfähigkeit!$C$32=\"x\",Urmatrix!AE18,0)","v":0},null,null,null,null,{"$f":"IF(Entscheidungsfähigkeit!$C$35=\"x\",Urmatrix!AJ18,0)","v":0},null,null,null,null,null,{"$f":"IF(Entscheidungsfähigkeit!$C$38=\"x\",Urmatrix!AP18,0)","v":0},null,null,null,{"$f":"IF(Entscheidungsfähigkeit!$C$41=\"x\",Urmatrix!AT18,0)","v":0},null,null,{"$f":"IF(Entscheidungsfähigkeit!$C$44=\"x\",Urmatrix!AW18,0)","v":0},{"$f":"IF(Entscheidungsfähigkeit!$C$44=\"x\",Urmatrix!AX18,0)","v":0},{"$f":"IF(Entscheidungsfähigkeit!$C$44=\"x\",Urmatrix!AY18,0)","v":0},{"$f":"IF(Entscheidungsfähigkeit!$C$44=\"x\",Urmatrix!AZ18,0)","v":0},{"$f":"IF(Entscheidungsfähigkeit!$C$44=\"x\",Urmatrix!BA18,0)","v":0},{"$f":"IF(Entscheidungsfähigkeit!$C$44=\"x\",Urmatrix!BB18,0)","v":0},{"$f":"IF(Entscheidungsfähigkeit!$C$44=\"x\",Urmatrix!BC18,0)","v":0},{"$f":"IF(Entscheidungsfähigkeit!$C$50=\"x\",Urmatrix!BD18,0)","v":0}]
[null,null,null,null,null,null,0,"Sebastian Schmitt",{"$f":"IF(Entscheidungsfähigkeit!$C$11=\"x\",Urmatrix!I19,0)","v":0},null,null,{"$f":"IF(Entscheidungsfähigkeit!$C$14=\"x\",Urmatrix!L19,0)","v":0},{"$f":"IF(Entscheidungsfähigkeit!$C$14=\"x\",Urmatrix!M19,0)","v":0},{"$f":"IF(Entscheidungsfähigkeit!$C$17=\"x\",Urmatrix!N19,0)","v":0},null,null,{"$f":"IF(Entscheidungsfähigkeit!$C$20=\"x\",Urmatrix!Q19,0)","v":0},null,null,null,null,null,{"$f":"IF(Entscheidungsfähigkeit!$C$23=\"x\",Urmatrix!W19,0)","v":0},null,{"$f":"IF(Entscheidungsfähigkeit!$C$26=\"x\",Urmatrix!Y19,0)","v":0},null,null,null,{"$f":"IF(Entscheidungsfähigkeit!$C$29=\"x\",Urmatrix!AC19,0)","v":0},null,{"$f":"IF(Entscheidungsfähigkeit!$C$32=\"x\",Urmatrix!AE19,0)","v":0},null,null,null,null,{"$f":"IF(Entscheidungsfähigkeit!$C$35=\"x\",Urmatrix!AJ19,0)","v":0},null,null,null,null,null,{"$f":"IF(Entscheidungsfähigkeit!$C$38=\"x\",Urmatrix!AP19,0)","v":0},null,null,null,{"$f":"IF(Entscheidungsfähigkeit!$C$41=\"x\",Urmatrix!AT19,0)","v":0},null,null,{"$f":"IF(Entscheidungsfähigkeit!$C$44=\"x\",Urmatrix!AW19,0)","v":0},{"$f":"IF(Entscheidungsfähigkeit!$C$44=\"x\",Urmatrix!AX19,0)","v":0},{"$f":"IF(Entscheidungsfähigkeit!$C$44=\"x\",Urmatrix!AY19,0)","v":0},{"$f":"IF(Entscheidungsfähigkeit!$C$44=\"x\",Urmatrix!AZ19,0)","v":0},{"$f":"IF(Entscheidungsfähigkeit!$C$44=\"x\",Urmatrix!BA19,0)","v":0},{"$f":"IF(Entscheidungsfähigkeit!$C$44=\"x\",Urmatrix!BB19,0)","v":0},{"$f":"IF(Entscheidungsfähigkeit!$C$44=\"x\",Urmatrix!BC19,0)","v":0},{"$f":"IF(Entscheidungsfähigkeit!$C$50=\"x\",Urmatrix!BD19,0)","v":0}]
[null,null,null,null,null,null,0,"Jerome Quick",{"$f":"IF(Entscheidungsfähigkeit!$C$11=\"x\",Urmatrix!I20,0)","v":0},null,null,{"$f":"IF(Entscheidungsfähigkeit!$C$14=\"x\",Urmatrix!L20,0)","v":0},{"$f":"IF(Entscheidungsfähigkeit!$C$14=\"x\",Urmatrix!M20,0)","v":0},{"$f":"IF(Entscheidungsfähigkeit!$C$17=\"x\",Urmatrix!N20,0)","v":0},null,null,{"$f":"IF(Entscheidungsfähigkeit!$C$20=\"x\",Urmatrix!Q20,0)","v":0},null,null,null,null,null,{"$f":"IF(Entscheidungsfähigkeit!$C$23=\"x\",Urmatrix!W20,0)","v":0},null,{"$f":"IF(Entscheidungsfähigkeit!$C$26=\"x\",Urmatrix!Y20,0)","v":0},null,null,null,{"$f":"IF(Entscheidungsfähigkeit!$C$29=\"x\",Urmatrix!AC20,0)","v":0},null,{"$f":"IF(Entscheidungsfähigkeit!$C$32=\"x\",Urmatrix!AE20,0)","v":0},null,null,null,null,{"$f":"IF(Entscheidungsfähigkeit!$C$35=\"x\",Urmatrix!AJ20,0)","v":0},null,null,null,null,null,{"$f":"IF(Entscheidungsfähigkeit!$C$38=\"x\",Urmatrix!AP20,0)","v":0},null,null,null,{"$f":"IF(Entscheidungsfähigkeit!$C$41=\"x\",Urmatrix!AT20,0)","v":0},null,null,{"$f":"IF(Entscheidungsfähigkeit!$C$44=\"x\",Urmatrix!AW20,0)","v":0},{"$f":"IF(Entscheidungsfähigkeit!$C$44=\"x\",Urmatrix!AX20,0)","v":0},{"$f":"IF(Entscheidungsfähigkeit!$C$44=\"x\",Urmatrix!AY20,0)","v":0},{"$f":"IF(Entscheidungsfähigkeit!$C$44=\"x\",Urmatrix!AZ20,0)","v":0},{"$f":"IF(Entscheidungsfähigkeit!$C$44=\"x\",Urmatrix!BA20,0)","v":0},{"$f":"IF(Entscheidungsfähigkeit!$C$44=\"x\",Urmatrix!BB20,0)","v":0},{"$f":"IF(Entscheidungsfähigkeit!$C$44=\"x\",Urmatrix!BC20,0)","v":0},{"$f":"IF(Entscheidungsfähigkeit!$C$50=\"x\",Urmatrix!BD20,0)","v":0}]
[null,null,null,null,null,null,0,"Isabel Basse",{"$f":"IF(Entscheidungsfähigkeit!$C$11=\"x\",Urmatrix!I21,0)","v":0},null,null,{"$f":"IF(Entscheidungsfähigkeit!$C$14=\"x\",Urmatrix!L21,0)","v":0},{"$f":"IF(Entscheidungsfähigkeit!$C$14=\"x\",Urmatrix!M21,0)","v":0},{"$f":"IF(Entscheidungsfähigkeit!$C$17=\"x\",Urmatrix!N21,0)","v":0},null,null,{"$f":"IF(Entscheidungsfähigkeit!$C$20=\"x\",Urmatrix!Q21,0)","v":0},null,null,null,null,null,{"$f":"IF(Entscheidungsfähigkeit!$C$23=\"x\",Urmatrix!W21,0)","v":0},null,{"$f":"IF(Entscheidungsfähigkeit!$C$26=\"x\",Urmatrix!Y21,0)","v":0},null,null,null,{"$f":"IF(Entscheidungsfähigkeit!$C$29=\"x\",Urmatrix!AC21,0)","v":0},null,{"$f":"IF(Entscheidungsfähigkeit!$C$32=\"x\",Urmatrix!AE21,0)","v":0},null,null,null,null,{"$f":"IF(Entscheidungsfähigkeit!$C$35=\"x\",Urmatrix!AJ21,0)","v":0},null,null,null,null,null,{"$f":"IF(Entscheidungsfähigkeit!$C$38=\"x\",Urmatrix!AP21,0)","v":0},null,null,null,{"$f":"IF(Entscheidungsfähigkeit!$C$41=\"x\",Urmatrix!AT21,0)","v":0},null,null,{"$f":"IF(Entscheidungsfähigkeit!$C$44=\"x\",Urmatrix!AW21,0)","v":0},{"$f":"IF(Entscheidungsfähigkeit!$C$44=\"x\",Urmatrix!AX21,0)","v":0},{"$f":"IF(Entscheidungsfähigkeit!$C$44=\"x\",Urmatrix!AY21,0)","v":0},{"$f":"IF(Entscheidungsfähigkeit!$C$44=\"x\",Urmatrix!AZ21,0)","v":0},{"$f":"IF(Entscheidungsfähigkeit!$C$44=\"x\",Urmatrix!BA21,0)","v":0},{"$f":"IF(Entscheidungsfähigkeit!$C$44=\"x\",Urmatrix!BB21,0)","v":0},{"$f":"IF(Entscheidungsfähigkeit!$C$44=\"x\",Urmatrix!BC21,0)","v":0},{"$f":"IF(Entscheidungsfähigkeit!$C$50=\"x\",Urmatrix!BD21,0)","v":0}]
[null,null,null,null,null,null,0,"Christoph Nowacki",{"$f":"IF(Entscheidungsfähigkeit!$C$11=\"x\",Urmatrix!I22,0)","v":0},null,null,{"$f":"IF(Entscheidungsfähigkeit!$C$14=\"x\",Urmatrix!L22,0)","v":0},{"$f":"IF(Entscheidungsfähigkeit!$C$14=\"x\",Urmatrix!M22,0)","v":0},{"$f":"IF(Entscheidungsfähigkeit!$C$17=\"x\",Urmatrix!N22,0)","v":0},null,null,{"$f":"IF(Entscheidungsfähigkeit!$C$20=\"x\",Urmatrix!Q22,0)","v":0},null,null,null,null,null,{"$f":"IF(Entscheidungsfähigkeit!$C$23=\"x\",Urmatrix!W22,0)","v":0},null,{"$f":"IF(Entscheidungsfähigkeit!$C$26=\"x\",Urmatrix!Y22,0)","v":0},null,null,null,{"$f":"IF(Entscheidungsfähigkeit!$C$29=\"x\",Urmatrix!AC22,0)","v":0},null,{"$f":"IF(Entscheidungsfähigkeit!$C$32=\"x\",Urmatrix!AE22,0)","v":0},null,null,null,null,{"$f":"IF(Entscheidungsfähigkeit!$C$35=\"x\",Urmatrix!AJ22,0)","v":0},null,null,null,null,null,{"$f":"IF(Entscheidungsfähigkeit!$C$38=\"x\",Urmatrix!AP22,0)","v":0},null,null,null,{"$f":"IF(Entscheidungsfähigkeit!$C$41=\"x\",Urmatrix!AT22,0)","v":0},null,null,{"$f":"IF(Entscheidungsfähigkeit!$C$44=\"x\",Urmatrix!AW22,0)","v":0},{"$f":"IF(Entscheidungsfähigkeit!$C$44=\"x\",Urmatrix!AX22,0)","v":0},{"$f":"IF(Entscheidungsfähigkeit!$C$44=\"x\",Urmatrix!AY22,0)","v":0},{"$f":"IF(Entscheidungsfähigkeit!$C$44=\"x\",Urmatrix!AZ22,0)","v":0},{"$f":"IF(Entscheidungsfähigkeit!$C$44=\"x\",Urmatrix!BA22,0)","v":0},{"$f":"IF(Entscheidungsfähigkeit!$C$44=\"x\",Urmatrix!BB22,0)","v":0},{"$f":"IF(Entscheidungsfähigkeit!$C$44=\"x\",Urmatrix!BC22,0)","v":0},{"$f":"IF(Entscheidungsfähigkeit!$C$50=\"x\",Urmatrix!BD22,0)","v":0}]
[null,null,null,null,null,null,0,"Steffen Buchholz",{"$f":"IF(Entscheidungsfähigkeit!$C$11=\"x\",Urmatrix!I23,0)","v":0},null,null,{"$f":"IF(Entscheidungsfähigkeit!$C$14=\"x\",Urmatrix!L23,0)","v":0},{"$f":"IF(Entscheidungsfähigkeit!$C$14=\"x\",Urmatrix!M23,0)","v":0},{"$f":"IF(Entscheidungsfähigkeit!$C$17=\"x\",Urmatrix!N23,0)","v":0},null,null,{"$f":"IF(Entscheidungsfähigkeit!$C$20=\"x\",Urmatrix!Q23,0)","v":0},null,null,null,null,null,{"$f":"IF(Entscheidungsfähigkeit!$C$23=\"x\",Urmatrix!W23,0)","v":0},null,{"$f":"IF(Entscheidungsfähigkeit!$C$26=\"x\",Urmatrix!Y23,0)","v":0},null,null,null,{"$f":"IF(Entscheidungsfähigkeit!$C$29=\"x\",Urmatrix!AC23,0)","v":0},null,{"$f":"IF(Entscheidungsfähigkeit!$C$32=\"x\",Urmatrix!AE23,0)","v":0},null,null,null,null,{"$f":"IF(Entscheidungsfähigkeit!$C$35=\"x\",Urmatrix!AJ23,0)","v":0},null,null,null,null,null,{"$f":"IF(Entscheidungsfähigkeit!$C$38=\"x\",Urmatrix!AP23,0)","v":0},null,null,null,{"$f":"IF(Entscheidungsfähigkeit!$C$41=\"x\",Urmatrix!AT23,0)","v":0},null,null,{"$f":"IF(Entscheidungsfähigkeit!$C$44=\"x\",Urmatrix!AW23,0)","v":0},{"$f":"IF(Entscheidungsfähigkeit!$C$44=\"x\",Urmatrix!AX23,0)","v":0},{"$f":"IF(Entscheidungsfähigkeit!$C$44=\"x\",Urmatrix!AY23,0)","v":0},{"$f":"IF(Entscheidungsfähigkeit!$C$44=\"x\",Urmatrix!AZ23,0)","v":0},{"$f":"IF(Entscheidungsfähigkeit!$C$44=\"x\",Urmatrix!BA23,0)","v":0},{"$f":"IF(Entscheidungsfähigkeit!$C$44=\"x\",Urmatrix!BB23,0)","v":0},{"$f":"IF(Entscheidungsfähigkeit!$C$44=\"x\",Urmatrix!BC23,0)","v":0},{"$f":"IF(Entscheidungsfähigkeit!$C$50=\"x\",Urmatrix!BD23,0)","v":0}]
[null,null,null,null,null,null,0,"Simon Müller",{"$f":"IF(Entscheidungsfähigkeit!$C$11=\"x\",Urmatrix!I24,0)","v":0},null,null,{"$f":"IF(Entscheidungsfähigkeit!$C$14=\"x\",Urmatrix!L24,0)","v":0},{"$f":"IF(Entscheidungsfähigkeit!$C$14=\"x\",Urmatrix!M24,0)","v":0},{"$f":"IF(Entscheidungsfähigkeit!$C$17=\"x\",Urmatrix!N24,0)","v":0},null,null,{"$f":"IF(Entscheidungsfähigkeit!$C$20=\"x\",Urmatrix!Q24,0)","v":0},null,null,null,null,null,{"$f":"IF(Entscheidungsfähigkeit!$C$23=\"x\",Urmatrix!W24,0)","v":0},null,{"$f":"IF(Entscheidungsfähigkeit!$C$26=\"x\",Urmatrix!Y24,0)","v":0},null,null,null,{"$f":"IF(Entscheidungsfähigkeit!$C$29=\"x\",Urmatrix!AC24,0)","v":0},null,{"$f":"IF(Entscheidungsfähigkeit!$C$32=\"x\",Urmatrix!AE24,0)","v":0},null,null,null,null,{"$f":"IF(Entscheidungsfähigkeit!$C$35=\"x\",Urmatrix!AJ24,0)","v":0},null,null,null,null,null,{"$f":"IF(Entscheidungsfähigkeit!$C$38=\"x\",Urmatrix!AP24,0)","v":0},null,null,null,{"$f":"IF(Entscheidungsfähigkeit!$C$41=\"x\",Urmatrix!AT24,0)","v":0},null,null,{"$f":"IF(Entscheidungsfähigkeit!$C$44=\"x\",Urmatrix!AW24,0)","v":0},{"$f":"IF(Entscheidungsfähigkeit!$C$44=\"x\",Urmatrix!AX24,0)","v":0},{"$f":"IF(Entscheidungsfähigkeit!$C$44=\"x\",Urmatrix!AY24,0)","v":0},{"$f":"IF(Entscheidungsfähigkeit!$C$44=\"x\",Urmatrix!AZ24,0)","v":0},{"$f":"IF(Entscheidungsfähigkeit!$C$44=\"x\",Urmatrix!BA24,0)","v":0},{"$f":"IF(Entscheidungsfähigkeit!$C$44=\"x\",Urmatrix!BB24,0)","v":0},{"$f":"IF(Entscheidungsfähigkeit!$C$44=\"x\",Urmatrix!BC24,0)","v":0},{"$f":"IF(Entscheidungsfähigkeit!$C$50=\"x\",Urmatrix!BD24,0)","v":0}]
[null,null,null,null,null,null,0,"Frank Steiner",{"$f":"IF(Entscheidungsfähigkeit!$C$11=\"x\",Urmatrix!I25,0)","v":0},null,null,{"$f":"IF(Entscheidungsfähigkeit!$C$14=\"x\",Urmatrix!L25,0)","v":0},{"$f":"IF(Entscheidungsfähigkeit!$C$14=\"x\",Urmatrix!M25,0)","v":0},{"$f":"IF(Entscheidungsfähigkeit!$C$17=\"x\",Urmatrix!N25,0)","v":0},null,null,{"$f":"IF(Entscheidungsfähigkeit!$C$20=\"x\",Urmatrix!Q25,0)","v":0},null,null,null,null,null,{"$f":"IF(Entscheidungsfähigkeit!$C$23=\"x\",Urmatrix!W25,0)","v":0},null,{"$f":"IF(Entscheidungsfähigkeit!$C$26=\"x\",Urmatrix!Y25,0)","v":0},null,null,null,{"$f":"IF(Entscheidungsfähigkeit!$C$29=\"x\",Urmatrix!AC25,0)","v":0},null,{"$f":"IF(Entscheidungsfähigkeit!$C$32=\"x\",Urmatrix!AE25,0)","v":0},null,null,null,null,{"$f":"IF(Entscheidungsfähigkeit!$C$35=\"x\",Urmatrix!AJ25,0)","v":0},null,null,null,null,null,{"$f":"IF(Entscheidungsfähigkeit!$C$38=\"x\",Urmatrix!AP25,0)","v":0},null,null,null,{"$f":"IF(Entscheidungsfähigkeit!$C$41=\"x\",Urmatrix!AT25,0)","v":0},null,null,{"$f":"IF(Entscheidungsfähigkeit!$C$44=\"x\",Urmatrix!AW25,0)","v":0},{"$f":"IF(Entscheidungsfähigkeit!$C$44=\"x\",Urmatrix!AX25,0)","v":0},{"$f":"IF(Entscheidungsfähigkeit!$C$44=\"x\",Urmatrix!AY25,0)","v":0},{"$f":"IF(Entscheidungsfähigkeit!$C$44=\"x\",Urmatrix!AZ25,0)","v":0},{"$f":"IF(Entscheidungsfähigkeit!$C$44=\"x\",Urmatrix!BA25,0)","v":0},{"$f":"IF(Entscheidungsfähigkeit!$C$44=\"x\",Urmatrix!BB25,0)","v":0},{"$f":"IF(Entscheidungsfähigkeit!$C$44=\"x\",Urmatrix!BC25,0)","v":0},{"$f":"IF(Entscheidungsfähigkeit!$C$50=\"x\",Urmatrix!BD25,0)","v":0}]
[null,null,null,null,null,null,0,"Sebastian Reuter",{"$f":"IF(Entscheidungsfähigkeit!$C$11=\"x\",Urmatrix!I26,0)","v":0},null,null,{"$f":"IF(Entscheidungsfähigkeit!$C$14=\"x\",Urmatrix!L26,0)","v":0},{"$f":"IF(Entscheidungsfähigkeit!$C$14=\"x\",Urmatrix!M26,0)","v":0},{"$f":"IF(Entscheidungsfähigkeit!$C$17=\"x\",Urmatrix!N26,0)","v":0},null,null,{"$f":"IF(Entscheidungsfähigkeit!$C$20=\"x\",Urmatrix!Q26,0)","v":0},null,null,null,null,null,{"$f":"IF(Entscheidungsfähigkeit!$C$23=\"x\",Urmatrix!W26,0)","v":0},null,{"$f":"IF(Entscheidungsfähigkeit!$C$26=\"x\",Urmatrix!Y26,0)","v":0},null,null,null,{"$f":"IF(Entscheidungsfähigkeit!$C$29=\"x\",Urmatrix!AC26,0)","v":0},null,{"$f":"IF(Entscheidungsfähigkeit!$C$32=\"x\",Urmatrix!AE26,0)","v":0},null,null,null,null,{"$f":"IF(Entscheidungsfähigkeit!$C$35=\"x\",Urmatrix!AJ26,0)","v":0},null,null,null,null,null,{"$f":"IF(Entscheidungsfähigkeit!$C$38=\"x\",Urmatrix!AP26,0)","v":0},null,null,null,{"$f":"IF(Entscheidungsfähigkeit!$C$41=\"x\",Urmatrix!AT26,0)","v":0},null,null,{"$f":"IF(Entscheidungsfähigkeit!$C$44=\"x\",Urmatrix!AW26,0)","v":0},{"$f":"IF(Entscheidungsfähigkeit!$C$44=\"x\",Urmatrix!AX26,0)","v":0},{"$f":"IF(Entscheidungsfähigkeit!$C$44=\"x\",Urmatrix!AY26,0)","v":0},{"$f":"IF(Entscheidungsfähigkeit!$C$44=\"x\",Urmatrix!AZ26,0)","v":0},{"$f":"IF(Entscheidungsfähigkeit!$C$44=\"x\",Urmatrix!BA26,0)","v":0},{"$f":"IF(Entscheidungsfähigkeit!$C$44=\"x\",Urmatrix!BB26,0)","v":0},{"$f":"IF(Entscheidungsfähigkeit!$C$44=\"x\",Urmatrix!BC26,0)","v":0},{"$f":"IF(Entscheidungsfähigkeit!$C$50=\"x\",Urmatrix!BD26,0)","v":0}]
[null,null,null,null,null,null,0,"Marc Kujas",{"$f":"IF(Entscheidungsfähigkeit!$C$11=\"x\",Urmatrix!I27,0)","v":0},null,null,{"$f":"IF(Entscheidungsfähigkeit!$C$14=\"x\",Urmatrix!L27,0)","v":0},{"$f":"IF(Entscheidungsfähigkeit!$C$14=\"x\",Urmatrix!M27,0)","v":0},{"$f":"IF(Entscheidungsfähigkeit!$C$17=\"x\",Urmatrix!N27,0)","v":0},null,null,{"$f":"IF(Entscheidungsfähigkeit!$C$20=\"x\",Urmatrix!Q27,0)","v":0},null,null,null,null,null,{"$f":"IF(Entscheidungsfähigkeit!$C$23=\"x\",Urmatrix!W27,0)","v":0},null,{"$f":"IF(Entscheidungsfähigkeit!$C$26=\"x\",Urmatrix!Y27,0)","v":0},null,null,null,{"$f":"IF(Entscheidungsfähigkeit!$C$29=\"x\",Urmatrix!AC27,0)","v":0},null,{"$f":"IF(Entscheidungsfähigkeit!$C$32=\"x\",Urmatrix!AE27,0)","v":0},null,null,null,null,{"$f":"IF(Entscheidungsfähigkeit!$C$35=\"x\",Urmatrix!AJ27,0)","v":0},null,null,null,null,null,{"$f":"IF(Entscheidungsfähigkeit!$C$38=\"x\",Urmatrix!AP27,0)","v":0},null,null,null,{"$f":"IF(Entscheidungsfähigkeit!$C$41=\"x\",Urmatrix!AT27,0)","v":0},null,null,{"$f":"IF(Entscheidungsfähigkeit!$C$44=\"x\",Urmatrix!AW27,0)","v":0},{"$f":"IF(Entscheidungsfähigkeit!$C$44=\"x\",Urmatrix!AX27,0)","v":0},{"$f":"IF(Entscheidungsfähigkeit!$C$44=\"x\",Urmatrix!AY27,0)","v":0},{"$f":"IF(Entscheidungsfähigkeit!$C$44=\"x\",Urmatrix!AZ27,0)","v":0},{"$f":"IF(Entscheidungsfähigkeit!$C$44=\"x\",Urmatrix!BA27,0)","v":0},{"$f":"IF(Entscheidungsfähigkeit!$C$44=\"x\",Urmatrix!BB27,0)","v":0},{"$f":"IF(Entscheidungsfähigkeit!$C$44=\"x\",Urmatrix!BC27,0)","v":0},{"$f":"IF(Entscheidungsfähigkeit!$C$50=\"x\",Urmatrix!BD27,0)","v":0}]
[null,null,null,null,null,null,0,"Sebastian Stiller",{"$f":"IF(Entscheidungsfähigkeit!$C$11=\"x\",Urmatrix!I28,0)","v":0},null,null,{"$f":"IF(Entscheidungsfähigkeit!$C$14=\"x\",Urmatrix!L28,0)","v":0},{"$f":"IF(Entscheidungsfähigkeit!$C$14=\"x\",Urmatrix!M28,0)","v":0},{"$f":"IF(Entscheidungsfähigkeit!$C$17=\"x\",Urmatrix!N28,0)","v":0},null,null,{"$f":"IF(Entscheidungsfähigkeit!$C$20=\"x\",Urmatrix!Q28,0)","v":0},null,null,null,null,null,{"$f":"IF(Entscheidungsfähigkeit!$C$23=\"x\",Urmatrix!W28,0)","v":0},null,{"$f":"IF(Entscheidungsfähigkeit!$C$26=\"x\",Urmatrix!Y28,0)","v":0},null,null,null,{"$f":"IF(Entscheidungsfähigkeit!$C$29=\"x\",Urmatrix!AC28,0)","v":0},null,{"$f":"IF(Entscheidungsfähigkeit!$C$32=\"x\",Urmatrix!AE28,0)","v":0},null,null,null,null,{"$f":"IF(Entscheidungsfähigkeit!$C$35=\"x\",Urmatrix!AJ28,0)","v":0},null,null,null,null,null,{"$f":"IF(Entscheidungsfähigkeit!$C$38=\"x\",Urmatrix!AP28,0)","v":0},null,null,null,{"$f":"IF(Entscheidungsfähigkeit!$C$41=\"x\",Urmatrix!AT28,0)","v":0},null,null,{"$f":"IF(Entscheidungsfähigkeit!$C$44=\"x\",Urmatrix!AW28,0)","v":0},{"$f":"IF(Entscheidungsfähigkeit!$C$44=\"x\",Urmatrix!AX28,0)","v":0},{"$f":"IF(Entscheidungsfähigkeit!$C$44=\"x\",Urmatrix!AY28,0)","v":0},{"$f":"IF(Entscheidungsfähigkeit!$C$44=\"x\",Urmatrix!AZ28,0)","v":0},{"$f":"IF(Entscheidungsfähigkeit!$C$44=\"x\",Urmatrix!BA28,0)","v":0},{"$f":"IF(Entscheidungsfähigkeit!$C$44=\"x\",Urmatrix!BB28,0)","v":0},{"$f":"IF(Entscheidungsfähigkeit!$C$44=\"x\",Urmatrix!BC28,0)","v":0},{"$f":"IF(Entscheidungsfähigkeit!$C$50=\"x\",Urmatrix!BD28,0)","v":0}]
[null,null,null,null,null,null,0,"Christian Janßen",{"$f":"IF(Entscheidungsfähigkeit!$C$11=\"x\",Urmatrix!I29,0)","v":0},null,null,{"$f":"IF(Entscheidungsfähigkeit!$C$14=\"x\",Urmatrix!L29,0)","v":0},{"$f":"IF(Entscheidungsfähigkeit!$C$14=\"x\",Urmatrix!M29,0)","v":0},{"$f":"IF(Entscheidungsfähigkeit!$C$17=\"x\",Urmatrix!N29,0)","v":0},null,null,{"$f":"IF(Entscheidungsfähigkeit!$C$20=\"x\",Urmatrix!Q29,0)","v":0},null,null,null,null,null,{"$f":"IF(Entscheidungsfähigkeit!$C$23=\"x\",Urmatrix!W29,0)","v":0},null,{"$f":"IF(Entscheidungsfähigkeit!$C$26=\"x\",Urmatrix!Y29,0)","v":0},null,null,null,{"$f":"IF(Entscheidungsfähigkeit!$C$29=\"x\",Urmatrix!AC29,0)","v":0},null,{"$f":"IF(Entscheidungsfähigkeit!$C$32=\"x\",Urmatrix!AE29,0)","v":0},null,null,null,null,{"$f":"IF(Entscheidungsfähigkeit!$C$35=\"x\",Urmatrix!AJ29,0)","v":0},null,null,null,null,null,{"$f":"IF(Entscheidungsfähigkeit!$C$38=\"x\",Urmatrix!AP29,0)","v":0},null,null,null,{"$f":"IF(Entscheidungsfähigkeit!$C$41=\"x\",Urmatrix!AT29,0)","v":0},null,null,{"$f":"IF(Entscheidungsfähigkeit!$C$44=\"x\",Urmatrix!AW29,0)","v":0},{"$f":"IF(Entscheidungsfähigkeit!$C$44=\"x\",Urmatrix!AX29,0)","v":0},{"$f":"IF(Entscheidungsfähigkeit!$C$44=\"x\",Urmatrix!AY29,0)","v":0},{"$f":"IF(Entscheidungsfähigkeit!$C$44=\"x\",Urmatrix!AZ29,0)","v":0},{"$f":"IF(Entscheidungsfähigkeit!$C$44=\"x\",Urmatrix!BA29,0)","v":0},{"$f":"IF(Entscheidungsfähigkeit!$C$44=\"x\",Urmatrix!BB29,0)","v":0},{"$f":"IF(Entscheidungsfähigkeit!$C$44=\"x\",Urmatrix!BC29,0)","v":0},{"$f":"IF(Entscheidungsfähigkeit!$C$50=\"x\",Urmatrix!BD29,0)","v":0}]
[null,null,null,null,null,null,0,"Andreas Maue",{"$f":"IF(Entscheidungsfähigkeit!$C$11=\"x\",Urmatrix!I30,0)","v":0},null,null,{"$f":"IF(Entscheidungsfähigkeit!$C$14=\"x\",Urmatrix!L30,0)","v":0},{"$f":"IF(Entscheidungsfähigkeit!$C$14=\"x\",Urmatrix!M30,0)","v":0},{"$f":"IF(Entscheidungsfähigkeit!$C$17=\"x\",Urmatrix!N30,0)","v":0},null,null,{"$f":"IF(Entscheidungsfähigkeit!$C$20=\"x\",Urmatrix!Q30,0)","v":0},null,null,null,null,null,{"$f":"IF(Entscheidungsfähigkeit!$C$23=\"x\",Urmatrix!W30,0)","v":0},null,{"$f":"IF(Entscheidungsfähigkeit!$C$26=\"x\",Urmatrix!Y30,0)","v":0},null,null,null,{"$f":"IF(Entscheidungsfähigkeit!$C$29=\"x\",Urmatrix!AC30,0)","v":0},null,{"$f":"IF(Entscheidungsfähigkeit!$C$32=\"x\",Urmatrix!AE30,0)","v":0},null,null,null,null,{"$f":"IF(Entscheidungsfähigkeit!$C$35=\"x\",Urmatrix!AJ30,0)","v":0},null,null,null,null,null,{"$f":"IF(Entscheidungsfähigkeit!$C$38=\"x\",Urmatrix!AP30,0)","v":0},null,null,null,{"$f":"IF(Entscheidungsfähigkeit!$C$41=\"x\",Urmatrix!AT30,0)","v":0},null,null,{"$f":"IF(Entscheidungsfähigkeit!$C$44=\"x\",Urmatrix!AW30,0)","v":0},{"$f":"IF(Entscheidungsfähigkeit!$C$44=\"x\",Urmatrix!AX30,0)","v":0},{"$f":"IF(Entscheidungsfähigkeit!$C$44=\"x\",Urmatrix!AY30,0)","v":0},{"$f":"IF(Entscheidungsfähigkeit!$C$44=\"x\",Urmatrix!AZ30,0)","v":0},{"$f":"IF(Entscheidungsfähigkeit!$C$44=\"x\",Urmatrix!BA30,0)","v":0},{"$f":"IF(Entscheidungsfähigkeit!$C$44=\"x\",Urmatrix!BB30,0)","v":0},{"$f":"IF(Entscheidungsfähigkeit!$C$44=\"x\",Urmatrix!BC30,0)","v":0},{"$f":"IF(Entscheidungsfähigkeit!$C$50=\"x\",Urmatrix!BD30,0)","v":0}]
[null,null,null,null,null,null,0,"Maik Schürmeyer",{"$f":"IF(Entscheidungsfähigkeit!$C$11=\"x\",Urmatrix!I31,0)","v":0},null,null,{"$f":"IF(Entscheidungsfähigkeit!$C$14=\"x\",Urmatrix!L31,0)","v":0},{"$f":"IF(Entscheidungsfähigkeit!$C$14=\"x\",Urmatrix!M31,0)","v":0},{"$f":"IF(Entscheidungsfähigkeit!$C$17=\"x\",Urmatrix!N31,0)","v":0},null,null,{"$f":"IF(Entscheidungsfähigkeit!$C$20=\"x\",Urmatrix!Q31,0)","v":0},null,null,null,null,null,{"$f":"IF(Entscheidungsfähigkeit!$C$23=\"x\",Urmatrix!W31,0)","v":0},null,{"$f":"IF(Entscheidungsfähigkeit!$C$26=\"x\",Urmatrix!Y31,0)","v":0},null,null,null,{"$f":"IF(Entscheidungsfähigkeit!$C$29=\"x\",Urmatrix!AC31,0)","v":0},null,{"$f":"IF(Entscheidungsfähigkeit!$C$32=\"x\",Urmatrix!AE31,0)","v":0},null,null,null,null,{"$f":"IF(Entscheidungsfähigkeit!$C$35=\"x\",Urmatrix!AJ31,0)","v":0},null,null,null,null,null,{"$f":"IF(Entscheidungsfähigkeit!$C$38=\"x\",Urmatrix!AP31,0)","v":0},null,null,null,{"$f":"IF(Entscheidungsfähigkeit!$C$41=\"x\",Urmatrix!AT31,0)","v":0},null,null,{"$f":"IF(Entscheidungsfähigkeit!$C$44=\"x\",Urmatrix!AW31,0)","v":0},{"$f":"IF(Entscheidungsfähigkeit!$C$44=\"x\",Urmatrix!AX31,0)","v":0},{"$f":"IF(Entscheidungsfähigkeit!$C$44=\"x\",Urmatrix!AY31,0)","v":0},{"$f":"IF(Entscheidungsfähigkeit!$C$44=\"x\",Urmatrix!AZ31,0)","v":0},{"$f":"IF(Entscheidungsfähigkeit!$C$44=\"x\",Urmatrix!BA31,0)","v":0},{"$f":"IF(Entscheidungsfähigkeit!$C$44=\"x\",Urmatrix!BB31,0)","v":0},{"$f":"IF(Entscheidungsfähigkeit!$C$44=\"x\",Urmatrix!BC31,0)","v":0},{"$f":"IF(Entscheidungsfähigkeit!$C$50=\"x\",Urmatrix!BD31,0)","v":0}]
[null,null,null,null,null,null,0,"Peter Bußwolder",{"$f":"IF(Entscheidungsfähigkeit!$C$11=\"x\",Urmatrix!I32,0)","v":0},null,null,{"$f":"IF(Entscheidungsfähigkeit!$C$14=\"x\",Urmatrix!L32,0)","v":0},{"$f":"IF(Entscheidungsfähigkeit!$C$14=\"x\",Urmatrix!M32,0)","v":0},{"$f":"IF(Entscheidungsfähigkeit!$C$17=\"x\",Urmatrix!N32,0)","v":0},null,null,{"$f":"IF(Entscheidungsfähigkeit!$C$20=\"x\",Urmatrix!Q32,0)","v":0},null,null,null,null,null,{"$f":"IF(Entscheidungsfähigkeit!$C$23=\"x\",Urmatrix!W32,0)","v":0},null,{"$f":"IF(Entscheidungsfähigkeit!$C$26=\"x\",Urmatrix!Y32,0)","v":0},null,null,null,{"$f":"IF(Entscheidungsfähigkeit!$C$29=\"x\",Urmatrix!AC32,0)","v":0},null,{"$f":"IF(Entscheidungsfähigkeit!$C$32=\"x\",Urmatrix!AE32,0)","v":0},null,null,null,null,{"$f":"IF(Entscheidungsfähigkeit!$C$35=\"x\",Urmatrix!AJ32,0)","v":0},null,null,null,null,null,{"$f":"IF(Entscheidungsfähigkeit!$C$38=\"x\",Urmatrix!AP32,0)","v":0},null,null,null,{"$f":"IF(Entscheidungsfähigkeit!$C$41=\"x\",Urmatrix!AT32,0)","v":0},null,null,{"$f":"IF(Entscheidungsfähigkeit!$C$44=\"x\",Urmatrix!AW32,0)","v":0},{"$f":"IF(Entscheidungsfähigkeit!$C$44=\"x\",Urmatrix!AX32,0)","v":0},{"$f":"IF(Entscheidungsfähigkeit!$C$44=\"x\",Urmatrix!AY32,0)","v":0},{"$f":"IF(Entscheidungsfähigkeit!$C$44=\"x\",Urmatrix!AZ32,0)","v":0},{"$f":"IF(Entscheidungsfähigkeit!$C$44=\"x\",Urmatrix!BA32,0)","v":0},{"$f":"IF(Entscheidungsfähigkeit!$C$44=\"x\",Urmatrix!BB32,0)","v":0},{"$f":"IF(Entscheidungsfähigkeit!$C$44=\"x\",Urmatrix!BC32,0)","v":0},{"$f":"IF(Entscheidungsfähigkeit!$C$50=\"x\",Urmatrix!BD32,0)","v":0}]
[null,"Verantwortlich","Kommentar/ Beschreibung","Quellen für die weitere Bearbeitung","Dissertationen des GRK","Merkmal Unternehmens-, Anlauf-, und Anlaufzieldimension","Ausprägungen","kein Anlaufmangement geeignet","Planen","Kontrollieren","Eskalieren/ Reagieren","Modellieren","Simulieren","normatives Management","strategisches Management","taktisch/ operatives Management","Stabsstelle des Konzerns","Stabsstelle des Werks","spezialisierte/ fachspezifischer Anlaufmanager","Teil der Projektorganistion des Entwicklungsprojekts"," untersteht der Entwicklung","untersteht der Serie","Aufgaben werden alleine wahrgenommen","Aufgaben werden im Team wahrgenommen","prozessorientiert strukturiert","nach den Objekten/ Kunden (Produkte, Prozesse) strukturiert","regional strukturiert","projektindividuell strukturiert","rein intern","mit Hilfe von externen Experten/ Beratern","Fremdentscheidungs-/ Weisungskompetenz","Richtlinienkompetenz","Kontrollkompetenz","verfahrenskontrolle","Ergebniskonrolle","abteilungsintern","abteilungsübergreifend","werksintern","werksübergreifend","konzernweit","Lieferkette","Termine","Kosten","Produktqualität","Prozessqualität","kontinuierlich","ereignisorientiert - geplant","ereignisorientiert - ungeplant","genaue Projekt-dokumentation","Definition und Entwicklung  von Best Practices","Maßnahmen mit Produktfokussierung","Maßnahmen mit Prozessfokussierung","Maßnahmen mit Netzwerkfokussierung","Maßnahmen mit Organisationsfokussierung","Maßnahmen mit Mitarbeiterfokussierung","Slow Motion","First Volume","Step-by-Step","Dedication"]
["Unternehmensdimensionen",null,null,null,null,"Komplexität der Produktarchitektur","gering",null,{"$f":"IF(Unternehmen!$E$12=\"x\",Urmatrix!I34,0)","v":0},{"$f":"IF(Unternehmen!$E$12=\"x\",Urmatrix!J34,0)","v":0},{"$f":"IF(Unternehmen!$E$12=\"x\",Urmatrix!K34,0)","v":0},{"$f":"IF(Unternehmen!$E$12=\"x\",Urmatrix!L34,0)","v":0},{"$f":"IF(Unternehmen!$E$12=\"x\",Urmatrix!M34,0)","v":0},{"$f":"IF(Unternehmen!$E$12=\"x\",Urmatrix!N34,0)","v":0},{"$f":"IF(Unternehmen!$E$12=\"x\",Urmatrix!O34,0)","v":0},{"$f":"IF(Unternehmen!$E$12=\"x\",Urmatrix!P34,0)","v":0},{"$f":"IF(Unternehmen!$E$12=\"x\",Urmatrix!Q34,0)","v":0},{"$f":"IF(Unternehmen!$E$12=\"x\",Urmatrix!R34,0)","v":0},{"$f":"IF(Unternehmen!$E$12=\"x\",Urmatrix!S34,0)","v":0},{"$f":"IF(Unternehmen!$E$12=\"x\",Urmatrix!T34,0)","v":0},{"$f":"IF(Unternehmen!$E$12=\"x\",Urmatrix!U34,0)","v":0},{"$f":"IF(Unternehmen!$E$12=\"x\",Urmatrix!V34,0)","v":0},{"$f":"IF(Unternehmen!$E$12=\"x\",Urmatrix!W34,0)","v":0},{"$f":"IF(Unternehmen!$E$12=\"x\",Urmatrix!X34,0)","v":0},{"$f":"IF(Unternehmen!$E$12=\"x\",Urmatrix!Y34,0)","v":0},{"$f":"IF(Unternehmen!$E$12=\"x\",Urmatrix!Z34,0)","v":0},{"$f":"IF(Unternehmen!$E$12=\"x\",Urmatrix!AA34,0)","v":0},{"$f":"IF(Unternehmen!$E$12=\"x\",Urmatrix!AB34,0)","v":0},{"$f":"IF(Unternehmen!$E$12=\"x\",Urmatrix!AC34,0)","v":0},{"$f":"IF(Unternehmen!$E$12=\"x\",Urmatrix!AD34,0)","v":0},{"$f":"IF(Unternehmen!$E$12=\"x\",Urmatrix!AE34,0)","v":0},{"$f":"IF(Unternehmen!$E$12=\"x\",Urmatrix!AF34,0)","v":0},{"$f":"IF(Unternehmen!$E$12=\"x\",Urmatrix!AG34,0)","v":0},{"$f":"IF(Unternehmen!$E$12=\"x\",Urmatrix!AH34,0)","v":0},{"$f":"IF(Unternehmen!$E$12=\"x\",Urmatrix!AI34,0)","v":0},{"$f":"IF(Unternehmen!$E$12=\"x\",Urmatrix!AJ34,0)","v":0},{"$f":"IF(Unternehmen!$E$12=\"x\",Urmatrix!AK34,0)","v":0},{"$f":"IF(Unternehmen!$E$12=\"x\",Urmatrix!AL34,0)","v":0},{"$f":"IF(Unternehmen!$E$12=\"x\",Urmatrix!AM34,0)","v":0},{"$f":"IF(Unternehmen!$E$12=\"x\",Urmatrix!AN34,0)","v":0},{"$f":"IF(Unternehmen!$E$12=\"x\",Urmatrix!AO34,0)","v":0},{"$f":"IF(Unternehmen!$E$12=\"x\",Urmatrix!AP34,0)","v":0},{"$f":"IF(Unternehmen!$E$12=\"x\",Urmatrix!AQ34,0)","v":0},{"$f":"IF(Unternehmen!$E$12=\"x\",Urmatrix!AR34,0)","v":0},{"$f":"IF(Unternehmen!$E$12=\"x\",Urmatrix!AS34,0)","v":0},{"$f":"IF(Unternehmen!$E$12=\"x\",Urmatrix!AT34,0)","v":0},{"$f":"IF(Unternehmen!$E$12=\"x\",Urmatrix!AU34,0)","v":0},{"$f":"IF(Unternehmen!$E$12=\"x\",Urmatrix!AV34,0)","v":0},{"$f":"IF(Unternehmen!$E$12=\"x\",Urmatrix!AW34,0)","v":0},{"$f":"IF(Unternehmen!$E$12=\"x\",Urmatrix!AX34,0)","v":0},{"$f":"IF(Unternehmen!$E$12=\"x\",Urmatrix!AY34,0)","v":0},{"$f":"IF(Unternehmen!$E$12=\"x\",Urmatrix!AZ34,0)","v":0},{"$f":"IF(Unternehmen!$E$12=\"x\",Urmatrix!BA34,0)","v":0},{"$f":"IF(Unternehmen!$E$12=\"x\",Urmatrix!BB34,0)","v":0},{"$f":"IF(Unternehmen!$E$12=\"x\",Urmatrix!BC34,0)","v":0},{"$f":"IF(Unternehmen!$E$12=\"x\",Urmatrix!BD34,0)","v":0},{"$f":"IF(Unternehmen!$E$12=\"x\",Urmatrix!BE34,0)","v":0},{"$f":"IF(Unternehmen!$E$12=\"x\",Urmatrix!BF34,0)","v":0},{"$f":"IF(Unternehmen!$E$12=\"x\",Urmatrix!BG34,0)","v":0}]
[null,null,null,null,null,null,"mittel",null,{"$f":"IF(Unternehmen!$Y$12=\"x\",Urmatrix!I35,0)","v":0},{"$f":"IF(Unternehmen!$Y$12=\"x\",Urmatrix!J35,0)","v":0},{"$f":"IF(Unternehmen!$Y$12=\"x\",Urmatrix!K35,0)","v":0},{"$f":"IF(Unternehmen!$Y$12=\"x\",Urmatrix!L35,0)","v":0},{"$f":"IF(Unternehmen!$Y$12=\"x\",Urmatrix!M35,0)","v":0},{"$f":"IF(Unternehmen!$Y$12=\"x\",Urmatrix!N35,0)","v":0},{"$f":"IF(Unternehmen!$Y$12=\"x\",Urmatrix!O35,0)","v":0},{"$f":"IF(Unternehmen!$Y$12=\"x\",Urmatrix!P35,0)","v":0},{"$f":"IF(Unternehmen!$Y$12=\"x\",Urmatrix!Q35,0)","v":0},{"$f":"IF(Unternehmen!$Y$12=\"x\",Urmatrix!R35,0)","v":0},{"$f":"IF(Unternehmen!$Y$12=\"x\",Urmatrix!S35,0)","v":0},{"$f":"IF(Unternehmen!$Y$12=\"x\",Urmatrix!T35,0)","v":0},{"$f":"IF(Unternehmen!$Y$12=\"x\",Urmatrix!U35,0)","v":0},{"$f":"IF(Unternehmen!$Y$12=\"x\",Urmatrix!V35,0)","v":0},{"$f":"IF(Unternehmen!$Y$12=\"x\",Urmatrix!W35,0)","v":0},{"$f":"IF(Unternehmen!$Y$12=\"x\",Urmatrix!X35,0)","v":0},{"$f":"IF(Unternehmen!$Y$12=\"x\",Urmatrix!Y35,0)","v":0},{"$f":"IF(Unternehmen!$Y$12=\"x\",Urmatrix!Z35,0)","v":0},{"$f":"IF(Unternehmen!$Y$12=\"x\",Urmatrix!AA35,0)","v":0},{"$f":"IF(Unternehmen!$Y$12=\"x\",Urmatrix!AB35,0)","v":0},{"$f":"IF(Unternehmen!$Y$12=\"x\",Urmatrix!AC35,0)","v":0},{"$f":"IF(Unternehmen!$Y$12=\"x\",Urmatrix!AD35,0)","v":0},{"$f":"IF(Unternehmen!$Y$12=\"x\",Urmatrix!AE35,0)","v":0},{"$f":"IF(Unternehmen!$Y$12=\"x\",Urmatrix!AF35,0)","v":0},{"$f":"IF(Unternehmen!$Y$12=\"x\",Urmatrix!AG35,0)","v":0},{"$f":"IF(Unternehmen!$Y$12=\"x\",Urmatrix!AH35,0)","v":0},{"$f":"IF(Unternehmen!$Y$12=\"x\",Urmatrix!AI35,0)","v":0},{"$f":"IF(Unternehmen!$Y$12=\"x\",Urmatrix!AJ35,0)","v":0},{"$f":"IF(Unternehmen!$Y$12=\"x\",Urmatrix!AK35,0)","v":0},{"$f":"IF(Unternehmen!$Y$12=\"x\",Urmatrix!AL35,0)","v":0},{"$f":"IF(Unternehmen!$Y$12=\"x\",Urmatrix!AM35,0)","v":0},{"$f":"IF(Unternehmen!$Y$12=\"x\",Urmatrix!AN35,0)","v":0},{"$f":"IF(Unternehmen!$Y$12=\"x\",Urmatrix!AO35,0)","v":0},{"$f":"IF(Unternehmen!$Y$12=\"x\",Urmatrix!AP35,0)","v":0},{"$f":"IF(Unternehmen!$Y$12=\"x\",Urmatrix!AQ35,0)","v":0},{"$f":"IF(Unternehmen!$Y$12=\"x\",Urmatrix!AR35,0)","v":0},{"$f":"IF(Unternehmen!$Y$12=\"x\",Urmatrix!AS35,0)","v":0},{"$f":"IF(Unternehmen!$Y$12=\"x\",Urmatrix!AT35,0)","v":0},{"$f":"IF(Unternehmen!$Y$12=\"x\",Urmatrix!AU35,0)","v":0},{"$f":"IF(Unternehmen!$Y$12=\"x\",Urmatrix!AV35,0)","v":0},{"$f":"IF(Unternehmen!$Y$12=\"x\",Urmatrix!AW35,0)","v":0},{"$f":"IF(Unternehmen!$Y$12=\"x\",Urmatrix!AX35,0)","v":0},{"$f":"IF(Unternehmen!$Y$12=\"x\",Urmatrix!AY35,0)","v":0},{"$f":"IF(Unternehmen!$Y$12=\"x\",Urmatrix!AZ35,0)","v":0},{"$f":"IF(Unternehmen!$Y$12=\"x\",Urmatrix!BA35,0)","v":0},{"$f":"IF(Unternehmen!$Y$12=\"x\",Urmatrix!BB35,0)","v":0},{"$f":"IF(Unternehmen!$Y$12=\"x\",Urmatrix!BC35,0)","v":0},{"$f":"IF(Unternehmen!$Y$12=\"x\",Urmatrix!BD35,0)","v":0},{"$f":"IF(Unternehmen!$Y$12=\"x\",Urmatrix!BE35,0)","v":0},{"$f":"IF(Unternehmen!$Y$12=\"x\",Urmatrix!BF35,0)","v":0},{"$f":"IF(Unternehmen!$Y$12=\"x\",Urmatrix!BG35,0)","v":0}]
[null,null,null,null,null,null,"hoch",null,{"$f":"IF(Unternehmen!$AS$12=\"x\",Urmatrix!I36,0)","v":0},{"$f":"IF(Unternehmen!$AS$12=\"x\",Urmatrix!J36,0)","v":0},{"$f":"IF(Unternehmen!$AS$12=\"x\",Urmatrix!K36,0)","v":0},{"$f":"IF(Unternehmen!$AS$12=\"x\",Urmatrix!L36,0)","v":0},{"$f":"IF(Unternehmen!$AS$12=\"x\",Urmatrix!M36,0)","v":0},{"$f":"IF(Unternehmen!$AS$12=\"x\",Urmatrix!N36,0)","v":0},{"$f":"IF(Unternehmen!$AS$12=\"x\",Urmatrix!O36,0)","v":0},{"$f":"IF(Unternehmen!$AS$12=\"x\",Urmatrix!P36,0)","v":0},{"$f":"IF(Unternehmen!$AS$12=\"x\",Urmatrix!Q36,0)","v":0},{"$f":"IF(Unternehmen!$AS$12=\"x\",Urmatrix!R36,0)","v":0},{"$f":"IF(Unternehmen!$AS$12=\"x\",Urmatrix!S36,0)","v":0},{"$f":"IF(Unternehmen!$AS$12=\"x\",Urmatrix!T36,0)","v":0},{"$f":"IF(Unternehmen!$AS$12=\"x\",Urmatrix!U36,0)","v":0},{"$f":"IF(Unternehmen!$AS$12=\"x\",Urmatrix!V36,0)","v":0},{"$f":"IF(Unternehmen!$AS$12=\"x\",Urmatrix!W36,0)","v":0},{"$f":"IF(Unternehmen!$AS$12=\"x\",Urmatrix!X36,0)","v":0},{"$f":"IF(Unternehmen!$AS$12=\"x\",Urmatrix!Y36,0)","v":0},{"$f":"IF(Unternehmen!$AS$12=\"x\",Urmatrix!Z36,0)","v":0},{"$f":"IF(Unternehmen!$AS$12=\"x\",Urmatrix!AA36,0)","v":0},{"$f":"IF(Unternehmen!$AS$12=\"x\",Urmatrix!AB36,0)","v":0},{"$f":"IF(Unternehmen!$AS$12=\"x\",Urmatrix!AC36,0)","v":0},{"$f":"IF(Unternehmen!$AS$12=\"x\",Urmatrix!AD36,0)","v":0},{"$f":"IF(Unternehmen!$AS$12=\"x\",Urmatrix!AE36,0)","v":0},{"$f":"IF(Unternehmen!$AS$12=\"x\",Urmatrix!AF36,0)","v":0},{"$f":"IF(Unternehmen!$AS$12=\"x\",Urmatrix!AG36,0)","v":0},{"$f":"IF(Unternehmen!$AS$12=\"x\",Urmatrix!AH36,0)","v":0},{"$f":"IF(Unternehmen!$AS$12=\"x\",Urmatrix!AI36,0)","v":0},{"$f":"IF(Unternehmen!$AS$12=\"x\",Urmatrix!AJ36,0)","v":0},{"$f":"IF(Unternehmen!$AS$12=\"x\",Urmatrix!AK36,0)","v":0},{"$f":"IF(Unternehmen!$AS$12=\"x\",Urmatrix!AL36,0)","v":0},{"$f":"IF(Unternehmen!$AS$12=\"x\",Urmatrix!AM36,0)","v":0},{"$f":"IF(Unternehmen!$AS$12=\"x\",Urmatrix!AN36,0)","v":0},{"$f":"IF(Unternehmen!$AS$12=\"x\",Urmatrix!AO36,0)","v":0},{"$f":"IF(Unternehmen!$AS$12=\"x\",Urmatrix!AP36,0)","v":0},{"$f":"IF(Unternehmen!$AS$12=\"x\",Urmatrix!AQ36,0)","v":0},{"$f":"IF(Unternehmen!$AS$12=\"x\",Urmatrix!AR36,0)","v":0},{"$f":"IF(Unternehmen!$AS$12=\"x\",Urmatrix!AS36,0)","v":0},{"$f":"IF(Unternehmen!$AS$12=\"x\",Urmatrix!AT36,0)","v":0},{"$f":"IF(Unternehmen!$AS$12=\"x\",Urmatrix!AU36,0)","v":0},{"$f":"IF(Unternehmen!$AS$12=\"x\",Urmatrix!AV36,0)","v":0},{"$f":"IF(Unternehmen!$AS$12=\"x\",Urmatrix!AW36,0)","v":0},{"$f":"IF(Unternehmen!$AS$12=\"x\",Urmatrix!AX36,0)","v":0},{"$f":"IF(Unternehmen!$AS$12=\"x\",Urmatrix!AY36,0)","v":0},{"$f":"IF(Unternehmen!$AS$12=\"x\",Urmatrix!AZ36,0)","v":0},{"$f":"IF(Unternehmen!$AS$12=\"x\",Urmatrix!BA36,0)","v":0},{"$f":"IF(Unternehmen!$AS$12=\"x\",Urmatrix!BB36,0)","v":0},{"$f":"IF(Unternehmen!$AS$12=\"x\",Urmatrix!BC36,0)","v":0},{"$f":"IF(Unternehmen!$AS$12=\"x\",Urmatrix!BD36,0)","v":0},{"$f":"IF(Unternehmen!$AS$12=\"x\",Urmatrix!BE36,0)","v":0},{"$f":"IF(Unternehmen!$AS$12=\"x\",Urmatrix!BF36,0)","v":0},{"$f":"IF(Unternehmen!$AS$12=\"x\",Urmatrix!BG36,0)","v":0}]
[null,"Stiller",null,null,null,"Sicherheitsrelevanz des Produktes","gering",null,{"$f":"IF(Unternehmen!$E$14=\"x\",Urmatrix!I37,)","v":0},{"$f":"IF(Unternehmen!$E$14=\"x\",Urmatrix!J37,)","v":0},{"$f":"IF(Unternehmen!$E$14=\"x\",Urmatrix!K37,)","v":0},{"$f":"IF(Unternehmen!$E$14=\"x\",Urmatrix!L37,)","v":0},{"$f":"IF(Unternehmen!$E$14=\"x\",Urmatrix!M37,)","v":0},{"$f":"IF(Unternehmen!$E$14=\"x\",Urmatrix!N37,)","v":0},{"$f":"IF(Unternehmen!$E$14=\"x\",Urmatrix!O37,)","v":0},{"$f":"IF(Unternehmen!$E$14=\"x\",Urmatrix!P37,)","v":0},{"$f":"IF(Unternehmen!$E$14=\"x\",Urmatrix!Q37,)","v":0},{"$f":"IF(Unternehmen!$E$14=\"x\",Urmatrix!R37,)","v":0},{"$f":"IF(Unternehmen!$E$14=\"x\",Urmatrix!S37,)","v":0},{"$f":"IF(Unternehmen!$E$14=\"x\",Urmatrix!T37,)","v":0},{"$f":"IF(Unternehmen!$E$14=\"x\",Urmatrix!U37,)","v":0},{"$f":"IF(Unternehmen!$E$14=\"x\",Urmatrix!V37,)","v":0},{"$f":"IF(Unternehmen!$E$14=\"x\",Urmatrix!W37,)","v":0},{"$f":"IF(Unternehmen!$E$14=\"x\",Urmatrix!X37,)","v":0},{"$f":"IF(Unternehmen!$E$14=\"x\",Urmatrix!Y37,)","v":0},{"$f":"IF(Unternehmen!$E$14=\"x\",Urmatrix!Z37,)","v":0},{"$f":"IF(Unternehmen!$E$14=\"x\",Urmatrix!AA37,)","v":0},{"$f":"IF(Unternehmen!$E$14=\"x\",Urmatrix!AB37,)","v":0},{"$f":"IF(Unternehmen!$E$14=\"x\",Urmatrix!AC37,)","v":0},{"$f":"IF(Unternehmen!$E$14=\"x\",Urmatrix!AD37,)","v":0},{"$f":"IF(Unternehmen!$E$14=\"x\",Urmatrix!AE37,)","v":0},{"$f":"IF(Unternehmen!$E$14=\"x\",Urmatrix!AF37,)","v":0},{"$f":"IF(Unternehmen!$E$14=\"x\",Urmatrix!AG37,)","v":0},{"$f":"IF(Unternehmen!$E$14=\"x\",Urmatrix!AH37,)","v":0},{"$f":"IF(Unternehmen!$E$14=\"x\",Urmatrix!AI37,)","v":0},{"$f":"IF(Unternehmen!$E$14=\"x\",Urmatrix!AJ37,)","v":0},{"$f":"IF(Unternehmen!$E$14=\"x\",Urmatrix!AK37,)","v":0},{"$f":"IF(Unternehmen!$E$14=\"x\",Urmatrix!AL37,)","v":0},{"$f":"IF(Unternehmen!$E$14=\"x\",Urmatrix!AM37,)","v":0},{"$f":"IF(Unternehmen!$E$14=\"x\",Urmatrix!AN37,)","v":0},{"$f":"IF(Unternehmen!$E$14=\"x\",Urmatrix!AO37,)","v":0},{"$f":"IF(Unternehmen!$E$14=\"x\",Urmatrix!AP37,)","v":0},{"$f":"IF(Unternehmen!$E$14=\"x\",Urmatrix!AQ37,)","v":0},{"$f":"IF(Unternehmen!$E$14=\"x\",Urmatrix!AR37,)","v":0},{"$f":"IF(Unternehmen!$E$14=\"x\",Urmatrix!AS37,)","v":0},{"$f":"IF(Unternehmen!$E$14=\"x\",Urmatrix!AT37,)","v":0},{"$f":"IF(Unternehmen!$E$14=\"x\",Urmatrix!AU37,)","v":0},{"$f":"IF(Unternehmen!$E$14=\"x\",Urmatrix!AV37,)","v":0},{"$f":"IF(Unternehmen!$E$14=\"x\",Urmatrix!AW37,)","v":0},{"$f":"IF(Unternehmen!$E$14=\"x\",Urmatrix!AX37,)","v":0},{"$f":"IF(Unternehmen!$E$14=\"x\",Urmatrix!AY37,)","v":0},{"$f":"IF(Unternehmen!$E$14=\"x\",Urmatrix!AZ37,)","v":0},{"$f":"IF(Unternehmen!$E$14=\"x\",Urmatrix!BA37,)","v":0},{"$f":"IF(Unternehmen!$E$14=\"x\",Urmatrix!BB37,)","v":0},{"$f":"IF(Unternehmen!$E$14=\"x\",Urmatrix!BC37,)","v":0},{"$f":"IF(Unternehmen!$E$14=\"x\",Urmatrix!BD37,)","v":0},{"$f":"IF(Unternehmen!$E$14=\"x\",Urmatrix!BE37,)","v":0},{"$f":"IF(Unternehmen!$E$14=\"x\",Urmatrix!BF37,)","v":0},{"$f":"IF(Unternehmen!$E$14=\"x\",Urmatrix!BG37,)","v":0}]
[null,null,null,null,null,null,"mittel",null,{"$f":"IF(Unternehmen!$Y$14=\"x\",Urmatrix!I38,)","v":0},{"$f":"IF(Unternehmen!$Y$14=\"x\",Urmatrix!J38,)","v":0},{"$f":"IF(Unternehmen!$Y$14=\"x\",Urmatrix!K38,)","v":0},{"$f":"IF(Unternehmen!$Y$14=\"x\",Urmatrix!L38,)","v":0},{"$f":"IF(Unternehmen!$Y$14=\"x\",Urmatrix!M38,)","v":0},{"$f":"IF(Unternehmen!$Y$14=\"x\",Urmatrix!N38,)","v":0},{"$f":"IF(Unternehmen!$Y$14=\"x\",Urmatrix!O38,)","v":0},{"$f":"IF(Unternehmen!$Y$14=\"x\",Urmatrix!P38,)","v":0},{"$f":"IF(Unternehmen!$Y$14=\"x\",Urmatrix!Q38,)","v":0},{"$f":"IF(Unternehmen!$Y$14=\"x\",Urmatrix!R38,)","v":0},{"$f":"IF(Unternehmen!$Y$14=\"x\",Urmatrix!S38,)","v":0},{"$f":"IF(Unternehmen!$Y$14=\"x\",Urmatrix!T38,)","v":0},{"$f":"IF(Unternehmen!$Y$14=\"x\",Urmatrix!U38,)","v":0},{"$f":"IF(Unternehmen!$Y$14=\"x\",Urmatrix!V38,)","v":0},{"$f":"IF(Unternehmen!$Y$14=\"x\",Urmatrix!W38,)","v":0},{"$f":"IF(Unternehmen!$Y$14=\"x\",Urmatrix!X38,)","v":0},{"$f":"IF(Unternehmen!$Y$14=\"x\",Urmatrix!Y38,)","v":0},{"$f":"IF(Unternehmen!$Y$14=\"x\",Urmatrix!Z38,)","v":0},{"$f":"IF(Unternehmen!$Y$14=\"x\",Urmatrix!AA38,)","v":0},{"$f":"IF(Unternehmen!$Y$14=\"x\",Urmatrix!AB38,)","v":0},{"$f":"IF(Unternehmen!$Y$14=\"x\",Urmatrix!AC38,)","v":0},{"$f":"IF(Unternehmen!$Y$14=\"x\",Urmatrix!AD38,)","v":0},{"$f":"IF(Unternehmen!$Y$14=\"x\",Urmatrix!AE38,)","v":0},{"$f":"IF(Unternehmen!$Y$14=\"x\",Urmatrix!AF38,)","v":0},{"$f":"IF(Unternehmen!$Y$14=\"x\",Urmatrix!AG38,)","v":0},{"$f":"IF(Unternehmen!$Y$14=\"x\",Urmatrix!AH38,)","v":0},{"$f":"IF(Unternehmen!$Y$14=\"x\",Urmatrix!AI38,)","v":0},{"$f":"IF(Unternehmen!$Y$14=\"x\",Urmatrix!AJ38,)","v":0},{"$f":"IF(Unternehmen!$Y$14=\"x\",Urmatrix!AK38,)","v":0},{"$f":"IF(Unternehmen!$Y$14=\"x\",Urmatrix!AL38,)","v":0},{"$f":"IF(Unternehmen!$Y$14=\"x\",Urmatrix!AM38,)","v":0},{"$f":"IF(Unternehmen!$Y$14=\"x\",Urmatrix!AN38,)","v":0},{"$f":"IF(Unternehmen!$Y$14=\"x\",Urmatrix!AO38,)","v":0},{"$f":"IF(Unternehmen!$Y$14=\"x\",Urmatrix!AP38,)","v":0},{"$f":"IF(Unternehmen!$Y$14=\"x\",Urmatrix!AQ38,)","v":0},{"$f":"IF(Unternehmen!$Y$14=\"x\",Urmatrix!AR38,)","v":0},{"$f":"IF(Unternehmen!$Y$14=\"x\",Urmatrix!AS38,)","v":0},{"$f":"IF(Unternehmen!$Y$14=\"x\",Urmatrix!AT38,)","v":0},{"$f":"IF(Unternehmen!$Y$14=\"x\",Urmatrix!AU38,)","v":0},{"$f":"IF(Unternehmen!$Y$14=\"x\",Urmatrix!AV38,)","v":0},{"$f":"IF(Unternehmen!$Y$14=\"x\",Urmatrix!AW38,)","v":0},{"$f":"IF(Unternehmen!$Y$14=\"x\",Urmatrix!AX38,)","v":0},{"$f":"IF(Unternehmen!$Y$14=\"x\",Urmatrix!AY38,)","v":0},{"$f":"IF(Unternehmen!$Y$14=\"x\",Urmatrix!AZ38,)","v":0},{"$f":"IF(Unternehmen!$Y$14=\"x\",Urmatrix!BA38,)","v":0},{"$f":"IF(Unternehmen!$Y$14=\"x\",Urmatrix!BB38,)","v":0},{"$f":"IF(Unternehmen!$Y$14=\"x\",Urmatrix!BC38,)","v":0},{"$f":"IF(Unternehmen!$Y$14=\"x\",Urmatrix!BD38,)","v":0},{"$f":"IF(Unternehmen!$Y$14=\"x\",Urmatrix!BE38,)","v":0},{"$f":"IF(Unternehmen!$Y$14=\"x\",Urmatrix!BF38,)","v":0},{"$f":"IF(Unternehmen!$Y$14=\"x\",Urmatrix!BG38,)","v":0}]
[null,null,null,null,null,null,"hoch",null,{"$f":"IF(Unternehmen!$AS$14=\"x\",Urmatrix!I39,)","v":0},{"$f":"IF(Unternehmen!$AS$14=\"x\",Urmatrix!J39,)","v":0},{"$f":"IF(Unternehmen!$AS$14=\"x\",Urmatrix!K39,)","v":0},{"$f":"IF(Unternehmen!$AS$14=\"x\",Urmatrix!L39,)","v":0},{"$f":"IF(Unternehmen!$AS$14=\"x\",Urmatrix!M39,)","v":0},{"$f":"IF(Unternehmen!$AS$14=\"x\",Urmatrix!N39,)","v":0},{"$f":"IF(Unternehmen!$AS$14=\"x\",Urmatrix!O39,)","v":0},{"$f":"IF(Unternehmen!$AS$14=\"x\",Urmatrix!P39,)","v":0},{"$f":"IF(Unternehmen!$AS$14=\"x\",Urmatrix!Q39,)","v":0},{"$f":"IF(Unternehmen!$AS$14=\"x\",Urmatrix!R39,)","v":0},{"$f":"IF(Unternehmen!$AS$14=\"x\",Urmatrix!S39,)","v":0},{"$f":"IF(Unternehmen!$AS$14=\"x\",Urmatrix!T39,)","v":0},{"$f":"IF(Unternehmen!$AS$14=\"x\",Urmatrix!U39,)","v":0},{"$f":"IF(Unternehmen!$AS$14=\"x\",Urmatrix!V39,)","v":0},{"$f":"IF(Unternehmen!$AS$14=\"x\",Urmatrix!W39,)","v":0},{"$f":"IF(Unternehmen!$AS$14=\"x\",Urmatrix!X39,)","v":0},{"$f":"IF(Unternehmen!$AS$14=\"x\",Urmatrix!Y39,)","v":0},{"$f":"IF(Unternehmen!$AS$14=\"x\",Urmatrix!Z39,)","v":0},{"$f":"IF(Unternehmen!$AS$14=\"x\",Urmatrix!AA39,)","v":0},{"$f":"IF(Unternehmen!$AS$14=\"x\",Urmatrix!AB39,)","v":0},{"$f":"IF(Unternehmen!$AS$14=\"x\",Urmatrix!AC39,)","v":0},{"$f":"IF(Unternehmen!$AS$14=\"x\",Urmatrix!AD39,)","v":0},{"$f":"IF(Unternehmen!$AS$14=\"x\",Urmatrix!AE39,)","v":0},{"$f":"IF(Unternehmen!$AS$14=\"x\",Urmatrix!AF39,)","v":0},{"$f":"IF(Unternehmen!$AS$14=\"x\",Urmatrix!AG39,)","v":0},{"$f":"IF(Unternehmen!$AS$14=\"x\",Urmatrix!AH39,)","v":0},{"$f":"IF(Unternehmen!$AS$14=\"x\",Urmatrix!AI39,)","v":0},{"$f":"IF(Unternehmen!$AS$14=\"x\",Urmatrix!AJ39,)","v":0},{"$f":"IF(Unternehmen!$AS$14=\"x\",Urmatrix!AK39,)","v":0},{"$f":"IF(Unternehmen!$AS$14=\"x\",Urmatrix!AL39,)","v":0},{"$f":"IF(Unternehmen!$AS$14=\"x\",Urmatrix!AM39,)","v":0},{"$f":"IF(Unternehmen!$AS$14=\"x\",Urmatrix!AN39,)","v":0},{"$f":"IF(Unternehmen!$AS$14=\"x\",Urmatrix!AO39,)","v":0},{"$f":"IF(Unternehmen!$AS$14=\"x\",Urmatrix!AP39,)","v":0},{"$f":"IF(Unternehmen!$AS$14=\"x\",Urmatrix!AQ39,)","v":0},{"$f":"IF(Unternehmen!$AS$14=\"x\",Urmatrix!AR39,)","v":0},{"$f":"IF(Unternehmen!$AS$14=\"x\",Urmatrix!AS39,)","v":0},{"$f":"IF(Unternehmen!$AS$14=\"x\",Urmatrix!AT39,)","v":0},{"$f":"IF(Unternehmen!$AS$14=\"x\",Urmatrix!AU39,)","v":0},{"$f":"IF(Unternehmen!$AS$14=\"x\",Urmatrix!AV39,)","v":0},{"$f":"IF(Unternehmen!$AS$14=\"x\",Urmatrix!AW39,)","v":0},{"$f":"IF(Unternehmen!$AS$14=\"x\",Urmatrix!AX39,)","v":0},{"$f":"IF(Unternehmen!$AS$14=\"x\",Urmatrix!AY39,)","v":0},{"$f":"IF(Unternehmen!$AS$14=\"x\",Urmatrix!AZ39,)","v":0},{"$f":"IF(Unternehmen!$AS$14=\"x\",Urmatrix!BA39,)","v":0},{"$f":"IF(Unternehmen!$AS$14=\"x\",Urmatrix!BB39,)","v":0},{"$f":"IF(Unternehmen!$AS$14=\"x\",Urmatrix!BC39,)","v":0},{"$f":"IF(Unternehmen!$AS$14=\"x\",Urmatrix!BD39,)","v":0},{"$f":"IF(Unternehmen!$AS$14=\"x\",Urmatrix!BE39,)","v":0},{"$f":"IF(Unternehmen!$AS$14=\"x\",Urmatrix!BF39,)","v":0},{"$f":"IF(Unternehmen!$AS$14=\"x\",Urmatrix!BG39,)","v":0}]
[null,null,null,null,null,"Art des Produkts","Verbrauchsgüter",null,{"$f":"IF(Unternehmen!$E$16=\"x\",Urmatrix!I40,)","v":0},{"$f":"IF(Unternehmen!$E$16=\"x\",Urmatrix!J40,)","v":0},{"$f":"IF(Unternehmen!$E$16=\"x\",Urmatrix!K40,)","v":0},{"$f":"IF(Unternehmen!$E$16=\"x\",Urmatrix!L40,)","v":0},{"$f":"IF(Unternehmen!$E$16=\"x\",Urmatrix!M40,)","v":0},{"$f":"IF(Unternehmen!$E$16=\"x\",Urmatrix!N40,)","v":0},{"$f":"IF(Unternehmen!$E$16=\"x\",Urmatrix!O40,)","v":0},{"$f":"IF(Unternehmen!$E$16=\"x\",Urmatrix!P40,)","v":0},{"$f":"IF(Unternehmen!$E$16=\"x\",Urmatrix!Q40,)","v":0},{"$f":"IF(Unternehmen!$E$16=\"x\",Urmatrix!R40,)","v":0},{"$f":"IF(Unternehmen!$E$16=\"x\",Urmatrix!S40,)","v":0},{"$f":"IF(Unternehmen!$E$16=\"x\",Urmatrix!T40,)","v":0},{"$f":"IF(Unternehmen!$E$16=\"x\",Urmatrix!U40,)","v":0},{"$f":"IF(Unternehmen!$E$16=\"x\",Urmatrix!V40,)","v":0},{"$f":"IF(Unternehmen!$E$16=\"x\",Urmatrix!W40,)","v":0},{"$f":"IF(Unternehmen!$E$16=\"x\",Urmatrix!X40,)","v":0},{"$f":"IF(Unternehmen!$E$16=\"x\",Urmatrix!Y40,)","v":0},{"$f":"IF(Unternehmen!$E$16=\"x\",Urmatrix!Z40,)","v":0},{"$f":"IF(Unternehmen!$E$16=\"x\",Urmatrix!AA40,)","v":0},{"$f":"IF(Unternehmen!$E$16=\"x\",Urmatrix!AB40,)","v":0},{"$f":"IF(Unternehmen!$E$16=\"x\",Urmatrix!AC40,)","v":0},{"$f":"IF(Unternehmen!$E$16=\"x\",Urmatrix!AD40,)","v":0},{"$f":"IF(Unternehmen!$E$16=\"x\",Urmatrix!AE40,)","v":0},{"$f":"IF(Unternehmen!$E$16=\"x\",Urmatrix!AF40,)","v":0},{"$f":"IF(Unternehmen!$E$16=\"x\",Urmatrix!AG40,)","v":0},{"$f":"IF(Unternehmen!$E$16=\"x\",Urmatrix!AH40,)","v":0},{"$f":"IF(Unternehmen!$E$16=\"x\",Urmatrix!AI40,)","v":0},{"$f":"IF(Unternehmen!$E$16=\"x\",Urmatrix!AJ40,)","v":0},{"$f":"IF(Unternehmen!$E$16=\"x\",Urmatrix!AK40,)","v":0},{"$f":"IF(Unternehmen!$E$16=\"x\",Urmatrix!AL40,)","v":0},{"$f":"IF(Unternehmen!$E$16=\"x\",Urmatrix!AM40,)","v":0},{"$f":"IF(Unternehmen!$E$16=\"x\",Urmatrix!AN40,)","v":0},{"$f":"IF(Unternehmen!$E$16=\"x\",Urmatrix!AO40,)","v":0},{"$f":"IF(Unternehmen!$E$16=\"x\",Urmatrix!AP40,)","v":0},{"$f":"IF(Unternehmen!$E$16=\"x\",Urmatrix!AQ40,)","v":0},{"$f":"IF(Unternehmen!$E$16=\"x\",Urmatrix!AR40,)","v":0},{"$f":"IF(Unternehmen!$E$16=\"x\",Urmatrix!AS40,)","v":0},{"$f":"IF(Unternehmen!$E$16=\"x\",Urmatrix!AT40,)","v":0},{"$f":"IF(Unternehmen!$E$16=\"x\",Urmatrix!AU40,)","v":0},{"$f":"IF(Unternehmen!$E$16=\"x\",Urmatrix!AV40,)","v":0},{"$f":"IF(Unternehmen!$E$16=\"x\",Urmatrix!AW40,)","v":0},{"$f":"IF(Unternehmen!$E$16=\"x\",Urmatrix!AX40,)","v":0},{"$f":"IF(Unternehmen!$E$16=\"x\",Urmatrix!AY40,)","v":0},{"$f":"IF(Unternehmen!$E$16=\"x\",Urmatrix!AZ40,)","v":0},{"$f":"IF(Unternehmen!$E$16=\"x\",Urmatrix!BA40,)","v":0},{"$f":"IF(Unternehmen!$E$16=\"x\",Urmatrix!BB40,)","v":0},{"$f":"IF(Unternehmen!$E$16=\"x\",Urmatrix!BC40,)","v":0},{"$f":"IF(Unternehmen!$E$16=\"x\",Urmatrix!BD40,)","v":0},{"$f":"IF(Unternehmen!$E$16=\"x\",Urmatrix!BE40,)","v":0},{"$f":"IF(Unternehmen!$E$16=\"x\",Urmatrix!BF40,)","v":0},{"$f":"IF(Unternehmen!$E$16=\"x\",Urmatrix!BG40,)","v":0}]
[null,null,null,null,null,null,"kurzlebige Gebrauchsgüter",null,{"$f":"IF(Unternehmen!$Y$16=\"x\",Urmatrix!I41,)","v":0},{"$f":"IF(Unternehmen!$Y$16=\"x\",Urmatrix!J41,)","v":0},{"$f":"IF(Unternehmen!$Y$16=\"x\",Urmatrix!K41,)","v":0},{"$f":"IF(Unternehmen!$Y$16=\"x\",Urmatrix!L41,)","v":0},{"$f":"IF(Unternehmen!$Y$16=\"x\",Urmatrix!M41,)","v":0},{"$f":"IF(Unternehmen!$Y$16=\"x\",Urmatrix!N41,)","v":0},{"$f":"IF(Unternehmen!$Y$16=\"x\",Urmatrix!O41,)","v":0},{"$f":"IF(Unternehmen!$Y$16=\"x\",Urmatrix!P41,)","v":0},{"$f":"IF(Unternehmen!$Y$16=\"x\",Urmatrix!Q41,)","v":0},{"$f":"IF(Unternehmen!$Y$16=\"x\",Urmatrix!R41,)","v":0},{"$f":"IF(Unternehmen!$Y$16=\"x\",Urmatrix!S41,)","v":0},{"$f":"IF(Unternehmen!$Y$16=\"x\",Urmatrix!T41,)","v":0},{"$f":"IF(Unternehmen!$Y$16=\"x\",Urmatrix!U41,)","v":0},{"$f":"IF(Unternehmen!$Y$16=\"x\",Urmatrix!V41,)","v":0},{"$f":"IF(Unternehmen!$Y$16=\"x\",Urmatrix!W41,)","v":0},{"$f":"IF(Unternehmen!$Y$16=\"x\",Urmatrix!X41,)","v":0},{"$f":"IF(Unternehmen!$Y$16=\"x\",Urmatrix!Y41,)","v":0},{"$f":"IF(Unternehmen!$Y$16=\"x\",Urmatrix!Z41,)","v":0},{"$f":"IF(Unternehmen!$Y$16=\"x\",Urmatrix!AA41,)","v":0},{"$f":"IF(Unternehmen!$Y$16=\"x\",Urmatrix!AB41,)","v":0},{"$f":"IF(Unternehmen!$Y$16=\"x\",Urmatrix!AC41,)","v":0},{"$f":"IF(Unternehmen!$Y$16=\"x\",Urmatrix!AD41,)","v":0},{"$f":"IF(Unternehmen!$Y$16=\"x\",Urmatrix!AE41,)","v":0},{"$f":"IF(Unternehmen!$Y$16=\"x\",Urmatrix!AF41,)","v":0},{"$f":"IF(Unternehmen!$Y$16=\"x\",Urmatrix!AG41,)","v":0},{"$f":"IF(Unternehmen!$Y$16=\"x\",Urmatrix!AH41,)","v":0},{"$f":"IF(Unternehmen!$Y$16=\"x\",Urmatrix!AI41,)","v":0},{"$f":"IF(Unternehmen!$Y$16=\"x\",Urmatrix!AJ41,)","v":0},{"$f":"IF(Unternehmen!$Y$16=\"x\",Urmatrix!AK41,)","v":0},{"$f":"IF(Unternehmen!$Y$16=\"x\",Urmatrix!AL41,)","v":0},{"$f":"IF(Unternehmen!$Y$16=\"x\",Urmatrix!AM41,)","v":0},{"$f":"IF(Unternehmen!$Y$16=\"x\",Urmatrix!AN41,)","v":0},{"$f":"IF(Unternehmen!$Y$16=\"x\",Urmatrix!AO41,)","v":0},{"$f":"IF(Unternehmen!$Y$16=\"x\",Urmatrix!AP41,)","v":0},{"$f":"IF(Unternehmen!$Y$16=\"x\",Urmatrix!AQ41,)","v":0},{"$f":"IF(Unternehmen!$Y$16=\"x\",Urmatrix!AR41,)","v":0},{"$f":"IF(Unternehmen!$Y$16=\"x\",Urmatrix!AS41,)","v":0},{"$f":"IF(Unternehmen!$Y$16=\"x\",Urmatrix!AT41,)","v":0},{"$f":"IF(Unternehmen!$Y$16=\"x\",Urmatrix!AU41,)","v":0},{"$f":"IF(Unternehmen!$Y$16=\"x\",Urmatrix!AV41,)","v":0},{"$f":"IF(Unternehmen!$Y$16=\"x\",Urmatrix!AW41,)","v":0},{"$f":"IF(Unternehmen!$Y$16=\"x\",Urmatrix!AX41,)","v":0},{"$f":"IF(Unternehmen!$Y$16=\"x\",Urmatrix!AY41,)","v":0},{"$f":"IF(Unternehmen!$Y$16=\"x\",Urmatrix!AZ41,)","v":0},{"$f":"IF(Unternehmen!$Y$16=\"x\",Urmatrix!BA41,)","v":0},{"$f":"IF(Unternehmen!$Y$16=\"x\",Urmatrix!BB41,)","v":0},{"$f":"IF(Unternehmen!$Y$16=\"x\",Urmatrix!BC41,)","v":0},{"$f":"IF(Unternehmen!$Y$16=\"x\",Urmatrix!BD41,)","v":0},{"$f":"IF(Unternehmen!$Y$16=\"x\",Urmatrix!BE41,)","v":0},{"$f":"IF(Unternehmen!$Y$16=\"x\",Urmatrix!BF41,)","v":0},{"$f":"IF(Unternehmen!$Y$16=\"x\",Urmatrix!BG41,)","v":0}]
[null,null,null,null,null,null,"langlebige Gebrauchsgüter",null,{"$f":"IF(Unternehmen!$AS$16=\"x\",Urmatrix!I42,)","v":0},{"$f":"IF(Unternehmen!$AS$16=\"x\",Urmatrix!J42,)","v":0},{"$f":"IF(Unternehmen!$AS$16=\"x\",Urmatrix!K42,)","v":0},{"$f":"IF(Unternehmen!$AS$16=\"x\",Urmatrix!L42,)","v":0},{"$f":"IF(Unternehmen!$AS$16=\"x\",Urmatrix!M42,)","v":0},{"$f":"IF(Unternehmen!$AS$16=\"x\",Urmatrix!N42,)","v":0},{"$f":"IF(Unternehmen!$AS$16=\"x\",Urmatrix!O42,)","v":0},{"$f":"IF(Unternehmen!$AS$16=\"x\",Urmatrix!P42,)","v":0},{"$f":"IF(Unternehmen!$AS$16=\"x\",Urmatrix!Q42,)","v":0},{"$f":"IF(Unternehmen!$AS$16=\"x\",Urmatrix!R42,)","v":0},{"$f":"IF(Unternehmen!$AS$16=\"x\",Urmatrix!S42,)","v":0},{"$f":"IF(Unternehmen!$AS$16=\"x\",Urmatrix!T42,)","v":0},{"$f":"IF(Unternehmen!$AS$16=\"x\",Urmatrix!U42,)","v":0},{"$f":"IF(Unternehmen!$AS$16=\"x\",Urmatrix!V42,)","v":0},{"$f":"IF(Unternehmen!$AS$16=\"x\",Urmatrix!W42,)","v":0},{"$f":"IF(Unternehmen!$AS$16=\"x\",Urmatrix!X42,)","v":0},{"$f":"IF(Unternehmen!$AS$16=\"x\",Urmatrix!Y42,)","v":0},{"$f":"IF(Unternehmen!$AS$16=\"x\",Urmatrix!Z42,)","v":0},{"$f":"IF(Unternehmen!$AS$16=\"x\",Urmatrix!AA42,)","v":0},{"$f":"IF(Unternehmen!$AS$16=\"x\",Urmatrix!AB42,)","v":0},{"$f":"IF(Unternehmen!$AS$16=\"x\",Urmatrix!AC42,)","v":0},{"$f":"IF(Unternehmen!$AS$16=\"x\",Urmatrix!AD42,)","v":0},{"$f":"IF(Unternehmen!$AS$16=\"x\",Urmatrix!AE42,)","v":0},{"$f":"IF(Unternehmen!$AS$16=\"x\",Urmatrix!AF42,)","v":0},{"$f":"IF(Unternehmen!$AS$16=\"x\",Urmatrix!AG42,)","v":0},{"$f":"IF(Unternehmen!$AS$16=\"x\",Urmatrix!AH42,)","v":0},{"$f":"IF(Unternehmen!$AS$16=\"x\",Urmatrix!AI42,)","v":0},{"$f":"IF(Unternehmen!$AS$16=\"x\",Urmatrix!AJ42,)","v":0},{"$f":"IF(Unternehmen!$AS$16=\"x\",Urmatrix!AK42,)","v":0},{"$f":"IF(Unternehmen!$AS$16=\"x\",Urmatrix!AL42,)","v":0},{"$f":"IF(Unternehmen!$AS$16=\"x\",Urmatrix!AM42,)","v":0},{"$f":"IF(Unternehmen!$AS$16=\"x\",Urmatrix!AN42,)","v":0},{"$f":"IF(Unternehmen!$AS$16=\"x\",Urmatrix!AO42,)","v":0},{"$f":"IF(Unternehmen!$AS$16=\"x\",Urmatrix!AP42,)","v":0},{"$f":"IF(Unternehmen!$AS$16=\"x\",Urmatrix!AQ42,)","v":0},{"$f":"IF(Unternehmen!$AS$16=\"x\",Urmatrix!AR42,)","v":0},{"$f":"IF(Unternehmen!$AS$16=\"x\",Urmatrix!AS42,)","v":0},{"$f":"IF(Unternehmen!$AS$16=\"x\",Urmatrix!AT42,)","v":0},{"$f":"IF(Unternehmen!$AS$16=\"x\",Urmatrix!AU42,)","v":0},{"$f":"IF(Unternehmen!$AS$16=\"x\",Urmatrix!AV42,)","v":0},{"$f":"IF(Unternehmen!$AS$16=\"x\",Urmatrix!AW42,)","v":0},{"$f":"IF(Unternehmen!$AS$16=\"x\",Urmatrix!AX42,)","v":0},{"$f":"IF(Unternehmen!$AS$16=\"x\",Urmatrix!AY42,)","v":0},{"$f":"IF(Unternehmen!$AS$16=\"x\",Urmatrix!AZ42,)","v":0},{"$f":"IF(Unternehmen!$AS$16=\"x\",Urmatrix!BA42,)","v":0},{"$f":"IF(Unternehmen!$AS$16=\"x\",Urmatrix!BB42,)","v":0},{"$f":"IF(Unternehmen!$AS$16=\"x\",Urmatrix!BC42,)","v":0},{"$f":"IF(Unternehmen!$AS$16=\"x\",Urmatrix!BD42,)","v":0},{"$f":"IF(Unternehmen!$AS$16=\"x\",Urmatrix!BE42,)","v":0},{"$f":"IF(Unternehmen!$AS$16=\"x\",Urmatrix!BF42,)","v":0},{"$f":"IF(Unternehmen!$AS$16=\"x\",Urmatrix!BG42,)","v":0}]
[null,"Stiller",null,null,null,"geplanter Umsatzanteil","gering",null,{"$f":"IF(Unternehmen!$E$18=\"x\",Urmatrix!I43,)","v":0},{"$f":"IF(Unternehmen!$E$18=\"x\",Urmatrix!J43,)","v":0},{"$f":"IF(Unternehmen!$E$18=\"x\",Urmatrix!K43,)","v":0},{"$f":"IF(Unternehmen!$E$18=\"x\",Urmatrix!L43,)","v":0},{"$f":"IF(Unternehmen!$E$18=\"x\",Urmatrix!M43,)","v":0},{"$f":"IF(Unternehmen!$E$18=\"x\",Urmatrix!N43,)","v":0},{"$f":"IF(Unternehmen!$E$18=\"x\",Urmatrix!O43,)","v":0},{"$f":"IF(Unternehmen!$E$18=\"x\",Urmatrix!P43,)","v":0},{"$f":"IF(Unternehmen!$E$18=\"x\",Urmatrix!Q43,)","v":0},{"$f":"IF(Unternehmen!$E$18=\"x\",Urmatrix!R43,)","v":0},{"$f":"IF(Unternehmen!$E$18=\"x\",Urmatrix!S43,)","v":0},{"$f":"IF(Unternehmen!$E$18=\"x\",Urmatrix!T43,)","v":0},{"$f":"IF(Unternehmen!$E$18=\"x\",Urmatrix!U43,)","v":0},{"$f":"IF(Unternehmen!$E$18=\"x\",Urmatrix!V43,)","v":0},{"$f":"IF(Unternehmen!$E$18=\"x\",Urmatrix!W43,)","v":0},{"$f":"IF(Unternehmen!$E$18=\"x\",Urmatrix!X43,)","v":0},{"$f":"IF(Unternehmen!$E$18=\"x\",Urmatrix!Y43,)","v":0},{"$f":"IF(Unternehmen!$E$18=\"x\",Urmatrix!Z43,)","v":0},{"$f":"IF(Unternehmen!$E$18=\"x\",Urmatrix!AA43,)","v":0},{"$f":"IF(Unternehmen!$E$18=\"x\",Urmatrix!AB43,)","v":0},{"$f":"IF(Unternehmen!$E$18=\"x\",Urmatrix!AC43,)","v":0},{"$f":"IF(Unternehmen!$E$18=\"x\",Urmatrix!AD43,)","v":0},{"$f":"IF(Unternehmen!$E$18=\"x\",Urmatrix!AE43,)","v":0},{"$f":"IF(Unternehmen!$E$18=\"x\",Urmatrix!AF43,)","v":0},{"$f":"IF(Unternehmen!$E$18=\"x\",Urmatrix!AG43,)","v":0},{"$f":"IF(Unternehmen!$E$18=\"x\",Urmatrix!AH43,)","v":0},{"$f":"IF(Unternehmen!$E$18=\"x\",Urmatrix!AI43,)","v":0},{"$f":"IF(Unternehmen!$E$18=\"x\",Urmatrix!AJ43,)","v":0},{"$f":"IF(Unternehmen!$E$18=\"x\",Urmatrix!AK43,)","v":0},{"$f":"IF(Unternehmen!$E$18=\"x\",Urmatrix!AL43,)","v":0},{"$f":"IF(Unternehmen!$E$18=\"x\",Urmatrix!AM43,)","v":0},{"$f":"IF(Unternehmen!$E$18=\"x\",Urmatrix!AN43,)","v":0},{"$f":"IF(Unternehmen!$E$18=\"x\",Urmatrix!AO43,)","v":0},{"$f":"IF(Unternehmen!$E$18=\"x\",Urmatrix!AP43,)","v":0},{"$f":"IF(Unternehmen!$E$18=\"x\",Urmatrix!AQ43,)","v":0},{"$f":"IF(Unternehmen!$E$18=\"x\",Urmatrix!AR43,)","v":0},{"$f":"IF(Unternehmen!$E$18=\"x\",Urmatrix!AS43,)","v":0},{"$f":"IF(Unternehmen!$E$18=\"x\",Urmatrix!AT43,)","v":0},{"$f":"IF(Unternehmen!$E$18=\"x\",Urmatrix!AU43,)","v":0},{"$f":"IF(Unternehmen!$E$18=\"x\",Urmatrix!AV43,)","v":0},{"$f":"IF(Unternehmen!$E$18=\"x\",Urmatrix!AW43,)","v":0},{"$f":"IF(Unternehmen!$E$18=\"x\",Urmatrix!AX43,)","v":0},{"$f":"IF(Unternehmen!$E$18=\"x\",Urmatrix!AY43,)","v":0},{"$f":"IF(Unternehmen!$E$18=\"x\",Urmatrix!AZ43,)","v":0},{"$f":"IF(Unternehmen!$E$18=\"x\",Urmatrix!BA43,)","v":0},{"$f":"IF(Unternehmen!$E$18=\"x\",Urmatrix!BB43,)","v":0},{"$f":"IF(Unternehmen!$E$18=\"x\",Urmatrix!BC43,)","v":0},{"$f":"IF(Unternehmen!$E$18=\"x\",Urmatrix!BD43,)","v":0},{"$f":"IF(Unternehmen!$E$18=\"x\",Urmatrix!BE43,)","v":0},{"$f":"IF(Unternehmen!$E$18=\"x\",Urmatrix!BF43,)","v":0},{"$f":"IF(Unternehmen!$E$18=\"x\",Urmatrix!BG43,)","v":0}]
[null,null,null,null,null,null,"mittel",null,{"$f":"IF(Unternehmen!$Y$18=\"x\",Urmatrix!I44,)","v":0},{"$f":"IF(Unternehmen!$Y$18=\"x\",Urmatrix!J44,)","v":0},{"$f":"IF(Unternehmen!$Y$18=\"x\",Urmatrix!K44,)","v":0},{"$f":"IF(Unternehmen!$Y$18=\"x\",Urmatrix!L44,)","v":0},{"$f":"IF(Unternehmen!$Y$18=\"x\",Urmatrix!M44,)","v":0},{"$f":"IF(Unternehmen!$Y$18=\"x\",Urmatrix!N44,)","v":0},{"$f":"IF(Unternehmen!$Y$18=\"x\",Urmatrix!O44,)","v":0},{"$f":"IF(Unternehmen!$Y$18=\"x\",Urmatrix!P44,)","v":0},{"$f":"IF(Unternehmen!$Y$18=\"x\",Urmatrix!Q44,)","v":0},{"$f":"IF(Unternehmen!$Y$18=\"x\",Urmatrix!R44,)","v":0},{"$f":"IF(Unternehmen!$Y$18=\"x\",Urmatrix!S44,)","v":0},{"$f":"IF(Unternehmen!$Y$18=\"x\",Urmatrix!T44,)","v":0},{"$f":"IF(Unternehmen!$Y$18=\"x\",Urmatrix!U44,)","v":0},{"$f":"IF(Unternehmen!$Y$18=\"x\",Urmatrix!V44,)","v":0},{"$f":"IF(Unternehmen!$Y$18=\"x\",Urmatrix!W44,)","v":0},{"$f":"IF(Unternehmen!$Y$18=\"x\",Urmatrix!X44,)","v":0},{"$f":"IF(Unternehmen!$Y$18=\"x\",Urmatrix!Y44,)","v":0},{"$f":"IF(Unternehmen!$Y$18=\"x\",Urmatrix!Z44,)","v":0},{"$f":"IF(Unternehmen!$Y$18=\"x\",Urmatrix!AA44,)","v":0},{"$f":"IF(Unternehmen!$Y$18=\"x\",Urmatrix!AB44,)","v":0},{"$f":"IF(Unternehmen!$Y$18=\"x\",Urmatrix!AC44,)","v":0},{"$f":"IF(Unternehmen!$Y$18=\"x\",Urmatrix!AD44,)","v":0},{"$f":"IF(Unternehmen!$Y$18=\"x\",Urmatrix!AE44,)","v":0},{"$f":"IF(Unternehmen!$Y$18=\"x\",Urmatrix!AF44,)","v":0},{"$f":"IF(Unternehmen!$Y$18=\"x\",Urmatrix!AG44,)","v":0},{"$f":"IF(Unternehmen!$Y$18=\"x\",Urmatrix!AH44,)","v":0},{"$f":"IF(Unternehmen!$Y$18=\"x\",Urmatrix!AI44,)","v":0},{"$f":"IF(Unternehmen!$Y$18=\"x\",Urmatrix!AJ44,)","v":0},{"$f":"IF(Unternehmen!$Y$18=\"x\",Urmatrix!AK44,)","v":0},{"$f":"IF(Unternehmen!$Y$18=\"x\",Urmatrix!AL44,)","v":0},{"$f":"IF(Unternehmen!$Y$18=\"x\",Urmatrix!AM44,)","v":0},{"$f":"IF(Unternehmen!$Y$18=\"x\",Urmatrix!AN44,)","v":0},{"$f":"IF(Unternehmen!$Y$18=\"x\",Urmatrix!AO44,)","v":0},{"$f":"IF(Unternehmen!$Y$18=\"x\",Urmatrix!AP44,)","v":0},{"$f":"IF(Unternehmen!$Y$18=\"x\",Urmatrix!AQ44,)","v":0},{"$f":"IF(Unternehmen!$Y$18=\"x\",Urmatrix!AR44,)","v":0},{"$f":"IF(Unternehmen!$Y$18=\"x\",Urmatrix!AS44,)","v":0},{"$f":"IF(Unternehmen!$Y$18=\"x\",Urmatrix!AT44,)","v":0},{"$f":"IF(Unternehmen!$Y$18=\"x\",Urmatrix!AU44,)","v":0},{"$f":"IF(Unternehmen!$Y$18=\"x\",Urmatrix!AV44,)","v":0},{"$f":"IF(Unternehmen!$Y$18=\"x\",Urmatrix!AW44,)","v":0},{"$f":"IF(Unternehmen!$Y$18=\"x\",Urmatrix!AX44,)","v":0},{"$f":"IF(Unternehmen!$Y$18=\"x\",Urmatrix!AY44,)","v":0},{"$f":"IF(Unternehmen!$Y$18=\"x\",Urmatrix!AZ44,)","v":0},{"$f":"IF(Unternehmen!$Y$18=\"x\",Urmatrix!BA44,)","v":0},{"$f":"IF(Unternehmen!$Y$18=\"x\",Urmatrix!BB44,)","v":0},{"$f":"IF(Unternehmen!$Y$18=\"x\",Urmatrix!BC44,)","v":0},{"$f":"IF(Unternehmen!$Y$18=\"x\",Urmatrix!BD44,)","v":0},{"$f":"IF(Unternehmen!$Y$18=\"x\",Urmatrix!BE44,)","v":0},{"$f":"IF(Unternehmen!$Y$18=\"x\",Urmatrix!BF44,)","v":0},{"$f":"IF(Unternehmen!$Y$18=\"x\",Urmatrix!BG44,)","v":0}]
[null,null,null,null,null,null,"hoch",null,{"$f":"IF(Unternehmen!$AS$18=\"x\",Urmatrix!I45,)","v":0},{"$f":"IF(Unternehmen!$AS$18=\"x\",Urmatrix!J45,)","v":0},{"$f":"IF(Unternehmen!$AS$18=\"x\",Urmatrix!K45,)","v":0},{"$f":"IF(Unternehmen!$AS$18=\"x\",Urmatrix!L45,)","v":0},{"$f":"IF(Unternehmen!$AS$18=\"x\",Urmatrix!M45,)","v":0},{"$f":"IF(Unternehmen!$AS$18=\"x\",Urmatrix!N45,)","v":0},{"$f":"IF(Unternehmen!$AS$18=\"x\",Urmatrix!O45,)","v":0},{"$f":"IF(Unternehmen!$AS$18=\"x\",Urmatrix!P45,)","v":0},{"$f":"IF(Unternehmen!$AS$18=\"x\",Urmatrix!Q45,)","v":0},{"$f":"IF(Unternehmen!$AS$18=\"x\",Urmatrix!R45,)","v":0},{"$f":"IF(Unternehmen!$AS$18=\"x\",Urmatrix!S45,)","v":0},{"$f":"IF(Unternehmen!$AS$18=\"x\",Urmatrix!T45,)","v":0},{"$f":"IF(Unternehmen!$AS$18=\"x\",Urmatrix!U45,)","v":0},{"$f":"IF(Unternehmen!$AS$18=\"x\",Urmatrix!V45,)","v":0},{"$f":"IF(Unternehmen!$AS$18=\"x\",Urmatrix!W45,)","v":0},{"$f":"IF(Unternehmen!$AS$18=\"x\",Urmatrix!X45,)","v":0},{"$f":"IF(Unternehmen!$AS$18=\"x\",Urmatrix!Y45,)","v":0},{"$f":"IF(Unternehmen!$AS$18=\"x\",Urmatrix!Z45,)","v":0},{"$f":"IF(Unternehmen!$AS$18=\"x\",Urmatrix!AA45,)","v":0},{"$f":"IF(Unternehmen!$AS$18=\"x\",Urmatrix!AB45,)","v":0},{"$f":"IF(Unternehmen!$AS$18=\"x\",Urmatrix!AC45,)","v":0},{"$f":"IF(Unternehmen!$AS$18=\"x\",Urmatrix!AD45,)","v":0},{"$f":"IF(Unternehmen!$AS$18=\"x\",Urmatrix!AE45,)","v":0},{"$f":"IF(Unternehmen!$AS$18=\"x\",Urmatrix!AF45,)","v":0},{"$f":"IF(Unternehmen!$AS$18=\"x\",Urmatrix!AG45,)","v":0},{"$f":"IF(Unternehmen!$AS$18=\"x\",Urmatrix!AH45,)","v":0},{"$f":"IF(Unternehmen!$AS$18=\"x\",Urmatrix!AI45,)","v":0},{"$f":"IF(Unternehmen!$AS$18=\"x\",Urmatrix!AJ45,)","v":0},{"$f":"IF(Unternehmen!$AS$18=\"x\",Urmatrix!AK45,)","v":0},{"$f":"IF(Unternehmen!$AS$18=\"x\",Urmatrix!AL45,)","v":0},{"$f":"IF(Unternehmen!$AS$18=\"x\",Urmatrix!AM45,)","v":0},{"$f":"IF(Unternehmen!$AS$18=\"x\",Urmatrix!AN45,)","v":0},{"$f":"IF(Unternehmen!$AS$18=\"x\",Urmatrix!AO45,)","v":0},{"$f":"IF(Unternehmen!$AS$18=\"x\",Urmatrix!AP45,)","v":0},{"$f":"IF(Unternehmen!$AS$18=\"x\",Urmatrix!AQ45,)","v":0},{"$f":"IF(Unternehmen!$AS$18=\"x\",Urmatrix!AR45,)","v":0},{"$f":"IF(Unternehmen!$AS$18=\"x\",Urmatrix!AS45,)","v":0},{"$f":"IF(Unternehmen!$AS$18=\"x\",Urmatrix!AT45,)","v":0},{"$f":"IF(Unternehmen!$AS$18=\"x\",Urmatrix!AU45,)","v":0},{"$f":"IF(Unternehmen!$AS$18=\"x\",Urmatrix!AV45,)","v":0},{"$f":"IF(Unternehmen!$AS$18=\"x\",Urmatrix!AW45,)","v":0},{"$f":"IF(Unternehmen!$AS$18=\"x\",Urmatrix!AX45,)","v":0},{"$f":"IF(Unternehmen!$AS$18=\"x\",Urmatrix!AY45,)","v":0},{"$f":"IF(Unternehmen!$AS$18=\"x\",Urmatrix!AZ45,)","v":0},{"$f":"IF(Unternehmen!$AS$18=\"x\",Urmatrix!BA45,)","v":0},{"$f":"IF(Unternehmen!$AS$18=\"x\",Urmatrix!BB45,)","v":0},{"$f":"IF(Unternehmen!$AS$18=\"x\",Urmatrix!BC45,)","v":0},{"$f":"IF(Unternehmen!$AS$18=\"x\",Urmatrix!BD45,)","v":0},{"$f":"IF(Unternehmen!$AS$18=\"x\",Urmatrix!BE45,)","v":0},{"$f":"IF(Unternehmen!$AS$18=\"x\",Urmatrix!BF45,)","v":0},{"$f":"IF(Unternehmen!$AS$18=\"x\",Urmatrix!BG45,)","v":0}]
[null,null,null,null,null,"Anzahl gefertigter Produkte pro Jahr","< 100",null,{"$f":"IF(Unternehmen!$E$20=\"x\",Urmatrix!I46,)","v":0},{"$f":"IF(Unternehmen!$E$20=\"x\",Urmatrix!J46,)","v":0},{"$f":"IF(Unternehmen!$E$20=\"x\",Urmatrix!K46,)","v":0},{"$f":"IF(Unternehmen!$E$20=\"x\",Urmatrix!L46,)","v":0},{"$f":"IF(Unternehmen!$E$20=\"x\",Urmatrix!M46,)","v":0},{"$f":"IF(Unternehmen!$E$20=\"x\",Urmatrix!N46,)","v":0},{"$f":"IF(Unternehmen!$E$20=\"x\",Urmatrix!O46,)","v":0},{"$f":"IF(Unternehmen!$E$20=\"x\",Urmatrix!P46,)","v":0},{"$f":"IF(Unternehmen!$E$20=\"x\",Urmatrix!Q46,)","v":0},{"$f":"IF(Unternehmen!$E$20=\"x\",Urmatrix!R46,)","v":0},{"$f":"IF(Unternehmen!$E$20=\"x\",Urmatrix!S46,)","v":0},{"$f":"IF(Unternehmen!$E$20=\"x\",Urmatrix!T46,)","v":0},{"$f":"IF(Unternehmen!$E$20=\"x\",Urmatrix!U46,)","v":0},{"$f":"IF(Unternehmen!$E$20=\"x\",Urmatrix!V46,)","v":0},{"$f":"IF(Unternehmen!$E$20=\"x\",Urmatrix!W46,)","v":0},{"$f":"IF(Unternehmen!$E$20=\"x\",Urmatrix!X46,)","v":0},{"$f":"IF(Unternehmen!$E$20=\"x\",Urmatrix!Y46,)","v":0},{"$f":"IF(Unternehmen!$E$20=\"x\",Urmatrix!Z46,)","v":0},{"$f":"IF(Unternehmen!$E$20=\"x\",Urmatrix!AA46,)","v":0},{"$f":"IF(Unternehmen!$E$20=\"x\",Urmatrix!AB46,)","v":0},{"$f":"IF(Unternehmen!$E$20=\"x\",Urmatrix!AC46,)","v":0},{"$f":"IF(Unternehmen!$E$20=\"x\",Urmatrix!AD46,)","v":0},{"$f":"IF(Unternehmen!$E$20=\"x\",Urmatrix!AE46,)","v":0},{"$f":"IF(Unternehmen!$E$20=\"x\",Urmatrix!AF46,)","v":0},{"$f":"IF(Unternehmen!$E$20=\"x\",Urmatrix!AG46,)","v":0},{"$f":"IF(Unternehmen!$E$20=\"x\",Urmatrix!AH46,)","v":0},{"$f":"IF(Unternehmen!$E$20=\"x\",Urmatrix!AI46,)","v":0},{"$f":"IF(Unternehmen!$E$20=\"x\",Urmatrix!AJ46,)","v":0},{"$f":"IF(Unternehmen!$E$20=\"x\",Urmatrix!AK46,)","v":0},{"$f":"IF(Unternehmen!$E$20=\"x\",Urmatrix!AL46,)","v":0},{"$f":"IF(Unternehmen!$E$20=\"x\",Urmatrix!AM46,)","v":0},{"$f":"IF(Unternehmen!$E$20=\"x\",Urmatrix!AN46,)","v":0},{"$f":"IF(Unternehmen!$E$20=\"x\",Urmatrix!AO46,)","v":0},{"$f":"IF(Unternehmen!$E$20=\"x\",Urmatrix!AP46,)","v":0},{"$f":"IF(Unternehmen!$E$20=\"x\",Urmatrix!AQ46,)","v":0},{"$f":"IF(Unternehmen!$E$20=\"x\",Urmatrix!AR46,)","v":0},{"$f":"IF(Unternehmen!$E$20=\"x\",Urmatrix!AS46,)","v":0},{"$f":"IF(Unternehmen!$E$20=\"x\",Urmatrix!AT46,)","v":0},{"$f":"IF(Unternehmen!$E$20=\"x\",Urmatrix!AU46,)","v":0},{"$f":"IF(Unternehmen!$E$20=\"x\",Urmatrix!AV46,)","v":0},{"$f":"IF(Unternehmen!$E$20=\"x\",Urmatrix!AW46,)","v":0},{"$f":"IF(Unternehmen!$E$20=\"x\",Urmatrix!AX46,)","v":0},{"$f":"IF(Unternehmen!$E$20=\"x\",Urmatrix!AY46,)","v":0},{"$f":"IF(Unternehmen!$E$20=\"x\",Urmatrix!AZ46,)","v":0},{"$f":"IF(Unternehmen!$E$20=\"x\",Urmatrix!BA46,)","v":0},{"$f":"IF(Unternehmen!$E$20=\"x\",Urmatrix!BB46,)","v":0},{"$f":"IF(Unternehmen!$E$20=\"x\",Urmatrix!BC46,)","v":0},{"$f":"IF(Unternehmen!$E$20=\"x\",Urmatrix!BD46,)","v":0},{"$f":"IF(Unternehmen!$E$20=\"x\",Urmatrix!BE46,)","v":0},{"$f":"IF(Unternehmen!$E$20=\"x\",Urmatrix!BF46,)","v":0},{"$f":"IF(Unternehmen!$E$20=\"x\",Urmatrix!BG46,)","v":0}]
[null,null,null,null,null,null,"100 - 9999",null,{"$f":"IF(Unternehmen!$T$20=\"x\",Urmatrix!I47,)","v":0},{"$f":"IF(Unternehmen!$T$20=\"x\",Urmatrix!J47,)","v":0},{"$f":"IF(Unternehmen!$T$20=\"x\",Urmatrix!K47,)","v":0},{"$f":"IF(Unternehmen!$T$20=\"x\",Urmatrix!L47,)","v":0},{"$f":"IF(Unternehmen!$T$20=\"x\",Urmatrix!M47,)","v":0},{"$f":"IF(Unternehmen!$T$20=\"x\",Urmatrix!N47,)","v":0},{"$f":"IF(Unternehmen!$T$20=\"x\",Urmatrix!O47,)","v":0},{"$f":"IF(Unternehmen!$T$20=\"x\",Urmatrix!P47,)","v":0},{"$f":"IF(Unternehmen!$T$20=\"x\",Urmatrix!Q47,)","v":0},{"$f":"IF(Unternehmen!$T$20=\"x\",Urmatrix!R47,)","v":0},{"$f":"IF(Unternehmen!$T$20=\"x\",Urmatrix!S47,)","v":0},{"$f":"IF(Unternehmen!$T$20=\"x\",Urmatrix!T47,)","v":0},{"$f":"IF(Unternehmen!$T$20=\"x\",Urmatrix!U47,)","v":0},{"$f":"IF(Unternehmen!$T$20=\"x\",Urmatrix!V47,)","v":0},{"$f":"IF(Unternehmen!$T$20=\"x\",Urmatrix!W47,)","v":0},{"$f":"IF(Unternehmen!$T$20=\"x\",Urmatrix!X47,)","v":0},{"$f":"IF(Unternehmen!$T$20=\"x\",Urmatrix!Y47,)","v":0},{"$f":"IF(Unternehmen!$T$20=\"x\",Urmatrix!Z47,)","v":0},{"$f":"IF(Unternehmen!$T$20=\"x\",Urmatrix!AA47,)","v":0},{"$f":"IF(Unternehmen!$T$20=\"x\",Urmatrix!AB47,)","v":0},{"$f":"IF(Unternehmen!$T$20=\"x\",Urmatrix!AC47,)","v":0},{"$f":"IF(Unternehmen!$T$20=\"x\",Urmatrix!AD47,)","v":0},{"$f":"IF(Unternehmen!$T$20=\"x\",Urmatrix!AE47,)","v":0},{"$f":"IF(Unternehmen!$T$20=\"x\",Urmatrix!AF47,)","v":0},{"$f":"IF(Unternehmen!$T$20=\"x\",Urmatrix!AG47,)","v":0},{"$f":"IF(Unternehmen!$T$20=\"x\",Urmatrix!AH47,)","v":0},{"$f":"IF(Unternehmen!$T$20=\"x\",Urmatrix!AI47,)","v":0},{"$f":"IF(Unternehmen!$T$20=\"x\",Urmatrix!AJ47,)","v":0},{"$f":"IF(Unternehmen!$T$20=\"x\",Urmatrix!AK47,)","v":0},{"$f":"IF(Unternehmen!$T$20=\"x\",Urmatrix!AL47,)","v":0},{"$f":"IF(Unternehmen!$T$20=\"x\",Urmatrix!AM47,)","v":0},{"$f":"IF(Unternehmen!$T$20=\"x\",Urmatrix!AN47,)","v":0},{"$f":"IF(Unternehmen!$T$20=\"x\",Urmatrix!AO47,)","v":0},{"$f":"IF(Unternehmen!$T$20=\"x\",Urmatrix!AP47,)","v":0},{"$f":"IF(Unternehmen!$T$20=\"x\",Urmatrix!AQ47,)","v":0},{"$f":"IF(Unternehmen!$T$20=\"x\",Urmatrix!AR47,)","v":0},{"$f":"IF(Unternehmen!$T$20=\"x\",Urmatrix!AS47,)","v":0},{"$f":"IF(Unternehmen!$T$20=\"x\",Urmatrix!AT47,)","v":0},{"$f":"IF(Unternehmen!$T$20=\"x\",Urmatrix!AU47,)","v":0},{"$f":"IF(Unternehmen!$T$20=\"x\",Urmatrix!AV47,)","v":0},{"$f":"IF(Unternehmen!$T$20=\"x\",Urmatrix!AW47,)","v":0},{"$f":"IF(Unternehmen!$T$20=\"x\",Urmatrix!AX47,)","v":0},{"$f":"IF(Unternehmen!$T$20=\"x\",Urmatrix!AY47,)","v":0},{"$f":"IF(Unternehmen!$T$20=\"x\",Urmatrix!AZ47,)","v":0},{"$f":"IF(Unternehmen!$T$20=\"x\",Urmatrix!BA47,)","v":0},{"$f":"IF(Unternehmen!$T$20=\"x\",Urmatrix!BB47,)","v":0},{"$f":"IF(Unternehmen!$T$20=\"x\",Urmatrix!BC47,)","v":0},{"$f":"IF(Unternehmen!$T$20=\"x\",Urmatrix!BD47,)","v":0},{"$f":"IF(Unternehmen!$T$20=\"x\",Urmatrix!BE47,)","v":0},{"$f":"IF(Unternehmen!$T$20=\"x\",Urmatrix!BF47,)","v":0},{"$f":"IF(Unternehmen!$T$20=\"x\",Urmatrix!BG47,)","v":0}]
[null,null,null,null,null,null,"10000 - 1 Mio.",null,{"$f":"IF(Unternehmen!$AI$20=\"x\",Urmatrix!I48,)","v":0},{"$f":"IF(Unternehmen!$AI$20=\"x\",Urmatrix!J48,)","v":0},{"$f":"IF(Unternehmen!$AI$20=\"x\",Urmatrix!K48,)","v":0},{"$f":"IF(Unternehmen!$AI$20=\"x\",Urmatrix!L48,)","v":0},{"$f":"IF(Unternehmen!$AI$20=\"x\",Urmatrix!M48,)","v":0},{"$f":"IF(Unternehmen!$AI$20=\"x\",Urmatrix!N48,)","v":0},{"$f":"IF(Unternehmen!$AI$20=\"x\",Urmatrix!O48,)","v":0},{"$f":"IF(Unternehmen!$AI$20=\"x\",Urmatrix!P48,)","v":0},{"$f":"IF(Unternehmen!$AI$20=\"x\",Urmatrix!Q48,)","v":0},{"$f":"IF(Unternehmen!$AI$20=\"x\",Urmatrix!R48,)","v":0},{"$f":"IF(Unternehmen!$AI$20=\"x\",Urmatrix!S48,)","v":0},{"$f":"IF(Unternehmen!$AI$20=\"x\",Urmatrix!T48,)","v":0},{"$f":"IF(Unternehmen!$AI$20=\"x\",Urmatrix!U48,)","v":0},{"$f":"IF(Unternehmen!$AI$20=\"x\",Urmatrix!V48,)","v":0},{"$f":"IF(Unternehmen!$AI$20=\"x\",Urmatrix!W48,)","v":0},{"$f":"IF(Unternehmen!$AI$20=\"x\",Urmatrix!X48,)","v":0},{"$f":"IF(Unternehmen!$AI$20=\"x\",Urmatrix!Y48,)","v":0},{"$f":"IF(Unternehmen!$AI$20=\"x\",Urmatrix!Z48,)","v":0},{"$f":"IF(Unternehmen!$AI$20=\"x\",Urmatrix!AA48,)","v":0},{"$f":"IF(Unternehmen!$AI$20=\"x\",Urmatrix!AB48,)","v":0},{"$f":"IF(Unternehmen!$AI$20=\"x\",Urmatrix!AC48,)","v":0},{"$f":"IF(Unternehmen!$AI$20=\"x\",Urmatrix!AD48,)","v":0},{"$f":"IF(Unternehmen!$AI$20=\"x\",Urmatrix!AE48,)","v":0},{"$f":"IF(Unternehmen!$AI$20=\"x\",Urmatrix!AF48,)","v":0},{"$f":"IF(Unternehmen!$AI$20=\"x\",Urmatrix!AG48,)","v":0},{"$f":"IF(Unternehmen!$AI$20=\"x\",Urmatrix!AH48,)","v":0},{"$f":"IF(Unternehmen!$AI$20=\"x\",Urmatrix!AI48,)","v":0},{"$f":"IF(Unternehmen!$AI$20=\"x\",Urmatrix!AJ48,)","v":0},{"$f":"IF(Unternehmen!$AI$20=\"x\",Urmatrix!AK48,)","v":0},{"$f":"IF(Unternehmen!$AI$20=\"x\",Urmatrix!AL48,)","v":0},{"$f":"IF(Unternehmen!$AI$20=\"x\",Urmatrix!AM48,)","v":0},{"$f":"IF(Unternehmen!$AI$20=\"x\",Urmatrix!AN48,)","v":0},{"$f":"IF(Unternehmen!$AI$20=\"x\",Urmatrix!AO48,)","v":0},{"$f":"IF(Unternehmen!$AI$20=\"x\",Urmatrix!AP48,)","v":0},{"$f":"IF(Unternehmen!$AI$20=\"x\",Urmatrix!AQ48,)","v":0},{"$f":"IF(Unternehmen!$AI$20=\"x\",Urmatrix!AR48,)","v":0},{"$f":"IF(Unternehmen!$AI$20=\"x\",Urmatrix!AS48,)","v":0},{"$f":"IF(Unternehmen!$AI$20=\"x\",Urmatrix!AT48,)","v":0},{"$f":"IF(Unternehmen!$AI$20=\"x\",Urmatrix!AU48,)","v":0},{"$f":"IF(Unternehmen!$AI$20=\"x\",Urmatrix!AV48,)","v":0},{"$f":"IF(Unternehmen!$AI$20=\"x\",Urmatrix!AW48,)","v":0},{"$f":"IF(Unternehmen!$AI$20=\"x\",Urmatrix!AX48,)","v":0},{"$f":"IF(Unternehmen!$AI$20=\"x\",Urmatrix!AY48,)","v":0},{"$f":"IF(Unternehmen!$AI$20=\"x\",Urmatrix!AZ48,)","v":0},{"$f":"IF(Unternehmen!$AI$20=\"x\",Urmatrix!BA48,)","v":0},{"$f":"IF(Unternehmen!$AI$20=\"x\",Urmatrix!BB48,)","v":0},{"$f":"IF(Unternehmen!$AI$20=\"x\",Urmatrix!BC48,)","v":0},{"$f":"IF(Unternehmen!$AI$20=\"x\",Urmatrix!BD48,)","v":0},{"$f":"IF(Unternehmen!$AI$20=\"x\",Urmatrix!BE48,)","v":0},{"$f":"IF(Unternehmen!$AI$20=\"x\",Urmatrix!BF48,)","v":0},{"$f":"IF(Unternehmen!$AI$20=\"x\",Urmatrix!BG48,)","v":0}]
[null,null,null,null,null,null,"> 1 Mio.",null,{"$f":"IF(Unternehmen!$AX$20=\"x\",Urmatrix!I49,)","v":0},{"$f":"IF(Unternehmen!$AX$20=\"x\",Urmatrix!J49,)","v":0},{"$f":"IF(Unternehmen!$AX$20=\"x\",Urmatrix!K49,)","v":0},{"$f":"IF(Unternehmen!$AX$20=\"x\",Urmatrix!L49,)","v":0},{"$f":"IF(Unternehmen!$AX$20=\"x\",Urmatrix!M49,)","v":0},{"$f":"IF(Unternehmen!$AX$20=\"x\",Urmatrix!N49,)","v":0},{"$f":"IF(Unternehmen!$AX$20=\"x\",Urmatrix!O49,)","v":0},{"$f":"IF(Unternehmen!$AX$20=\"x\",Urmatrix!P49,)","v":0},{"$f":"IF(Unternehmen!$AX$20=\"x\",Urmatrix!Q49,)","v":0},{"$f":"IF(Unternehmen!$AX$20=\"x\",Urmatrix!R49,)","v":0},{"$f":"IF(Unternehmen!$AX$20=\"x\",Urmatrix!S49,)","v":0},{"$f":"IF(Unternehmen!$AX$20=\"x\",Urmatrix!T49,)","v":0},{"$f":"IF(Unternehmen!$AX$20=\"x\",Urmatrix!U49,)","v":0},{"$f":"IF(Unternehmen!$AX$20=\"x\",Urmatrix!V49,)","v":0},{"$f":"IF(Unternehmen!$AX$20=\"x\",Urmatrix!W49,)","v":0},{"$f":"IF(Unternehmen!$AX$20=\"x\",Urmatrix!X49,)","v":0},{"$f":"IF(Unternehmen!$AX$20=\"x\",Urmatrix!Y49,)","v":0},{"$f":"IF(Unternehmen!$AX$20=\"x\",Urmatrix!Z49,)","v":0},{"$f":"IF(Unternehmen!$AX$20=\"x\",Urmatrix!AA49,)","v":0},{"$f":"IF(Unternehmen!$AX$20=\"x\",Urmatrix!AB49,)","v":0},{"$f":"IF(Unternehmen!$AX$20=\"x\",Urmatrix!AC49,)","v":0},{"$f":"IF(Unternehmen!$AX$20=\"x\",Urmatrix!AD49,)","v":0},{"$f":"IF(Unternehmen!$AX$20=\"x\",Urmatrix!AE49,)","v":0},{"$f":"IF(Unternehmen!$AX$20=\"x\",Urmatrix!AF49,)","v":0},{"$f":"IF(Unternehmen!$AX$20=\"x\",Urmatrix!AG49,)","v":0},{"$f":"IF(Unternehmen!$AX$20=\"x\",Urmatrix!AH49,)","v":0},{"$f":"IF(Unternehmen!$AX$20=\"x\",Urmatrix!AI49,)","v":0},{"$f":"IF(Unternehmen!$AX$20=\"x\",Urmatrix!AJ49,)","v":0},{"$f":"IF(Unternehmen!$AX$20=\"x\",Urmatrix!AK49,)","v":0},{"$f":"IF(Unternehmen!$AX$20=\"x\",Urmatrix!AL49,)","v":0},{"$f":"IF(Unternehmen!$AX$20=\"x\",Urmatrix!AM49,)","v":0},{"$f":"IF(Unternehmen!$AX$20=\"x\",Urmatrix!AN49,)","v":0},{"$f":"IF(Unternehmen!$AX$20=\"x\",Urmatrix!AO49,)","v":0},{"$f":"IF(Unternehmen!$AX$20=\"x\",Urmatrix!AP49,)","v":0},{"$f":"IF(Unternehmen!$AX$20=\"x\",Urmatrix!AQ49,)","v":0},{"$f":"IF(Unternehmen!$AX$20=\"x\",Urmatrix!AR49,)","v":0},{"$f":"IF(Unternehmen!$AX$20=\"x\",Urmatrix!AS49,)","v":0},{"$f":"IF(Unternehmen!$AX$20=\"x\",Urmatrix!AT49,)","v":0},{"$f":"IF(Unternehmen!$AX$20=\"x\",Urmatrix!AU49,)","v":0},{"$f":"IF(Unternehmen!$AX$20=\"x\",Urmatrix!AV49,)","v":0},{"$f":"IF(Unternehmen!$AX$20=\"x\",Urmatrix!AW49,)","v":0},{"$f":"IF(Unternehmen!$AX$20=\"x\",Urmatrix!AX49,)","v":0},{"$f":"IF(Unternehmen!$AX$20=\"x\",Urmatrix!AY49,)","v":0},{"$f":"IF(Unternehmen!$AX$20=\"x\",Urmatrix!AZ49,)","v":0},{"$f":"IF(Unternehmen!$AX$20=\"x\",Urmatrix!BA49,)","v":0},{"$f":"IF(Unternehmen!$AX$20=\"x\",Urmatrix!BB49,)","v":0},{"$f":"IF(Unternehmen!$AX$20=\"x\",Urmatrix!BC49,)","v":0},{"$f":"IF(Unternehmen!$AX$20=\"x\",Urmatrix!BD49,)","v":0},{"$f":"IF(Unternehmen!$AX$20=\"x\",Urmatrix!BE49,)","v":0},{"$f":"IF(Unternehmen!$AX$20=\"x\",Urmatrix!BF49,)","v":0},{"$f":"IF(Unternehmen!$AX$20=\"x\",Urmatrix!BG49,)","v":0}]
[null,null,null,null,null,"Erzeugnisspektrum","Erzeugnisse nach Kundenspezifikation",null,{"$f":"IF(Unternehmen!$E$22=\"x\",Urmatrix!I50,)","v":0},{"$f":"IF(Unternehmen!$E$22=\"x\",Urmatrix!J50,)","v":0},{"$f":"IF(Unternehmen!$E$22=\"x\",Urmatrix!K50,)","v":0},{"$f":"IF(Unternehmen!$E$22=\"x\",Urmatrix!L50,)","v":0},{"$f":"IF(Unternehmen!$E$22=\"x\",Urmatrix!M50,)","v":0},{"$f":"IF(Unternehmen!$E$22=\"x\",Urmatrix!N50,)","v":0},{"$f":"IF(Unternehmen!$E$22=\"x\",Urmatrix!O50,)","v":0},{"$f":"IF(Unternehmen!$E$22=\"x\",Urmatrix!P50,)","v":0},{"$f":"IF(Unternehmen!$E$22=\"x\",Urmatrix!Q50,)","v":0},{"$f":"IF(Unternehmen!$E$22=\"x\",Urmatrix!R50,)","v":0},{"$f":"IF(Unternehmen!$E$22=\"x\",Urmatrix!S50,)","v":0},{"$f":"IF(Unternehmen!$E$22=\"x\",Urmatrix!T50,)","v":0},{"$f":"IF(Unternehmen!$E$22=\"x\",Urmatrix!U50,)","v":0},{"$f":"IF(Unternehmen!$E$22=\"x\",Urmatrix!V50,)","v":0},{"$f":"IF(Unternehmen!$E$22=\"x\",Urmatrix!W50,)","v":0},{"$f":"IF(Unternehmen!$E$22=\"x\",Urmatrix!X50,)","v":0},{"$f":"IF(Unternehmen!$E$22=\"x\",Urmatrix!Y50,)","v":0},{"$f":"IF(Unternehmen!$E$22=\"x\",Urmatrix!Z50,)","v":0},{"$f":"IF(Unternehmen!$E$22=\"x\",Urmatrix!AA50,)","v":0},{"$f":"IF(Unternehmen!$E$22=\"x\",Urmatrix!AB50,)","v":0},{"$f":"IF(Unternehmen!$E$22=\"x\",Urmatrix!AC50,)","v":0},{"$f":"IF(Unternehmen!$E$22=\"x\",Urmatrix!AD50,)","v":0},{"$f":"IF(Unternehmen!$E$22=\"x\",Urmatrix!AE50,)","v":0},{"$f":"IF(Unternehmen!$E$22=\"x\",Urmatrix!AF50,)","v":0},{"$f":"IF(Unternehmen!$E$22=\"x\",Urmatrix!AG50,)","v":0},{"$f":"IF(Unternehmen!$E$22=\"x\",Urmatrix!AH50,)","v":0},{"$f":"IF(Unternehmen!$E$22=\"x\",Urmatrix!AI50,)","v":0},{"$f":"IF(Unternehmen!$E$22=\"x\",Urmatrix!AJ50,)","v":0},{"$f":"IF(Unternehmen!$E$22=\"x\",Urmatrix!AK50,)","v":0},{"$f":"IF(Unternehmen!$E$22=\"x\",Urmatrix!AL50,)","v":0},{"$f":"IF(Unternehmen!$E$22=\"x\",Urmatrix!AM50,)","v":0},{"$f":"IF(Unternehmen!$E$22=\"x\",Urmatrix!AN50,)","v":0},{"$f":"IF(Unternehmen!$E$22=\"x\",Urmatrix!AO50,)","v":0},{"$f":"IF(Unternehmen!$E$22=\"x\",Urmatrix!AP50,)","v":0},{"$f":"IF(Unternehmen!$E$22=\"x\",Urmatrix!AQ50,)","v":0},{"$f":"IF(Unternehmen!$E$22=\"x\",Urmatrix!AR50,)","v":0},{"$f":"IF(Unternehmen!$E$22=\"x\",Urmatrix!AS50,)","v":0},{"$f":"IF(Unternehmen!$E$22=\"x\",Urmatrix!AT50,)","v":0},{"$f":"IF(Unternehmen!$E$22=\"x\",Urmatrix!AU50,)","v":0},{"$f":"IF(Unternehmen!$E$22=\"x\",Urmatrix!AV50,)","v":0},{"$f":"IF(Unternehmen!$E$22=\"x\",Urmatrix!AW50,)","v":0},{"$f":"IF(Unternehmen!$E$22=\"x\",Urmatrix!AX50,)","v":0},{"$f":"IF(Unternehmen!$E$22=\"x\",Urmatrix!AY50,)","v":0},{"$f":"IF(Unternehmen!$E$22=\"x\",Urmatrix!AZ50,)","v":0},{"$f":"IF(Unternehmen!$E$22=\"x\",Urmatrix!BA50,)","v":0},{"$f":"IF(Unternehmen!$E$22=\"x\",Urmatrix!BB50,)","v":0},{"$f":"IF(Unternehmen!$E$22=\"x\",Urmatrix!BC50,)","v":0},{"$f":"IF(Unternehmen!$E$22=\"x\",Urmatrix!BD50,)","v":0},{"$f":"IF(Unternehmen!$E$22=\"x\",Urmatrix!BE50,)","v":0},{"$f":"IF(Unternehmen!$E$22=\"x\",Urmatrix!BF50,)","v":0},{"$f":"IF(Unternehmen!$E$22=\"x\",Urmatrix!BG50,)","v":0}]
[null,null,null,null,null,null,"Standarderz. mit kundenspez. Var.",null,{"$f":"IF(Unternehmen!$T$22=\"x\",Urmatrix!I51,)","v":0},{"$f":"IF(Unternehmen!$T$22=\"x\",Urmatrix!J51,)","v":0},{"$f":"IF(Unternehmen!$T$22=\"x\",Urmatrix!K51,)","v":0},{"$f":"IF(Unternehmen!$T$22=\"x\",Urmatrix!L51,)","v":0},{"$f":"IF(Unternehmen!$T$22=\"x\",Urmatrix!M51,)","v":0},{"$f":"IF(Unternehmen!$T$22=\"x\",Urmatrix!N51,)","v":0},{"$f":"IF(Unternehmen!$T$22=\"x\",Urmatrix!O51,)","v":0},{"$f":"IF(Unternehmen!$T$22=\"x\",Urmatrix!P51,)","v":0},{"$f":"IF(Unternehmen!$T$22=\"x\",Urmatrix!Q51,)","v":0},{"$f":"IF(Unternehmen!$T$22=\"x\",Urmatrix!R51,)","v":0},{"$f":"IF(Unternehmen!$T$22=\"x\",Urmatrix!S51,)","v":0},{"$f":"IF(Unternehmen!$T$22=\"x\",Urmatrix!T51,)","v":0},{"$f":"IF(Unternehmen!$T$22=\"x\",Urmatrix!U51,)","v":0},{"$f":"IF(Unternehmen!$T$22=\"x\",Urmatrix!V51,)","v":0},{"$f":"IF(Unternehmen!$T$22=\"x\",Urmatrix!W51,)","v":0},{"$f":"IF(Unternehmen!$T$22=\"x\",Urmatrix!X51,)","v":0},{"$f":"IF(Unternehmen!$T$22=\"x\",Urmatrix!Y51,)","v":0},{"$f":"IF(Unternehmen!$T$22=\"x\",Urmatrix!Z51,)","v":0},{"$f":"IF(Unternehmen!$T$22=\"x\",Urmatrix!AA51,)","v":0},{"$f":"IF(Unternehmen!$T$22=\"x\",Urmatrix!AB51,)","v":0},{"$f":"IF(Unternehmen!$T$22=\"x\",Urmatrix!AC51,)","v":0},{"$f":"IF(Unternehmen!$T$22=\"x\",Urmatrix!AD51,)","v":0},{"$f":"IF(Unternehmen!$T$22=\"x\",Urmatrix!AE51,)","v":0},{"$f":"IF(Unternehmen!$T$22=\"x\",Urmatrix!AF51,)","v":0},{"$f":"IF(Unternehmen!$T$22=\"x\",Urmatrix!AG51,)","v":0},{"$f":"IF(Unternehmen!$T$22=\"x\",Urmatrix!AH51,)","v":0},{"$f":"IF(Unternehmen!$T$22=\"x\",Urmatrix!AI51,)","v":0},{"$f":"IF(Unternehmen!$T$22=\"x\",Urmatrix!AJ51,)","v":0},{"$f":"IF(Unternehmen!$T$22=\"x\",Urmatrix!AK51,)","v":0},{"$f":"IF(Unternehmen!$T$22=\"x\",Urmatrix!AL51,)","v":0},{"$f":"IF(Unternehmen!$T$22=\"x\",Urmatrix!AM51,)","v":0},{"$f":"IF(Unternehmen!$T$22=\"x\",Urmatrix!AN51,)","v":0},{"$f":"IF(Unternehmen!$T$22=\"x\",Urmatrix!AO51,)","v":0},{"$f":"IF(Unternehmen!$T$22=\"x\",Urmatrix!AP51,)","v":0},{"$f":"IF(Unternehmen!$T$22=\"x\",Urmatrix!AQ51,)","v":0},{"$f":"IF(Unternehmen!$T$22=\"x\",Urmatrix!AR51,)","v":0},{"$f":"IF(Unternehmen!$T$22=\"x\",Urmatrix!AS51,)","v":0},{"$f":"IF(Unternehmen!$T$22=\"x\",Urmatrix!AT51,)","v":0},{"$f":"IF(Unternehmen!$T$22=\"x\",Urmatrix!AU51,)","v":0},{"$f":"IF(Unternehmen!$T$22=\"x\",Urmatrix!AV51,)","v":0},{"$f":"IF(Unternehmen!$T$22=\"x\",Urmatrix!AW51,)","v":0},{"$f":"IF(Unternehmen!$T$22=\"x\",Urmatrix!AX51,)","v":0},{"$f":"IF(Unternehmen!$T$22=\"x\",Urmatrix!AY51,)","v":0},{"$f":"IF(Unternehmen!$T$22=\"x\",Urmatrix!AZ51,)","v":0},{"$f":"IF(Unternehmen!$T$22=\"x\",Urmatrix!BA51,)","v":0},{"$f":"IF(Unternehmen!$T$22=\"x\",Urmatrix!BB51,)","v":0},{"$f":"IF(Unternehmen!$T$22=\"x\",Urmatrix!BC51,)","v":0},{"$f":"IF(Unternehmen!$T$22=\"x\",Urmatrix!BD51,)","v":0},{"$f":"IF(Unternehmen!$T$22=\"x\",Urmatrix!BE51,)","v":0},{"$f":"IF(Unternehmen!$T$22=\"x\",Urmatrix!BF51,)","v":0},{"$f":"IF(Unternehmen!$T$22=\"x\",Urmatrix!BG51,)","v":0}]
[null,null,null,null,null,null,"Standarderzeugnisse mit Varianten",null,{"$f":"IF(Unternehmen!$AI$22=\"x\",Urmatrix!I52,)","v":0},{"$f":"IF(Unternehmen!$AI$22=\"x\",Urmatrix!J52,)","v":0},{"$f":"IF(Unternehmen!$AI$22=\"x\",Urmatrix!K52,)","v":0},{"$f":"IF(Unternehmen!$AI$22=\"x\",Urmatrix!L52,)","v":0},{"$f":"IF(Unternehmen!$AI$22=\"x\",Urmatrix!M52,)","v":0},{"$f":"IF(Unternehmen!$AI$22=\"x\",Urmatrix!N52,)","v":0},{"$f":"IF(Unternehmen!$AI$22=\"x\",Urmatrix!O52,)","v":0},{"$f":"IF(Unternehmen!$AI$22=\"x\",Urmatrix!P52,)","v":0},{"$f":"IF(Unternehmen!$AI$22=\"x\",Urmatrix!Q52,)","v":0},{"$f":"IF(Unternehmen!$AI$22=\"x\",Urmatrix!R52,)","v":0},{"$f":"IF(Unternehmen!$AI$22=\"x\",Urmatrix!S52,)","v":0},{"$f":"IF(Unternehmen!$AI$22=\"x\",Urmatrix!T52,)","v":0},{"$f":"IF(Unternehmen!$AI$22=\"x\",Urmatrix!U52,)","v":0},{"$f":"IF(Unternehmen!$AI$22=\"x\",Urmatrix!V52,)","v":0},{"$f":"IF(Unternehmen!$AI$22=\"x\",Urmatrix!W52,)","v":0},{"$f":"IF(Unternehmen!$AI$22=\"x\",Urmatrix!X52,)","v":0},{"$f":"IF(Unternehmen!$AI$22=\"x\",Urmatrix!Y52,)","v":0},{"$f":"IF(Unternehmen!$AI$22=\"x\",Urmatrix!Z52,)","v":0},{"$f":"IF(Unternehmen!$AI$22=\"x\",Urmatrix!AA52,)","v":0},{"$f":"IF(Unternehmen!$AI$22=\"x\",Urmatrix!AB52,)","v":0},{"$f":"IF(Unternehmen!$AI$22=\"x\",Urmatrix!AC52,)","v":0},{"$f":"IF(Unternehmen!$AI$22=\"x\",Urmatrix!AD52,)","v":0},{"$f":"IF(Unternehmen!$AI$22=\"x\",Urmatrix!AE52,)","v":0},{"$f":"IF(Unternehmen!$AI$22=\"x\",Urmatrix!AF52,)","v":0},{"$f":"IF(Unternehmen!$AI$22=\"x\",Urmatrix!AG52,)","v":0},{"$f":"IF(Unternehmen!$AI$22=\"x\",Urmatrix!AH52,)","v":0},{"$f":"IF(Unternehmen!$AI$22=\"x\",Urmatrix!AI52,)","v":0},{"$f":"IF(Unternehmen!$AI$22=\"x\",Urmatrix!AJ52,)","v":0},{"$f":"IF(Unternehmen!$AI$22=\"x\",Urmatrix!AK52,)","v":0},{"$f":"IF(Unternehmen!$AI$22=\"x\",Urmatrix!AL52,)","v":0},{"$f":"IF(Unternehmen!$AI$22=\"x\",Urmatrix!AM52,)","v":0},{"$f":"IF(Unternehmen!$AI$22=\"x\",Urmatrix!AN52,)","v":0},{"$f":"IF(Unternehmen!$AI$22=\"x\",Urmatrix!AO52,)","v":0},{"$f":"IF(Unternehmen!$AI$22=\"x\",Urmatrix!AP52,)","v":0},{"$f":"IF(Unternehmen!$AI$22=\"x\",Urmatrix!AQ52,)","v":0},{"$f":"IF(Unternehmen!$AI$22=\"x\",Urmatrix!AR52,)","v":0},{"$f":"IF(Unternehmen!$AI$22=\"x\",Urmatrix!AS52,)","v":0},{"$f":"IF(Unternehmen!$AI$22=\"x\",Urmatrix!AT52,)","v":0},{"$f":"IF(Unternehmen!$AI$22=\"x\",Urmatrix!AU52,)","v":0},{"$f":"IF(Unternehmen!$AI$22=\"x\",Urmatrix!AV52,)","v":0},{"$f":"IF(Unternehmen!$AI$22=\"x\",Urmatrix!AW52,)","v":0},{"$f":"IF(Unternehmen!$AI$22=\"x\",Urmatrix!AX52,)","v":0},{"$f":"IF(Unternehmen!$AI$22=\"x\",Urmatrix!AY52,)","v":0},{"$f":"IF(Unternehmen!$AI$22=\"x\",Urmatrix!AZ52,)","v":0},{"$f":"IF(Unternehmen!$AI$22=\"x\",Urmatrix!BA52,)","v":0},{"$f":"IF(Unternehmen!$AI$22=\"x\",Urmatrix!BB52,)","v":0},{"$f":"IF(Unternehmen!$AI$22=\"x\",Urmatrix!BC52,)","v":0},{"$f":"IF(Unternehmen!$AI$22=\"x\",Urmatrix!BD52,)","v":0},{"$f":"IF(Unternehmen!$AI$22=\"x\",Urmatrix!BE52,)","v":0},{"$f":"IF(Unternehmen!$AI$22=\"x\",Urmatrix!BF52,)","v":0},{"$f":"IF(Unternehmen!$AI$22=\"x\",Urmatrix!BG52,)","v":0}]
[null,null,null,null,null,null,"Standarderzeugnisse ohne Varianten",null,{"$f":"IF(Unternehmen!$AX$22=\"x\",Urmatrix!I53,)","v":0},{"$f":"IF(Unternehmen!$AX$22=\"x\",Urmatrix!J53,)","v":0},{"$f":"IF(Unternehmen!$AX$22=\"x\",Urmatrix!K53,)","v":0},{"$f":"IF(Unternehmen!$AX$22=\"x\",Urmatrix!L53,)","v":0},{"$f":"IF(Unternehmen!$AX$22=\"x\",Urmatrix!M53,)","v":0},{"$f":"IF(Unternehmen!$AX$22=\"x\",Urmatrix!N53,)","v":0},{"$f":"IF(Unternehmen!$AX$22=\"x\",Urmatrix!O53,)","v":0},{"$f":"IF(Unternehmen!$AX$22=\"x\",Urmatrix!P53,)","v":0},{"$f":"IF(Unternehmen!$AX$22=\"x\",Urmatrix!Q53,)","v":0},{"$f":"IF(Unternehmen!$AX$22=\"x\",Urmatrix!R53,)","v":0},{"$f":"IF(Unternehmen!$AX$22=\"x\",Urmatrix!S53,)","v":0},{"$f":"IF(Unternehmen!$AX$22=\"x\",Urmatrix!T53,)","v":0},{"$f":"IF(Unternehmen!$AX$22=\"x\",Urmatrix!U53,)","v":0},{"$f":"IF(Unternehmen!$AX$22=\"x\",Urmatrix!V53,)","v":0},{"$f":"IF(Unternehmen!$AX$22=\"x\",Urmatrix!W53,)","v":0},{"$f":"IF(Unternehmen!$AX$22=\"x\",Urmatrix!X53,)","v":0},{"$f":"IF(Unternehmen!$AX$22=\"x\",Urmatrix!Y53,)","v":0},{"$f":"IF(Unternehmen!$AX$22=\"x\",Urmatrix!Z53,)","v":0},{"$f":"IF(Unternehmen!$AX$22=\"x\",Urmatrix!AA53,)","v":0},{"$f":"IF(Unternehmen!$AX$22=\"x\",Urmatrix!AB53,)","v":0},{"$f":"IF(Unternehmen!$AX$22=\"x\",Urmatrix!AC53,)","v":0},{"$f":"IF(Unternehmen!$AX$22=\"x\",Urmatrix!AD53,)","v":0},{"$f":"IF(Unternehmen!$AX$22=\"x\",Urmatrix!AE53,)","v":0},{"$f":"IF(Unternehmen!$AX$22=\"x\",Urmatrix!AF53,)","v":0},{"$f":"IF(Unternehmen!$AX$22=\"x\",Urmatrix!AG53,)","v":0},{"$f":"IF(Unternehmen!$AX$22=\"x\",Urmatrix!AH53,)","v":0},{"$f":"IF(Unternehmen!$AX$22=\"x\",Urmatrix!AI53,)","v":0},{"$f":"IF(Unternehmen!$AX$22=\"x\",Urmatrix!AJ53,)","v":0},{"$f":"IF(Unternehmen!$AX$22=\"x\",Urmatrix!AK53,)","v":0},{"$f":"IF(Unternehmen!$AX$22=\"x\",Urmatrix!AL53,)","v":0},{"$f":"IF(Unternehmen!$AX$22=\"x\",Urmatrix!AM53,)","v":0},{"$f":"IF(Unternehmen!$AX$22=\"x\",Urmatrix!AN53,)","v":0},{"$f":"IF(Unternehmen!$AX$22=\"x\",Urmatrix!AO53,)","v":0},{"$f":"IF(Unternehmen!$AX$22=\"x\",Urmatrix!AP53,)","v":0},{"$f":"IF(Unternehmen!$AX$22=\"x\",Urmatrix!AQ53,)","v":0},{"$f":"IF(Unternehmen!$AX$22=\"x\",Urmatrix!AR53,)","v":0},{"$f":"IF(Unternehmen!$AX$22=\"x\",Urmatrix!AS53,)","v":0},{"$f":"IF(Unternehmen!$AX$22=\"x\",Urmatrix!AT53,)","v":0},{"$f":"IF(Unternehmen!$AX$22=\"x\",Urmatrix!AU53,)","v":0},{"$f":"IF(Unternehmen!$AX$22=\"x\",Urmatrix!AV53,)","v":0},{"$f":"IF(Unternehmen!$AX$22=\"x\",Urmatrix!AW53,)","v":0},{"$f":"IF(Unternehmen!$AX$22=\"x\",Urmatrix!AX53,)","v":0},{"$f":"IF(Unternehmen!$AX$22=\"x\",Urmatrix!AY53,)","v":0},{"$f":"IF(Unternehmen!$AX$22=\"x\",Urmatrix!AZ53,)","v":0},{"$f":"IF(Unternehmen!$AX$22=\"x\",Urmatrix!BA53,)","v":0},{"$f":"IF(Unternehmen!$AX$22=\"x\",Urmatrix!BB53,)","v":0},{"$f":"IF(Unternehmen!$AX$22=\"x\",Urmatrix!BC53,)","v":0},{"$f":"IF(Unternehmen!$AX$22=\"x\",Urmatrix!BD53,)","v":0},{"$f":"IF(Unternehmen!$AX$22=\"x\",Urmatrix!BE53,)","v":0},{"$f":"IF(Unternehmen!$AX$22=\"x\",Urmatrix!BF53,)","v":0},{"$f":"IF(Unternehmen!$AX$22=\"x\",Urmatrix!BG53,)","v":0}]
[null,null,null,null,null,"Wichtigkeit des\nProduktpreises","Kostenführerschaft",null,{"$f":"IF(Unternehmen!$E$24=\"x\",Urmatrix!I54,)","v":0},{"$f":"IF(Unternehmen!$E$24=\"x\",Urmatrix!J54,)","v":0},{"$f":"IF(Unternehmen!$E$24=\"x\",Urmatrix!K54,)","v":0},{"$f":"IF(Unternehmen!$E$24=\"x\",Urmatrix!L54,)","v":0},{"$f":"IF(Unternehmen!$E$24=\"x\",Urmatrix!M54,)","v":0},{"$f":"IF(Unternehmen!$E$24=\"x\",Urmatrix!N54,)","v":0},{"$f":"IF(Unternehmen!$E$24=\"x\",Urmatrix!O54,)","v":0},{"$f":"IF(Unternehmen!$E$24=\"x\",Urmatrix!P54,)","v":0},{"$f":"IF(Unternehmen!$E$24=\"x\",Urmatrix!Q54,)","v":0},{"$f":"IF(Unternehmen!$E$24=\"x\",Urmatrix!R54,)","v":0},{"$f":"IF(Unternehmen!$E$24=\"x\",Urmatrix!S54,)","v":0},{"$f":"IF(Unternehmen!$E$24=\"x\",Urmatrix!T54,)","v":0},{"$f":"IF(Unternehmen!$E$24=\"x\",Urmatrix!U54,)","v":0},{"$f":"IF(Unternehmen!$E$24=\"x\",Urmatrix!V54,)","v":0},{"$f":"IF(Unternehmen!$E$24=\"x\",Urmatrix!W54,)","v":0},{"$f":"IF(Unternehmen!$E$24=\"x\",Urmatrix!X54,)","v":0},{"$f":"IF(Unternehmen!$E$24=\"x\",Urmatrix!Y54,)","v":0},{"$f":"IF(Unternehmen!$E$24=\"x\",Urmatrix!Z54,)","v":0},{"$f":"IF(Unternehmen!$E$24=\"x\",Urmatrix!AA54,)","v":0},{"$f":"IF(Unternehmen!$E$24=\"x\",Urmatrix!AB54,)","v":0},{"$f":"IF(Unternehmen!$E$24=\"x\",Urmatrix!AC54,)","v":0},{"$f":"IF(Unternehmen!$E$24=\"x\",Urmatrix!AD54,)","v":0},{"$f":"IF(Unternehmen!$E$24=\"x\",Urmatrix!AE54,)","v":0},{"$f":"IF(Unternehmen!$E$24=\"x\",Urmatrix!AF54,)","v":0},{"$f":"IF(Unternehmen!$E$24=\"x\",Urmatrix!AG54,)","v":0},{"$f":"IF(Unternehmen!$E$24=\"x\",Urmatrix!AH54,)","v":0},{"$f":"IF(Unternehmen!$E$24=\"x\",Urmatrix!AI54,)","v":0},{"$f":"IF(Unternehmen!$E$24=\"x\",Urmatrix!AJ54,)","v":0},{"$f":"IF(Unternehmen!$E$24=\"x\",Urmatrix!AK54,)","v":0},{"$f":"IF(Unternehmen!$E$24=\"x\",Urmatrix!AL54,)","v":0},{"$f":"IF(Unternehmen!$E$24=\"x\",Urmatrix!AM54,)","v":0},{"$f":"IF(Unternehmen!$E$24=\"x\",Urmatrix!AN54,)","v":0},{"$f":"IF(Unternehmen!$E$24=\"x\",Urmatrix!AO54,)","v":0},{"$f":"IF(Unternehmen!$E$24=\"x\",Urmatrix!AP54,)","v":0},{"$f":"IF(Unternehmen!$E$24=\"x\",Urmatrix!AQ54,)","v":0},{"$f":"IF(Unternehmen!$E$24=\"x\",Urmatrix!AR54,)","v":0},{"$f":"IF(Unternehmen!$E$24=\"x\",Urmatrix!AS54,)","v":0},{"$f":"IF(Unternehmen!$E$24=\"x\",Urmatrix!AT54,)","v":0},{"$f":"IF(Unternehmen!$E$24=\"x\",Urmatrix!AU54,)","v":0},{"$f":"IF(Unternehmen!$E$24=\"x\",Urmatrix!AV54,)","v":0},{"$f":"IF(Unternehmen!$E$24=\"x\",Urmatrix!AW54,)","v":0},{"$f":"IF(Unternehmen!$E$24=\"x\",Urmatrix!AX54,)","v":0},{"$f":"IF(Unternehmen!$E$24=\"x\",Urmatrix!AY54,)","v":0},{"$f":"IF(Unternehmen!$E$24=\"x\",Urmatrix!AZ54,)","v":0},{"$f":"IF(Unternehmen!$E$24=\"x\",Urmatrix!BA54,)","v":0},{"$f":"IF(Unternehmen!$E$24=\"x\",Urmatrix!BB54,)","v":0},{"$f":"IF(Unternehmen!$E$24=\"x\",Urmatrix!BC54,)","v":0},{"$f":"IF(Unternehmen!$E$24=\"x\",Urmatrix!BD54,)","v":0},{"$f":"IF(Unternehmen!$E$24=\"x\",Urmatrix!BE54,)","v":0},{"$f":"IF(Unternehmen!$E$24=\"x\",Urmatrix!BF54,)","v":0},{"$f":"IF(Unternehmen!$E$24=\"x\",Urmatrix!BG54,)","v":0}]
[null,null,null,null,null,null,"Preisführerschaft",null,{"$f":"IF(Unternehmen!$Y$24=\"x\",Urmatrix!I55,)","v":0},{"$f":"IF(Unternehmen!$Y$24=\"x\",Urmatrix!J55,)","v":0},{"$f":"IF(Unternehmen!$Y$24=\"x\",Urmatrix!K55,)","v":0},{"$f":"IF(Unternehmen!$Y$24=\"x\",Urmatrix!L55,)","v":0},{"$f":"IF(Unternehmen!$Y$24=\"x\",Urmatrix!M55,)","v":0},{"$f":"IF(Unternehmen!$Y$24=\"x\",Urmatrix!N55,)","v":0},{"$f":"IF(Unternehmen!$Y$24=\"x\",Urmatrix!O55,)","v":0},{"$f":"IF(Unternehmen!$Y$24=\"x\",Urmatrix!P55,)","v":0},{"$f":"IF(Unternehmen!$Y$24=\"x\",Urmatrix!Q55,)","v":0},{"$f":"IF(Unternehmen!$Y$24=\"x\",Urmatrix!R55,)","v":0},{"$f":"IF(Unternehmen!$Y$24=\"x\",Urmatrix!S55,)","v":0},{"$f":"IF(Unternehmen!$Y$24=\"x\",Urmatrix!T55,)","v":0},{"$f":"IF(Unternehmen!$Y$24=\"x\",Urmatrix!U55,)","v":0},{"$f":"IF(Unternehmen!$Y$24=\"x\",Urmatrix!V55,)","v":0},{"$f":"IF(Unternehmen!$Y$24=\"x\",Urmatrix!W55,)","v":0},{"$f":"IF(Unternehmen!$Y$24=\"x\",Urmatrix!X55,)","v":0},{"$f":"IF(Unternehmen!$Y$24=\"x\",Urmatrix!Y55,)","v":0},{"$f":"IF(Unternehmen!$Y$24=\"x\",Urmatrix!Z55,)","v":0},{"$f":"IF(Unternehmen!$Y$24=\"x\",Urmatrix!AA55,)","v":0},{"$f":"IF(Unternehmen!$Y$24=\"x\",Urmatrix!AB55,)","v":0},{"$f":"IF(Unternehmen!$Y$24=\"x\",Urmatrix!AC55,)","v":0},{"$f":"IF(Unternehmen!$Y$24=\"x\",Urmatrix!AD55,)","v":0},{"$f":"IF(Unternehmen!$Y$24=\"x\",Urmatrix!AE55,)","v":0},{"$f":"IF(Unternehmen!$Y$24=\"x\",Urmatrix!AF55,)","v":0},{"$f":"IF(Unternehmen!$Y$24=\"x\",Urmatrix!AG55,)","v":0},{"$f":"IF(Unternehmen!$Y$24=\"x\",Urmatrix!AH55,)","v":0},{"$f":"IF(Unternehmen!$Y$24=\"x\",Urmatrix!AI55,)","v":0},{"$f":"IF(Unternehmen!$Y$24=\"x\",Urmatrix!AJ55,)","v":0},{"$f":"IF(Unternehmen!$Y$24=\"x\",Urmatrix!AK55,)","v":0},{"$f":"IF(Unternehmen!$Y$24=\"x\",Urmatrix!AL55,)","v":0},{"$f":"IF(Unternehmen!$Y$24=\"x\",Urmatrix!AM55,)","v":0},{"$f":"IF(Unternehmen!$Y$24=\"x\",Urmatrix!AN55,)","v":0},{"$f":"IF(Unternehmen!$Y$24=\"x\",Urmatrix!AO55,)","v":0},{"$f":"IF(Unternehmen!$Y$24=\"x\",Urmatrix!AP55,)","v":0},{"$f":"IF(Unternehmen!$Y$24=\"x\",Urmatrix!AQ55,)","v":0},{"$f":"IF(Unternehmen!$Y$24=\"x\",Urmatrix!AR55,)","v":0},{"$f":"IF(Unternehmen!$Y$24=\"x\",Urmatrix!AS55,)","v":0},{"$f":"IF(Unternehmen!$Y$24=\"x\",Urmatrix!AT55,)","v":0},{"$f":"IF(Unternehmen!$Y$24=\"x\",Urmatrix!AU55,)","v":0},{"$f":"IF(Unternehmen!$Y$24=\"x\",Urmatrix!AV55,)","v":0},{"$f":"IF(Unternehmen!$Y$24=\"x\",Urmatrix!AW55,)","v":0},{"$f":"IF(Unternehmen!$Y$24=\"x\",Urmatrix!AX55,)","v":0},{"$f":"IF(Unternehmen!$Y$24=\"x\",Urmatrix!AY55,)","v":0},{"$f":"IF(Unternehmen!$Y$24=\"x\",Urmatrix!AZ55,)","v":0},{"$f":"IF(Unternehmen!$Y$24=\"x\",Urmatrix!BA55,)","v":0},{"$f":"IF(Unternehmen!$Y$24=\"x\",Urmatrix!BB55,)","v":0},{"$f":"IF(Unternehmen!$Y$24=\"x\",Urmatrix!BC55,)","v":0},{"$f":"IF(Unternehmen!$Y$24=\"x\",Urmatrix!BD55,)","v":0},{"$f":"IF(Unternehmen!$Y$24=\"x\",Urmatrix!BE55,)","v":0},{"$f":"IF(Unternehmen!$Y$24=\"x\",Urmatrix!BF55,)","v":0},{"$f":"IF(Unternehmen!$Y$24=\"x\",Urmatrix!BG55,)","v":0}]
[null,null,null,null,null,null,"Qualitätsführerschaft",null,{"$f":"IF(Unternehmen!$AS$24=\"x\",Urmatrix!I56,)","v":0},{"$f":"IF(Unternehmen!$AS$24=\"x\",Urmatrix!J56,)","v":0},{"$f":"IF(Unternehmen!$AS$24=\"x\",Urmatrix!K56,)","v":0},{"$f":"IF(Unternehmen!$AS$24=\"x\",Urmatrix!L56,)","v":0},{"$f":"IF(Unternehmen!$AS$24=\"x\",Urmatrix!M56,)","v":0},{"$f":"IF(Unternehmen!$AS$24=\"x\",Urmatrix!N56,)","v":0},{"$f":"IF(Unternehmen!$AS$24=\"x\",Urmatrix!O56,)","v":0},{"$f":"IF(Unternehmen!$AS$24=\"x\",Urmatrix!P56,)","v":0},{"$f":"IF(Unternehmen!$AS$24=\"x\",Urmatrix!Q56,)","v":0},{"$f":"IF(Unternehmen!$AS$24=\"x\",Urmatrix!R56,)","v":0},{"$f":"IF(Unternehmen!$AS$24=\"x\",Urmatrix!S56,)","v":0},{"$f":"IF(Unternehmen!$AS$24=\"x\",Urmatrix!T56,)","v":0},{"$f":"IF(Unternehmen!$AS$24=\"x\",Urmatrix!U56,)","v":0},{"$f":"IF(Unternehmen!$AS$24=\"x\",Urmatrix!V56,)","v":0},{"$f":"IF(Unternehmen!$AS$24=\"x\",Urmatrix!W56,)","v":0},{"$f":"IF(Unternehmen!$AS$24=\"x\",Urmatrix!X56,)","v":0},{"$f":"IF(Unternehmen!$AS$24=\"x\",Urmatrix!Y56,)","v":0},{"$f":"IF(Unternehmen!$AS$24=\"x\",Urmatrix!Z56,)","v":0},{"$f":"IF(Unternehmen!$AS$24=\"x\",Urmatrix!AA56,)","v":0},{"$f":"IF(Unternehmen!$AS$24=\"x\",Urmatrix!AB56,)","v":0},{"$f":"IF(Unternehmen!$AS$24=\"x\",Urmatrix!AC56,)","v":0},{"$f":"IF(Unternehmen!$AS$24=\"x\",Urmatrix!AD56,)","v":0},{"$f":"IF(Unternehmen!$AS$24=\"x\",Urmatrix!AE56,)","v":0},{"$f":"IF(Unternehmen!$AS$24=\"x\",Urmatrix!AF56,)","v":0},{"$f":"IF(Unternehmen!$AS$24=\"x\",Urmatrix!AG56,)","v":0},{"$f":"IF(Unternehmen!$AS$24=\"x\",Urmatrix!AH56,)","v":0},{"$f":"IF(Unternehmen!$AS$24=\"x\",Urmatrix!AI56,)","v":0},{"$f":"IF(Unternehmen!$AS$24=\"x\",Urmatrix!AJ56,)","v":0},{"$f":"IF(Unternehmen!$AS$24=\"x\",Urmatrix!AK56,)","v":0},{"$f":"IF(Unternehmen!$AS$24=\"x\",Urmatrix!AL56,)","v":0},{"$f":"IF(Unternehmen!$AS$24=\"x\",Urmatrix!AM56,)","v":0},{"$f":"IF(Unternehmen!$AS$24=\"x\",Urmatrix!AN56,)","v":0},{"$f":"IF(Unternehmen!$AS$24=\"x\",Urmatrix!AO56,)","v":0},{"$f":"IF(Unternehmen!$AS$24=\"x\",Urmatrix!AP56,)","v":0},{"$f":"IF(Unternehmen!$AS$24=\"x\",Urmatrix!AQ56,)","v":0},{"$f":"IF(Unternehmen!$AS$24=\"x\",Urmatrix!AR56,)","v":0},{"$f":"IF(Unternehmen!$AS$24=\"x\",Urmatrix!AS56,)","v":0},{"$f":"IF(Unternehmen!$AS$24=\"x\",Urmatrix!AT56,)","v":0},{"$f":"IF(Unternehmen!$AS$24=\"x\",Urmatrix!AU56,)","v":0},{"$f":"IF(Unternehmen!$AS$24=\"x\",Urmatrix!AV56,)","v":0},{"$f":"IF(Unternehmen!$AS$24=\"x\",Urmatrix!AW56,)","v":0},{"$f":"IF(Unternehmen!$AS$24=\"x\",Urmatrix!AX56,)","v":0},{"$f":"IF(Unternehmen!$AS$24=\"x\",Urmatrix!AY56,)","v":0},{"$f":"IF(Unternehmen!$AS$24=\"x\",Urmatrix!AZ56,)","v":0},{"$f":"IF(Unternehmen!$AS$24=\"x\",Urmatrix!BA56,)","v":0},{"$f":"IF(Unternehmen!$AS$24=\"x\",Urmatrix!BB56,)","v":0},{"$f":"IF(Unternehmen!$AS$24=\"x\",Urmatrix!BC56,)","v":0},{"$f":"IF(Unternehmen!$AS$24=\"x\",Urmatrix!BD56,)","v":0},{"$f":"IF(Unternehmen!$AS$24=\"x\",Urmatrix!BE56,)","v":0},{"$f":"IF(Unternehmen!$AS$24=\"x\",Urmatrix!BF56,)","v":0},{"$f":"IF(Unternehmen!$AS$24=\"x\",Urmatrix!BG56,)","v":0}]
[null,null,null,null,null,"Wichtigkeit produktspezifischer Dienstleistungen","klein",null,{"$f":"IF(Unternehmen!$E$26=\"x\",Urmatrix!I57,)","v":0},{"$f":"IF(Unternehmen!$E$26=\"x\",Urmatrix!J57,)","v":0},{"$f":"IF(Unternehmen!$E$26=\"x\",Urmatrix!K57,)","v":0},{"$f":"IF(Unternehmen!$E$26=\"x\",Urmatrix!L57,)","v":0},{"$f":"IF(Unternehmen!$E$26=\"x\",Urmatrix!M57,)","v":0},{"$f":"IF(Unternehmen!$E$26=\"x\",Urmatrix!N57,)","v":0},{"$f":"IF(Unternehmen!$E$26=\"x\",Urmatrix!O57,)","v":0},{"$f":"IF(Unternehmen!$E$26=\"x\",Urmatrix!P57,)","v":0},{"$f":"IF(Unternehmen!$E$26=\"x\",Urmatrix!Q57,)","v":0},{"$f":"IF(Unternehmen!$E$26=\"x\",Urmatrix!R57,)","v":0},{"$f":"IF(Unternehmen!$E$26=\"x\",Urmatrix!S57,)","v":0},{"$f":"IF(Unternehmen!$E$26=\"x\",Urmatrix!T57,)","v":0},{"$f":"IF(Unternehmen!$E$26=\"x\",Urmatrix!U57,)","v":0},{"$f":"IF(Unternehmen!$E$26=\"x\",Urmatrix!V57,)","v":0},{"$f":"IF(Unternehmen!$E$26=\"x\",Urmatrix!W57,)","v":0},{"$f":"IF(Unternehmen!$E$26=\"x\",Urmatrix!X57,)","v":0},{"$f":"IF(Unternehmen!$E$26=\"x\",Urmatrix!Y57,)","v":0},{"$f":"IF(Unternehmen!$E$26=\"x\",Urmatrix!Z57,)","v":0},{"$f":"IF(Unternehmen!$E$26=\"x\",Urmatrix!AA57,)","v":0},{"$f":"IF(Unternehmen!$E$26=\"x\",Urmatrix!AB57,)","v":0},{"$f":"IF(Unternehmen!$E$26=\"x\",Urmatrix!AC57,)","v":0},{"$f":"IF(Unternehmen!$E$26=\"x\",Urmatrix!AD57,)","v":0},{"$f":"IF(Unternehmen!$E$26=\"x\",Urmatrix!AE57,)","v":0},{"$f":"IF(Unternehmen!$E$26=\"x\",Urmatrix!AF57,)","v":0},{"$f":"IF(Unternehmen!$E$26=\"x\",Urmatrix!AG57,)","v":0},{"$f":"IF(Unternehmen!$E$26=\"x\",Urmatrix!AH57,)","v":0},{"$f":"IF(Unternehmen!$E$26=\"x\",Urmatrix!AI57,)","v":0},{"$f":"IF(Unternehmen!$E$26=\"x\",Urmatrix!AJ57,)","v":0},{"$f":"IF(Unternehmen!$E$26=\"x\",Urmatrix!AK57,)","v":0},{"$f":"IF(Unternehmen!$E$26=\"x\",Urmatrix!AL57,)","v":0},{"$f":"IF(Unternehmen!$E$26=\"x\",Urmatrix!AM57,)","v":0},{"$f":"IF(Unternehmen!$E$26=\"x\",Urmatrix!AN57,)","v":0},{"$f":"IF(Unternehmen!$E$26=\"x\",Urmatrix!AO57,)","v":0},{"$f":"IF(Unternehmen!$E$26=\"x\",Urmatrix!AP57,)","v":0},{"$f":"IF(Unternehmen!$E$26=\"x\",Urmatrix!AQ57,)","v":0},{"$f":"IF(Unternehmen!$E$26=\"x\",Urmatrix!AR57,)","v":0},{"$f":"IF(Unternehmen!$E$26=\"x\",Urmatrix!AS57,)","v":0},{"$f":"IF(Unternehmen!$E$26=\"x\",Urmatrix!AT57,)","v":0},{"$f":"IF(Unternehmen!$E$26=\"x\",Urmatrix!AU57,)","v":0},{"$f":"IF(Unternehmen!$E$26=\"x\",Urmatrix!AV57,)","v":0},{"$f":"IF(Unternehmen!$E$26=\"x\",Urmatrix!AW57,)","v":0},{"$f":"IF(Unternehmen!$E$26=\"x\",Urmatrix!AX57,)","v":0},{"$f":"IF(Unternehmen!$E$26=\"x\",Urmatrix!AY57,)","v":0},{"$f":"IF(Unternehmen!$E$26=\"x\",Urmatrix!AZ57,)","v":0},{"$f":"IF(Unternehmen!$E$26=\"x\",Urmatrix!BA57,)","v":0},{"$f":"IF(Unternehmen!$E$26=\"x\",Urmatrix!BB57,)","v":0},{"$f":"IF(Unternehmen!$E$26=\"x\",Urmatrix!BC57,)","v":0},{"$f":"IF(Unternehmen!$E$26=\"x\",Urmatrix!BD57,)","v":0},{"$f":"IF(Unternehmen!$E$26=\"x\",Urmatrix!BE57,)","v":0},{"$f":"IF(Unternehmen!$E$26=\"x\",Urmatrix!BF57,)","v":0},{"$f":"IF(Unternehmen!$E$26=\"x\",Urmatrix!BG57,)","v":0}]
[null,null,null,null,null,null,"mittel",null,{"$f":"IF(Unternehmen!$Y$26=\"x\",Urmatrix!I58,)","v":0},{"$f":"IF(Unternehmen!$Y$26=\"x\",Urmatrix!J58,)","v":0},{"$f":"IF(Unternehmen!$Y$26=\"x\",Urmatrix!K58,)","v":0},{"$f":"IF(Unternehmen!$Y$26=\"x\",Urmatrix!L58,)","v":0},{"$f":"IF(Unternehmen!$Y$26=\"x\",Urmatrix!M58,)","v":0},{"$f":"IF(Unternehmen!$Y$26=\"x\",Urmatrix!N58,)","v":0},{"$f":"IF(Unternehmen!$Y$26=\"x\",Urmatrix!O58,)","v":0},{"$f":"IF(Unternehmen!$Y$26=\"x\",Urmatrix!P58,)","v":0},{"$f":"IF(Unternehmen!$Y$26=\"x\",Urmatrix!Q58,)","v":0},{"$f":"IF(Unternehmen!$Y$26=\"x\",Urmatrix!R58,)","v":0},{"$f":"IF(Unternehmen!$Y$26=\"x\",Urmatrix!S58,)","v":0},{"$f":"IF(Unternehmen!$Y$26=\"x\",Urmatrix!T58,)","v":0},{"$f":"IF(Unternehmen!$Y$26=\"x\",Urmatrix!U58,)","v":0},{"$f":"IF(Unternehmen!$Y$26=\"x\",Urmatrix!V58,)","v":0},{"$f":"IF(Unternehmen!$Y$26=\"x\",Urmatrix!W58,)","v":0},{"$f":"IF(Unternehmen!$Y$26=\"x\",Urmatrix!X58,)","v":0},{"$f":"IF(Unternehmen!$Y$26=\"x\",Urmatrix!Y58,)","v":0},{"$f":"IF(Unternehmen!$Y$26=\"x\",Urmatrix!Z58,)","v":0},{"$f":"IF(Unternehmen!$Y$26=\"x\",Urmatrix!AA58,)","v":0},{"$f":"IF(Unternehmen!$Y$26=\"x\",Urmatrix!AB58,)","v":0},{"$f":"IF(Unternehmen!$Y$26=\"x\",Urmatrix!AC58,)","v":0},{"$f":"IF(Unternehmen!$Y$26=\"x\",Urmatrix!AD58,)","v":0},{"$f":"IF(Unternehmen!$Y$26=\"x\",Urmatrix!AE58,)","v":0},{"$f":"IF(Unternehmen!$Y$26=\"x\",Urmatrix!AF58,)","v":0},{"$f":"IF(Unternehmen!$Y$26=\"x\",Urmatrix!AG58,)","v":0},{"$f":"IF(Unternehmen!$Y$26=\"x\",Urmatrix!AH58,)","v":0},{"$f":"IF(Unternehmen!$Y$26=\"x\",Urmatrix!AI58,)","v":0},{"$f":"IF(Unternehmen!$Y$26=\"x\",Urmatrix!AJ58,)","v":0},{"$f":"IF(Unternehmen!$Y$26=\"x\",Urmatrix!AK58,)","v":0},{"$f":"IF(Unternehmen!$Y$26=\"x\",Urmatrix!AL58,)","v":0},{"$f":"IF(Unternehmen!$Y$26=\"x\",Urmatrix!AM58,)","v":0},{"$f":"IF(Unternehmen!$Y$26=\"x\",Urmatrix!AN58,)","v":0},{"$f":"IF(Unternehmen!$Y$26=\"x\",Urmatrix!AO58,)","v":0},{"$f":"IF(Unternehmen!$Y$26=\"x\",Urmatrix!AP58,)","v":0},{"$f":"IF(Unternehmen!$Y$26=\"x\",Urmatrix!AQ58,)","v":0},{"$f":"IF(Unternehmen!$Y$26=\"x\",Urmatrix!AR58,)","v":0},{"$f":"IF(Unternehmen!$Y$26=\"x\",Urmatrix!AS58,)","v":0},{"$f":"IF(Unternehmen!$Y$26=\"x\",Urmatrix!AT58,)","v":0},{"$f":"IF(Unternehmen!$Y$26=\"x\",Urmatrix!AU58,)","v":0},{"$f":"IF(Unternehmen!$Y$26=\"x\",Urmatrix!AV58,)","v":0},{"$f":"IF(Unternehmen!$Y$26=\"x\",Urmatrix!AW58,)","v":0},{"$f":"IF(Unternehmen!$Y$26=\"x\",Urmatrix!AX58,)","v":0},{"$f":"IF(Unternehmen!$Y$26=\"x\",Urmatrix!AY58,)","v":0},{"$f":"IF(Unternehmen!$Y$26=\"x\",Urmatrix!AZ58,)","v":0},{"$f":"IF(Unternehmen!$Y$26=\"x\",Urmatrix!BA58,)","v":0},{"$f":"IF(Unternehmen!$Y$26=\"x\",Urmatrix!BB58,)","v":0},{"$f":"IF(Unternehmen!$Y$26=\"x\",Urmatrix!BC58,)","v":0},{"$f":"IF(Unternehmen!$Y$26=\"x\",Urmatrix!BD58,)","v":0},{"$f":"IF(Unternehmen!$Y$26=\"x\",Urmatrix!BE58,)","v":0},{"$f":"IF(Unternehmen!$Y$26=\"x\",Urmatrix!BF58,)","v":0},{"$f":"IF(Unternehmen!$Y$26=\"x\",Urmatrix!BG58,)","v":0}]
[null,null,null,null,null,null,"groß",null,{"$f":"IF(Unternehmen!$AS$26=\"x\",Urmatrix!I59,)","v":0},{"$f":"IF(Unternehmen!$AS$26=\"x\",Urmatrix!J59,)","v":0},{"$f":"IF(Unternehmen!$AS$26=\"x\",Urmatrix!K59,)","v":0},{"$f":"IF(Unternehmen!$AS$26=\"x\",Urmatrix!L59,)","v":0},{"$f":"IF(Unternehmen!$AS$26=\"x\",Urmatrix!M59,)","v":0},{"$f":"IF(Unternehmen!$AS$26=\"x\",Urmatrix!N59,)","v":0},{"$f":"IF(Unternehmen!$AS$26=\"x\",Urmatrix!O59,)","v":0},{"$f":"IF(Unternehmen!$AS$26=\"x\",Urmatrix!P59,)","v":0},{"$f":"IF(Unternehmen!$AS$26=\"x\",Urmatrix!Q59,)","v":0},{"$f":"IF(Unternehmen!$AS$26=\"x\",Urmatrix!R59,)","v":0},{"$f":"IF(Unternehmen!$AS$26=\"x\",Urmatrix!S59,)","v":0},{"$f":"IF(Unternehmen!$AS$26=\"x\",Urmatrix!T59,)","v":0},{"$f":"IF(Unternehmen!$AS$26=\"x\",Urmatrix!U59,)","v":0},{"$f":"IF(Unternehmen!$AS$26=\"x\",Urmatrix!V59,)","v":0},{"$f":"IF(Unternehmen!$AS$26=\"x\",Urmatrix!W59,)","v":0},{"$f":"IF(Unternehmen!$AS$26=\"x\",Urmatrix!X59,)","v":0},{"$f":"IF(Unternehmen!$AS$26=\"x\",Urmatrix!Y59,)","v":0},{"$f":"IF(Unternehmen!$AS$26=\"x\",Urmatrix!Z59,)","v":0},{"$f":"IF(Unternehmen!$AS$26=\"x\",Urmatrix!AA59,)","v":0},{"$f":"IF(Unternehmen!$AS$26=\"x\",Urmatrix!AB59,)","v":0},{"$f":"IF(Unternehmen!$AS$26=\"x\",Urmatrix!AC59,)","v":0},{"$f":"IF(Unternehmen!$AS$26=\"x\",Urmatrix!AD59,)","v":0},{"$f":"IF(Unternehmen!$AS$26=\"x\",Urmatrix!AE59,)","v":0},{"$f":"IF(Unternehmen!$AS$26=\"x\",Urmatrix!AF59,)","v":0},{"$f":"IF(Unternehmen!$AS$26=\"x\",Urmatrix!AG59,)","v":0},{"$f":"IF(Unternehmen!$AS$26=\"x\",Urmatrix!AH59,)","v":0},{"$f":"IF(Unternehmen!$AS$26=\"x\",Urmatrix!AI59,)","v":0},{"$f":"IF(Unternehmen!$AS$26=\"x\",Urmatrix!AJ59,)","v":0},{"$f":"IF(Unternehmen!$AS$26=\"x\",Urmatrix!AK59,)","v":0},{"$f":"IF(Unternehmen!$AS$26=\"x\",Urmatrix!AL59,)","v":0},{"$f":"IF(Unternehmen!$AS$26=\"x\",Urmatrix!AM59,)","v":0},{"$f":"IF(Unternehmen!$AS$26=\"x\",Urmatrix!AN59,)","v":0},{"$f":"IF(Unternehmen!$AS$26=\"x\",Urmatrix!AO59,)","v":0},{"$f":"IF(Unternehmen!$AS$26=\"x\",Urmatrix!AP59,)","v":0},{"$f":"IF(Unternehmen!$AS$26=\"x\",Urmatrix!AQ59,)","v":0},{"$f":"IF(Unternehmen!$AS$26=\"x\",Urmatrix!AR59,)","v":0},{"$f":"IF(Unternehmen!$AS$26=\"x\",Urmatrix!AS59,)","v":0},{"$f":"IF(Unternehmen!$AS$26=\"x\",Urmatrix!AT59,)","v":0},{"$f":"IF(Unternehmen!$AS$26=\"x\",Urmatrix!AU59,)","v":0},{"$f":"IF(Unternehmen!$AS$26=\"x\",Urmatrix!AV59,)","v":0},{"$f":"IF(Unternehmen!$AS$26=\"x\",Urmatrix!AW59,)","v":0},{"$f":"IF(Unternehmen!$AS$26=\"x\",Urmatrix!AX59,)","v":0},{"$f":"IF(Unternehmen!$AS$26=\"x\",Urmatrix!AY59,)","v":0},{"$f":"IF(Unternehmen!$AS$26=\"x\",Urmatrix!AZ59,)","v":0},{"$f":"IF(Unternehmen!$AS$26=\"x\",Urmatrix!BA59,)","v":0},{"$f":"IF(Unternehmen!$AS$26=\"x\",Urmatrix!BB59,)","v":0},{"$f":"IF(Unternehmen!$AS$26=\"x\",Urmatrix!BC59,)","v":0},{"$f":"IF(Unternehmen!$AS$26=\"x\",Urmatrix!BD59,)","v":0},{"$f":"IF(Unternehmen!$AS$26=\"x\",Urmatrix!BE59,)","v":0},{"$f":"IF(Unternehmen!$AS$26=\"x\",Urmatrix!BF59,)","v":0},{"$f":"IF(Unternehmen!$AS$26=\"x\",Urmatrix!BG59,)","v":0}]
[null,null,null,null,null,"Häufigkeit des\nKundenbedarfs","nicht wiederkehrend","X",{"$f":"IF(Unternehmen!$E$28=\"x\",Urmatrix!I60,)","v":0},{"$f":"IF(Unternehmen!$E$28=\"x\",Urmatrix!J60,)","v":0},{"$f":"IF(Unternehmen!$E$28=\"x\",Urmatrix!K60,)","v":0},{"$f":"IF(Unternehmen!$E$28=\"x\",Urmatrix!L60,)","v":0},{"$f":"IF(Unternehmen!$E$28=\"x\",Urmatrix!M60,)","v":0},{"$f":"IF(Unternehmen!$E$28=\"x\",Urmatrix!N60,)","v":0},{"$f":"IF(Unternehmen!$E$28=\"x\",Urmatrix!O60,)","v":0},{"$f":"IF(Unternehmen!$E$28=\"x\",Urmatrix!P60,)","v":0},{"$f":"IF(Unternehmen!$E$28=\"x\",Urmatrix!Q60,)","v":0},{"$f":"IF(Unternehmen!$E$28=\"x\",Urmatrix!R60,)","v":0},{"$f":"IF(Unternehmen!$E$28=\"x\",Urmatrix!S60,)","v":0},{"$f":"IF(Unternehmen!$E$28=\"x\",Urmatrix!T60,)","v":0},{"$f":"IF(Unternehmen!$E$28=\"x\",Urmatrix!U60,)","v":0},{"$f":"IF(Unternehmen!$E$28=\"x\",Urmatrix!V60,)","v":0},{"$f":"IF(Unternehmen!$E$28=\"x\",Urmatrix!W60,)","v":0},{"$f":"IF(Unternehmen!$E$28=\"x\",Urmatrix!X60,)","v":0},{"$f":"IF(Unternehmen!$E$28=\"x\",Urmatrix!Y60,)","v":0},{"$f":"IF(Unternehmen!$E$28=\"x\",Urmatrix!Z60,)","v":0},{"$f":"IF(Unternehmen!$E$28=\"x\",Urmatrix!AA60,)","v":0},{"$f":"IF(Unternehmen!$E$28=\"x\",Urmatrix!AB60,)","v":0},{"$f":"IF(Unternehmen!$E$28=\"x\",Urmatrix!AC60,)","v":0},{"$f":"IF(Unternehmen!$E$28=\"x\",Urmatrix!AD60,)","v":0},{"$f":"IF(Unternehmen!$E$28=\"x\",Urmatrix!AE60,)","v":0},{"$f":"IF(Unternehmen!$E$28=\"x\",Urmatrix!AF60,)","v":0},{"$f":"IF(Unternehmen!$E$28=\"x\",Urmatrix!AG60,)","v":0},{"$f":"IF(Unternehmen!$E$28=\"x\",Urmatrix!AH60,)","v":0},{"$f":"IF(Unternehmen!$E$28=\"x\",Urmatrix!AI60,)","v":0},{"$f":"IF(Unternehmen!$E$28=\"x\",Urmatrix!AJ60,)","v":0},{"$f":"IF(Unternehmen!$E$28=\"x\",Urmatrix!AK60,)","v":0},{"$f":"IF(Unternehmen!$E$28=\"x\",Urmatrix!AL60,)","v":0},{"$f":"IF(Unternehmen!$E$28=\"x\",Urmatrix!AM60,)","v":0},{"$f":"IF(Unternehmen!$E$28=\"x\",Urmatrix!AN60,)","v":0},{"$f":"IF(Unternehmen!$E$28=\"x\",Urmatrix!AO60,)","v":0},{"$f":"IF(Unternehmen!$E$28=\"x\",Urmatrix!AP60,)","v":0},{"$f":"IF(Unternehmen!$E$28=\"x\",Urmatrix!AQ60,)","v":0},{"$f":"IF(Unternehmen!$E$28=\"x\",Urmatrix!AR60,)","v":0},{"$f":"IF(Unternehmen!$E$28=\"x\",Urmatrix!AS60,)","v":0},{"$f":"IF(Unternehmen!$E$28=\"x\",Urmatrix!AT60,)","v":0},{"$f":"IF(Unternehmen!$E$28=\"x\",Urmatrix!AU60,)","v":0},{"$f":"IF(Unternehmen!$E$28=\"x\",Urmatrix!AV60,)","v":0},{"$f":"IF(Unternehmen!$E$28=\"x\",Urmatrix!AW60,)","v":0},{"$f":"IF(Unternehmen!$E$28=\"x\",Urmatrix!AX60,)","v":0},{"$f":"IF(Unternehmen!$E$28=\"x\",Urmatrix!AY60,)","v":0},{"$f":"IF(Unternehmen!$E$28=\"x\",Urmatrix!AZ60,)","v":0},{"$f":"IF(Unternehmen!$E$28=\"x\",Urmatrix!BA60,)","v":0},{"$f":"IF(Unternehmen!$E$28=\"x\",Urmatrix!BB60,)","v":0},{"$f":"IF(Unternehmen!$E$28=\"x\",Urmatrix!BC60,)","v":0},{"$f":"IF(Unternehmen!$E$28=\"x\",Urmatrix!BD60,)","v":0},{"$f":"IF(Unternehmen!$E$28=\"x\",Urmatrix!BE60,)","v":0},{"$f":"IF(Unternehmen!$E$28=\"x\",Urmatrix!BF60,)","v":0},{"$f":"IF(Unternehmen!$E$28=\"x\",Urmatrix!BG60,)","v":0}]
[null,null,null,null,null,null,"blockweise",null,{"$f":"IF(Unternehmen!$T$28=\"x\",Urmatrix!I61,)","v":0},{"$f":"IF(Unternehmen!$T$28=\"x\",Urmatrix!J61,)","v":0},{"$f":"IF(Unternehmen!$T$28=\"x\",Urmatrix!K61,)","v":0},{"$f":"IF(Unternehmen!$T$28=\"x\",Urmatrix!L61,)","v":0},{"$f":"IF(Unternehmen!$T$28=\"x\",Urmatrix!M61,)","v":0},{"$f":"IF(Unternehmen!$T$28=\"x\",Urmatrix!N61,)","v":0},{"$f":"IF(Unternehmen!$T$28=\"x\",Urmatrix!O61,)","v":0},{"$f":"IF(Unternehmen!$T$28=\"x\",Urmatrix!P61,)","v":0},{"$f":"IF(Unternehmen!$T$28=\"x\",Urmatrix!Q61,)","v":0},{"$f":"IF(Unternehmen!$T$28=\"x\",Urmatrix!R61,)","v":0},{"$f":"IF(Unternehmen!$T$28=\"x\",Urmatrix!S61,)","v":0},{"$f":"IF(Unternehmen!$T$28=\"x\",Urmatrix!T61,)","v":0},{"$f":"IF(Unternehmen!$T$28=\"x\",Urmatrix!U61,)","v":0},{"$f":"IF(Unternehmen!$T$28=\"x\",Urmatrix!V61,)","v":0},{"$f":"IF(Unternehmen!$T$28=\"x\",Urmatrix!W61,)","v":0},{"$f":"IF(Unternehmen!$T$28=\"x\",Urmatrix!X61,)","v":0},{"$f":"IF(Unternehmen!$T$28=\"x\",Urmatrix!Y61,)","v":0},{"$f":"IF(Unternehmen!$T$28=\"x\",Urmatrix!Z61,)","v":0},{"$f":"IF(Unternehmen!$T$28=\"x\",Urmatrix!AA61,)","v":0},{"$f":"IF(Unternehmen!$T$28=\"x\",Urmatrix!AB61,)","v":0},{"$f":"IF(Unternehmen!$T$28=\"x\",Urmatrix!AC61,)","v":0},{"$f":"IF(Unternehmen!$T$28=\"x\",Urmatrix!AD61,)","v":0},{"$f":"IF(Unternehmen!$T$28=\"x\",Urmatrix!AE61,)","v":0},{"$f":"IF(Unternehmen!$T$28=\"x\",Urmatrix!AF61,)","v":0},{"$f":"IF(Unternehmen!$T$28=\"x\",Urmatrix!AG61,)","v":0},{"$f":"IF(Unternehmen!$T$28=\"x\",Urmatrix!AH61,)","v":0},{"$f":"IF(Unternehmen!$T$28=\"x\",Urmatrix!AI61,)","v":0},{"$f":"IF(Unternehmen!$T$28=\"x\",Urmatrix!AJ61,)","v":0},{"$f":"IF(Unternehmen!$T$28=\"x\",Urmatrix!AK61,)","v":0},{"$f":"IF(Unternehmen!$T$28=\"x\",Urmatrix!AL61,)","v":0},{"$f":"IF(Unternehmen!$T$28=\"x\",Urmatrix!AM61,)","v":0},{"$f":"IF(Unternehmen!$T$28=\"x\",Urmatrix!AN61,)","v":0},{"$f":"IF(Unternehmen!$T$28=\"x\",Urmatrix!AO61,)","v":0},{"$f":"IF(Unternehmen!$T$28=\"x\",Urmatrix!AP61,)","v":0},{"$f":"IF(Unternehmen!$T$28=\"x\",Urmatrix!AQ61,)","v":0},{"$f":"IF(Unternehmen!$T$28=\"x\",Urmatrix!AR61,)","v":0},{"$f":"IF(Unternehmen!$T$28=\"x\",Urmatrix!AS61,)","v":0},{"$f":"IF(Unternehmen!$T$28=\"x\",Urmatrix!AT61,)","v":0},{"$f":"IF(Unternehmen!$T$28=\"x\",Urmatrix!AU61,)","v":0},{"$f":"IF(Unternehmen!$T$28=\"x\",Urmatrix!AV61,)","v":0},{"$f":"IF(Unternehmen!$T$28=\"x\",Urmatrix!AW61,)","v":0},{"$f":"IF(Unternehmen!$T$28=\"x\",Urmatrix!AX61,)","v":0},{"$f":"IF(Unternehmen!$T$28=\"x\",Urmatrix!AY61,)","v":0},{"$f":"IF(Unternehmen!$T$28=\"x\",Urmatrix!AZ61,)","v":0},{"$f":"IF(Unternehmen!$T$28=\"x\",Urmatrix!BA61,)","v":0},{"$f":"IF(Unternehmen!$T$28=\"x\",Urmatrix!BB61,)","v":0},{"$f":"IF(Unternehmen!$T$28=\"x\",Urmatrix!BC61,)","v":0},{"$f":"IF(Unternehmen!$T$28=\"x\",Urmatrix!BD61,)","v":0},{"$f":"IF(Unternehmen!$T$28=\"x\",Urmatrix!BE61,)","v":0},{"$f":"IF(Unternehmen!$T$28=\"x\",Urmatrix!BF61,)","v":0},{"$f":"IF(Unternehmen!$T$28=\"x\",Urmatrix!BG61,)","v":0}]
[null,null,null,null,null,null,"regulär",null,{"$f":"IF(Unternehmen!$AI$28=\"x\",Urmatrix!I62,)","v":0},{"$f":"IF(Unternehmen!$AI$28=\"x\",Urmatrix!J62,)","v":0},{"$f":"IF(Unternehmen!$AI$28=\"x\",Urmatrix!K62,)","v":0},{"$f":"IF(Unternehmen!$AI$28=\"x\",Urmatrix!L62,)","v":0},{"$f":"IF(Unternehmen!$AI$28=\"x\",Urmatrix!M62,)","v":0},{"$f":"IF(Unternehmen!$AI$28=\"x\",Urmatrix!N62,)","v":0},{"$f":"IF(Unternehmen!$AI$28=\"x\",Urmatrix!O62,)","v":0},{"$f":"IF(Unternehmen!$AI$28=\"x\",Urmatrix!P62,)","v":0},{"$f":"IF(Unternehmen!$AI$28=\"x\",Urmatrix!Q62,)","v":0},{"$f":"IF(Unternehmen!$AI$28=\"x\",Urmatrix!R62,)","v":0},{"$f":"IF(Unternehmen!$AI$28=\"x\",Urmatrix!S62,)","v":0},{"$f":"IF(Unternehmen!$AI$28=\"x\",Urmatrix!T62,)","v":0},{"$f":"IF(Unternehmen!$AI$28=\"x\",Urmatrix!U62,)","v":0},{"$f":"IF(Unternehmen!$AI$28=\"x\",Urmatrix!V62,)","v":0},{"$f":"IF(Unternehmen!$AI$28=\"x\",Urmatrix!W62,)","v":0},{"$f":"IF(Unternehmen!$AI$28=\"x\",Urmatrix!X62,)","v":0},{"$f":"IF(Unternehmen!$AI$28=\"x\",Urmatrix!Y62,)","v":0},{"$f":"IF(Unternehmen!$AI$28=\"x\",Urmatrix!Z62,)","v":0},{"$f":"IF(Unternehmen!$AI$28=\"x\",Urmatrix!AA62,)","v":0},{"$f":"IF(Unternehmen!$AI$28=\"x\",Urmatrix!AB62,)","v":0},{"$f":"IF(Unternehmen!$AI$28=\"x\",Urmatrix!AC62,)","v":0},{"$f":"IF(Unternehmen!$AI$28=\"x\",Urmatrix!AD62,)","v":0},{"$f":"IF(Unternehmen!$AI$28=\"x\",Urmatrix!AE62,)","v":0},{"$f":"IF(Unternehmen!$AI$28=\"x\",Urmatrix!AF62,)","v":0},{"$f":"IF(Unternehmen!$AI$28=\"x\",Urmatrix!AG62,)","v":0},{"$f":"IF(Unternehmen!$AI$28=\"x\",Urmatrix!AH62,)","v":0},{"$f":"IF(Unternehmen!$AI$28=\"x\",Urmatrix!AI62,)","v":0},{"$f":"IF(Unternehmen!$AI$28=\"x\",Urmatrix!AJ62,)","v":0},{"$f":"IF(Unternehmen!$AI$28=\"x\",Urmatrix!AK62,)","v":0},{"$f":"IF(Unternehmen!$AI$28=\"x\",Urmatrix!AL62,)","v":0},{"$f":"IF(Unternehmen!$AI$28=\"x\",Urmatrix!AM62,)","v":0},{"$f":"IF(Unternehmen!$AI$28=\"x\",Urmatrix!AN62,)","v":0},{"$f":"IF(Unternehmen!$AI$28=\"x\",Urmatrix!AO62,)","v":0},{"$f":"IF(Unternehmen!$AI$28=\"x\",Urmatrix!AP62,)","v":0},{"$f":"IF(Unternehmen!$AI$28=\"x\",Urmatrix!AQ62,)","v":0},{"$f":"IF(Unternehmen!$AI$28=\"x\",Urmatrix!AR62,)","v":0},{"$f":"IF(Unternehmen!$AI$28=\"x\",Urmatrix!AS62,)","v":0},{"$f":"IF(Unternehmen!$AI$28=\"x\",Urmatrix!AT62,)","v":0},{"$f":"IF(Unternehmen!$AI$28=\"x\",Urmatrix!AU62,)","v":0},{"$f":"IF(Unternehmen!$AI$28=\"x\",Urmatrix!AV62,)","v":0},{"$f":"IF(Unternehmen!$AI$28=\"x\",Urmatrix!AW62,)","v":0},{"$f":"IF(Unternehmen!$AI$28=\"x\",Urmatrix!AX62,)","v":0},{"$f":"IF(Unternehmen!$AI$28=\"x\",Urmatrix!AY62,)","v":0},{"$f":"IF(Unternehmen!$AI$28=\"x\",Urmatrix!AZ62,)","v":0},{"$f":"IF(Unternehmen!$AI$28=\"x\",Urmatrix!BA62,)","v":0},{"$f":"IF(Unternehmen!$AI$28=\"x\",Urmatrix!BB62,)","v":0},{"$f":"IF(Unternehmen!$AI$28=\"x\",Urmatrix!BC62,)","v":0},{"$f":"IF(Unternehmen!$AI$28=\"x\",Urmatrix!BD62,)","v":0},{"$f":"IF(Unternehmen!$AI$28=\"x\",Urmatrix!BE62,)","v":0},{"$f":"IF(Unternehmen!$AI$28=\"x\",Urmatrix!BF62,)","v":0},{"$f":"IF(Unternehmen!$AI$28=\"x\",Urmatrix!BG62,)","v":0}]
[null,null,null,null,null,null,"kontinuierlich",null,{"$f":"IF(Unternehmen!$AX$28=\"x\",Urmatrix!I63,)","v":0},{"$f":"IF(Unternehmen!$AX$28=\"x\",Urmatrix!J63,)","v":0},{"$f":"IF(Unternehmen!$AX$28=\"x\",Urmatrix!K63,)","v":0},{"$f":"IF(Unternehmen!$AX$28=\"x\",Urmatrix!L63,)","v":0},{"$f":"IF(Unternehmen!$AX$28=\"x\",Urmatrix!M63,)","v":0},{"$f":"IF(Unternehmen!$AX$28=\"x\",Urmatrix!N63,)","v":0},{"$f":"IF(Unternehmen!$AX$28=\"x\",Urmatrix!O63,)","v":0},{"$f":"IF(Unternehmen!$AX$28=\"x\",Urmatrix!P63,)","v":0},{"$f":"IF(Unternehmen!$AX$28=\"x\",Urmatrix!Q63,)","v":0},{"$f":"IF(Unternehmen!$AX$28=\"x\",Urmatrix!R63,)","v":0},{"$f":"IF(Unternehmen!$AX$28=\"x\",Urmatrix!S63,)","v":0},{"$f":"IF(Unternehmen!$AX$28=\"x\",Urmatrix!T63,)","v":0},{"$f":"IF(Unternehmen!$AX$28=\"x\",Urmatrix!U63,)","v":0},{"$f":"IF(Unternehmen!$AX$28=\"x\",Urmatrix!V63,)","v":0},{"$f":"IF(Unternehmen!$AX$28=\"x\",Urmatrix!W63,)","v":0},{"$f":"IF(Unternehmen!$AX$28=\"x\",Urmatrix!X63,)","v":0},{"$f":"IF(Unternehmen!$AX$28=\"x\",Urmatrix!Y63,)","v":0},{"$f":"IF(Unternehmen!$AX$28=\"x\",Urmatrix!Z63,)","v":0},{"$f":"IF(Unternehmen!$AX$28=\"x\",Urmatrix!AA63,)","v":0},{"$f":"IF(Unternehmen!$AX$28=\"x\",Urmatrix!AB63,)","v":0},{"$f":"IF(Unternehmen!$AX$28=\"x\",Urmatrix!AC63,)","v":0},{"$f":"IF(Unternehmen!$AX$28=\"x\",Urmatrix!AD63,)","v":0},{"$f":"IF(Unternehmen!$AX$28=\"x\",Urmatrix!AE63,)","v":0},{"$f":"IF(Unternehmen!$AX$28=\"x\",Urmatrix!AF63,)","v":0},{"$f":"IF(Unternehmen!$AX$28=\"x\",Urmatrix!AG63,)","v":0},{"$f":"IF(Unternehmen!$AX$28=\"x\",Urmatrix!AH63,)","v":0},{"$f":"IF(Unternehmen!$AX$28=\"x\",Urmatrix!AI63,)","v":0},{"$f":"IF(Unternehmen!$AX$28=\"x\",Urmatrix!AJ63,)","v":0},{"$f":"IF(Unternehmen!$AX$28=\"x\",Urmatrix!AK63,)","v":0},{"$f":"IF(Unternehmen!$AX$28=\"x\",Urmatrix!AL63,)","v":0},{"$f":"IF(Unternehmen!$AX$28=\"x\",Urmatrix!AM63,)","v":0},{"$f":"IF(Unternehmen!$AX$28=\"x\",Urmatrix!AN63,)","v":0},{"$f":"IF(Unternehmen!$AX$28=\"x\",Urmatrix!AO63,)","v":0},{"$f":"IF(Unternehmen!$AX$28=\"x\",Urmatrix!AP63,)","v":0},{"$f":"IF(Unternehmen!$AX$28=\"x\",Urmatrix!AQ63,)","v":0},{"$f":"IF(Unternehmen!$AX$28=\"x\",Urmatrix!AR63,)","v":0},{"$f":"IF(Unternehmen!$AX$28=\"x\",Urmatrix!AS63,)","v":0},{"$f":"IF(Unternehmen!$AX$28=\"x\",Urmatrix!AT63,)","v":0},{"$f":"IF(Unternehmen!$AX$28=\"x\",Urmatrix!AU63,)","v":0},{"$f":"IF(Unternehmen!$AX$28=\"x\",Urmatrix!AV63,)","v":0},{"$f":"IF(Unternehmen!$AX$28=\"x\",Urmatrix!AW63,)","v":0},{"$f":"IF(Unternehmen!$AX$28=\"x\",Urmatrix!AX63,)","v":0},{"$f":"IF(Unternehmen!$AX$28=\"x\",Urmatrix!AY63,)","v":0},{"$f":"IF(Unternehmen!$AX$28=\"x\",Urmatrix!AZ63,)","v":0},{"$f":"IF(Unternehmen!$AX$28=\"x\",Urmatrix!BA63,)","v":0},{"$f":"IF(Unternehmen!$AX$28=\"x\",Urmatrix!BB63,)","v":0},{"$f":"IF(Unternehmen!$AX$28=\"x\",Urmatrix!BC63,)","v":0},{"$f":"IF(Unternehmen!$AX$28=\"x\",Urmatrix!BD63,)","v":0},{"$f":"IF(Unternehmen!$AX$28=\"x\",Urmatrix!BE63,)","v":0},{"$f":"IF(Unternehmen!$AX$28=\"x\",Urmatrix!BF63,)","v":0},{"$f":"IF(Unternehmen!$AX$28=\"x\",Urmatrix!BG63,)","v":0}]
[null,null,null,null,null,"Regelmäßigkeit des\nKundenbedarfs","unregelmäßig",null,{"$f":"IF(Unternehmen!$E$30=\"x\",Urmatrix!I64,)","v":0},{"$f":"IF(Unternehmen!$E$30=\"x\",Urmatrix!J64,)","v":0},{"$f":"IF(Unternehmen!$E$30=\"x\",Urmatrix!K64,)","v":0},{"$f":"IF(Unternehmen!$E$30=\"x\",Urmatrix!L64,)","v":0},{"$f":"IF(Unternehmen!$E$30=\"x\",Urmatrix!M64,)","v":0},{"$f":"IF(Unternehmen!$E$30=\"x\",Urmatrix!N64,)","v":0},{"$f":"IF(Unternehmen!$E$30=\"x\",Urmatrix!O64,)","v":0},{"$f":"IF(Unternehmen!$E$30=\"x\",Urmatrix!P64,)","v":0},{"$f":"IF(Unternehmen!$E$30=\"x\",Urmatrix!Q64,)","v":0},{"$f":"IF(Unternehmen!$E$30=\"x\",Urmatrix!R64,)","v":0},{"$f":"IF(Unternehmen!$E$30=\"x\",Urmatrix!S64,)","v":0},{"$f":"IF(Unternehmen!$E$30=\"x\",Urmatrix!T64,)","v":0},{"$f":"IF(Unternehmen!$E$30=\"x\",Urmatrix!U64,)","v":0},{"$f":"IF(Unternehmen!$E$30=\"x\",Urmatrix!V64,)","v":0},{"$f":"IF(Unternehmen!$E$30=\"x\",Urmatrix!W64,)","v":0},{"$f":"IF(Unternehmen!$E$30=\"x\",Urmatrix!X64,)","v":0},{"$f":"IF(Unternehmen!$E$30=\"x\",Urmatrix!Y64,)","v":0},{"$f":"IF(Unternehmen!$E$30=\"x\",Urmatrix!Z64,)","v":0},{"$f":"IF(Unternehmen!$E$30=\"x\",Urmatrix!AA64,)","v":0},{"$f":"IF(Unternehmen!$E$30=\"x\",Urmatrix!AB64,)","v":0},{"$f":"IF(Unternehmen!$E$30=\"x\",Urmatrix!AC64,)","v":0},{"$f":"IF(Unternehmen!$E$30=\"x\",Urmatrix!AD64,)","v":0},{"$f":"IF(Unternehmen!$E$30=\"x\",Urmatrix!AE64,)","v":0},{"$f":"IF(Unternehmen!$E$30=\"x\",Urmatrix!AF64,)","v":0},{"$f":"IF(Unternehmen!$E$30=\"x\",Urmatrix!AG64,)","v":0},{"$f":"IF(Unternehmen!$E$30=\"x\",Urmatrix!AH64,)","v":0},{"$f":"IF(Unternehmen!$E$30=\"x\",Urmatrix!AI64,)","v":0},{"$f":"IF(Unternehmen!$E$30=\"x\",Urmatrix!AJ64,)","v":0},{"$f":"IF(Unternehmen!$E$30=\"x\",Urmatrix!AK64,)","v":0},{"$f":"IF(Unternehmen!$E$30=\"x\",Urmatrix!AL64,)","v":0},{"$f":"IF(Unternehmen!$E$30=\"x\",Urmatrix!AM64,)","v":0},{"$f":"IF(Unternehmen!$E$30=\"x\",Urmatrix!AN64,)","v":0},{"$f":"IF(Unternehmen!$E$30=\"x\",Urmatrix!AO64,)","v":0},{"$f":"IF(Unternehmen!$E$30=\"x\",Urmatrix!AP64,)","v":0},{"$f":"IF(Unternehmen!$E$30=\"x\",Urmatrix!AQ64,)","v":0},{"$f":"IF(Unternehmen!$E$30=\"x\",Urmatrix!AR64,)","v":0},{"$f":"IF(Unternehmen!$E$30=\"x\",Urmatrix!AS64,)","v":0},{"$f":"IF(Unternehmen!$E$30=\"x\",Urmatrix!AT64,)","v":0},{"$f":"IF(Unternehmen!$E$30=\"x\",Urmatrix!AU64,)","v":0},{"$f":"IF(Unternehmen!$E$30=\"x\",Urmatrix!AV64,)","v":0},{"$f":"IF(Unternehmen!$E$30=\"x\",Urmatrix!AW64,)","v":0},{"$f":"IF(Unternehmen!$E$30=\"x\",Urmatrix!AX64,)","v":0},{"$f":"IF(Unternehmen!$E$30=\"x\",Urmatrix!AY64,)","v":0},{"$f":"IF(Unternehmen!$E$30=\"x\",Urmatrix!AZ64,)","v":0},{"$f":"IF(Unternehmen!$E$30=\"x\",Urmatrix!BA64,)","v":0},{"$f":"IF(Unternehmen!$E$30=\"x\",Urmatrix!BB64,)","v":0},{"$f":"IF(Unternehmen!$E$30=\"x\",Urmatrix!BC64,)","v":0},{"$f":"IF(Unternehmen!$E$30=\"x\",Urmatrix!BD64,)","v":0},{"$f":"IF(Unternehmen!$E$30=\"x\",Urmatrix!BE64,)","v":0},{"$f":"IF(Unternehmen!$E$30=\"x\",Urmatrix!BF64,)","v":0},{"$f":"IF(Unternehmen!$E$30=\"x\",Urmatrix!BG64,)","v":0}]
[null,null,null,null,null,null,"saisonal",null,{"$f":"IF(Unternehmen!$T$30=\"x\",Urmatrix!I65,)","v":0},{"$f":"IF(Unternehmen!$T$30=\"x\",Urmatrix!J65,)","v":0},{"$f":"IF(Unternehmen!$T$30=\"x\",Urmatrix!K65,)","v":0},{"$f":"IF(Unternehmen!$T$30=\"x\",Urmatrix!L65,)","v":0},{"$f":"IF(Unternehmen!$T$30=\"x\",Urmatrix!M65,)","v":0},{"$f":"IF(Unternehmen!$T$30=\"x\",Urmatrix!N65,)","v":0},{"$f":"IF(Unternehmen!$T$30=\"x\",Urmatrix!O65,)","v":0},{"$f":"IF(Unternehmen!$T$30=\"x\",Urmatrix!P65,)","v":0},{"$f":"IF(Unternehmen!$T$30=\"x\",Urmatrix!Q65,)","v":0},{"$f":"IF(Unternehmen!$T$30=\"x\",Urmatrix!R65,)","v":0},{"$f":"IF(Unternehmen!$T$30=\"x\",Urmatrix!S65,)","v":0},{"$f":"IF(Unternehmen!$T$30=\"x\",Urmatrix!T65,)","v":0},{"$f":"IF(Unternehmen!$T$30=\"x\",Urmatrix!U65,)","v":0},{"$f":"IF(Unternehmen!$T$30=\"x\",Urmatrix!V65,)","v":0},{"$f":"IF(Unternehmen!$T$30=\"x\",Urmatrix!W65,)","v":0},{"$f":"IF(Unternehmen!$T$30=\"x\",Urmatrix!X65,)","v":0},{"$f":"IF(Unternehmen!$T$30=\"x\",Urmatrix!Y65,)","v":0},{"$f":"IF(Unternehmen!$T$30=\"x\",Urmatrix!Z65,)","v":0},{"$f":"IF(Unternehmen!$T$30=\"x\",Urmatrix!AA65,)","v":0},{"$f":"IF(Unternehmen!$T$30=\"x\",Urmatrix!AB65,)","v":0},{"$f":"IF(Unternehmen!$T$30=\"x\",Urmatrix!AC65,)","v":0},{"$f":"IF(Unternehmen!$T$30=\"x\",Urmatrix!AD65,)","v":0},{"$f":"IF(Unternehmen!$T$30=\"x\",Urmatrix!AE65,)","v":0},{"$f":"IF(Unternehmen!$T$30=\"x\",Urmatrix!AF65,)","v":0},{"$f":"IF(Unternehmen!$T$30=\"x\",Urmatrix!AG65,)","v":0},{"$f":"IF(Unternehmen!$T$30=\"x\",Urmatrix!AH65,)","v":0},{"$f":"IF(Unternehmen!$T$30=\"x\",Urmatrix!AI65,)","v":0},{"$f":"IF(Unternehmen!$T$30=\"x\",Urmatrix!AJ65,)","v":0},{"$f":"IF(Unternehmen!$T$30=\"x\",Urmatrix!AK65,)","v":0},{"$f":"IF(Unternehmen!$T$30=\"x\",Urmatrix!AL65,)","v":0},{"$f":"IF(Unternehmen!$T$30=\"x\",Urmatrix!AM65,)","v":0},{"$f":"IF(Unternehmen!$T$30=\"x\",Urmatrix!AN65,)","v":0},{"$f":"IF(Unternehmen!$T$30=\"x\",Urmatrix!AO65,)","v":0},{"$f":"IF(Unternehmen!$T$30=\"x\",Urmatrix!AP65,)","v":0},{"$f":"IF(Unternehmen!$T$30=\"x\",Urmatrix!AQ65,)","v":0},{"$f":"IF(Unternehmen!$T$30=\"x\",Urmatrix!AR65,)","v":0},{"$f":"IF(Unternehmen!$T$30=\"x\",Urmatrix!AS65,)","v":0},{"$f":"IF(Unternehmen!$T$30=\"x\",Urmatrix!AT65,)","v":0},{"$f":"IF(Unternehmen!$T$30=\"x\",Urmatrix!AU65,)","v":0},{"$f":"IF(Unternehmen!$T$30=\"x\",Urmatrix!AV65,)","v":0},{"$f":"IF(Unternehmen!$T$30=\"x\",Urmatrix!AW65,)","v":0},{"$f":"IF(Unternehmen!$T$30=\"x\",Urmatrix!AX65,)","v":0},{"$f":"IF(Unternehmen!$T$30=\"x\",Urmatrix!AY65,)","v":0},{"$f":"IF(Unternehmen!$T$30=\"x\",Urmatrix!AZ65,)","v":0},{"$f":"IF(Unternehmen!$T$30=\"x\",Urmatrix!BA65,)","v":0},{"$f":"IF(Unternehmen!$T$30=\"x\",Urmatrix!BB65,)","v":0},{"$f":"IF(Unternehmen!$T$30=\"x\",Urmatrix!BC65,)","v":0},{"$f":"IF(Unternehmen!$T$30=\"x\",Urmatrix!BD65,)","v":0},{"$f":"IF(Unternehmen!$T$30=\"x\",Urmatrix!BE65,)","v":0},{"$f":"IF(Unternehmen!$T$30=\"x\",Urmatrix!BF65,)","v":0},{"$f":"IF(Unternehmen!$T$30=\"x\",Urmatrix!BG65,)","v":0}]
[null,null,null,null,null,null,"trendabhängig",null,{"$f":"IF(Unternehmen!$AI$30=\"x\",Urmatrix!I66,)","v":0},{"$f":"IF(Unternehmen!$AI$30=\"x\",Urmatrix!J66,)","v":0},{"$f":"IF(Unternehmen!$AI$30=\"x\",Urmatrix!K66,)","v":0},{"$f":"IF(Unternehmen!$AI$30=\"x\",Urmatrix!L66,)","v":0},{"$f":"IF(Unternehmen!$AI$30=\"x\",Urmatrix!M66,)","v":0},{"$f":"IF(Unternehmen!$AI$30=\"x\",Urmatrix!N66,)","v":0},{"$f":"IF(Unternehmen!$AI$30=\"x\",Urmatrix!O66,)","v":0},{"$f":"IF(Unternehmen!$AI$30=\"x\",Urmatrix!P66,)","v":0},{"$f":"IF(Unternehmen!$AI$30=\"x\",Urmatrix!Q66,)","v":0},{"$f":"IF(Unternehmen!$AI$30=\"x\",Urmatrix!R66,)","v":0},{"$f":"IF(Unternehmen!$AI$30=\"x\",Urmatrix!S66,)","v":0},{"$f":"IF(Unternehmen!$AI$30=\"x\",Urmatrix!T66,)","v":0},{"$f":"IF(Unternehmen!$AI$30=\"x\",Urmatrix!U66,)","v":0},{"$f":"IF(Unternehmen!$AI$30=\"x\",Urmatrix!V66,)","v":0},{"$f":"IF(Unternehmen!$AI$30=\"x\",Urmatrix!W66,)","v":0},{"$f":"IF(Unternehmen!$AI$30=\"x\",Urmatrix!X66,)","v":0},{"$f":"IF(Unternehmen!$AI$30=\"x\",Urmatrix!Y66,)","v":0},{"$f":"IF(Unternehmen!$AI$30=\"x\",Urmatrix!Z66,)","v":0},{"$f":"IF(Unternehmen!$AI$30=\"x\",Urmatrix!AA66,)","v":0},{"$f":"IF(Unternehmen!$AI$30=\"x\",Urmatrix!AB66,)","v":0},{"$f":"IF(Unternehmen!$AI$30=\"x\",Urmatrix!AC66,)","v":0},{"$f":"IF(Unternehmen!$AI$30=\"x\",Urmatrix!AD66,)","v":0},{"$f":"IF(Unternehmen!$AI$30=\"x\",Urmatrix!AE66,)","v":0},{"$f":"IF(Unternehmen!$AI$30=\"x\",Urmatrix!AF66,)","v":0},{"$f":"IF(Unternehmen!$AI$30=\"x\",Urmatrix!AG66,)","v":0},{"$f":"IF(Unternehmen!$AI$30=\"x\",Urmatrix!AH66,)","v":0},{"$f":"IF(Unternehmen!$AI$30=\"x\",Urmatrix!AI66,)","v":0},{"$f":"IF(Unternehmen!$AI$30=\"x\",Urmatrix!AJ66,)","v":0},{"$f":"IF(Unternehmen!$AI$30=\"x\",Urmatrix!AK66,)","v":0},{"$f":"IF(Unternehmen!$AI$30=\"x\",Urmatrix!AL66,)","v":0},{"$f":"IF(Unternehmen!$AI$30=\"x\",Urmatrix!AM66,)","v":0},{"$f":"IF(Unternehmen!$AI$30=\"x\",Urmatrix!AN66,)","v":0},{"$f":"IF(Unternehmen!$AI$30=\"x\",Urmatrix!AO66,)","v":0},{"$f":"IF(Unternehmen!$AI$30=\"x\",Urmatrix!AP66,)","v":0},{"$f":"IF(Unternehmen!$AI$30=\"x\",Urmatrix!AQ66,)","v":0},{"$f":"IF(Unternehmen!$AI$30=\"x\",Urmatrix!AR66,)","v":0},{"$f":"IF(Unternehmen!$AI$30=\"x\",Urmatrix!AS66,)","v":0},{"$f":"IF(Unternehmen!$AI$30=\"x\",Urmatrix!AT66,)","v":0},{"$f":"IF(Unternehmen!$AI$30=\"x\",Urmatrix!AU66,)","v":0},{"$f":"IF(Unternehmen!$AI$30=\"x\",Urmatrix!AV66,)","v":0},{"$f":"IF(Unternehmen!$AI$30=\"x\",Urmatrix!AW66,)","v":0},{"$f":"IF(Unternehmen!$AI$30=\"x\",Urmatrix!AX66,)","v":0},{"$f":"IF(Unternehmen!$AI$30=\"x\",Urmatrix!AY66,)","v":0},{"$f":"IF(Unternehmen!$AI$30=\"x\",Urmatrix!AZ66,)","v":0},{"$f":"IF(Unternehmen!$AI$30=\"x\",Urmatrix!BA66,)","v":0},{"$f":"IF(Unternehmen!$AI$30=\"x\",Urmatrix!BB66,)","v":0},{"$f":"IF(Unternehmen!$AI$30=\"x\",Urmatrix!BC66,)","v":0},{"$f":"IF(Unternehmen!$AI$30=\"x\",Urmatrix!BD66,)","v":0},{"$f":"IF(Unternehmen!$AI$30=\"x\",Urmatrix!BE66,)","v":0},{"$f":"IF(Unternehmen!$AI$30=\"x\",Urmatrix!BF66,)","v":0},{"$f":"IF(Unternehmen!$AI$30=\"x\",Urmatrix!BG66,)","v":0}]
[null,null,null,null,null,null,"regelmäßig/konstant",null,{"$f":"IF(Unternehmen!$AX$30=\"x\",Urmatrix!I67,)","v":0},{"$f":"IF(Unternehmen!$AX$30=\"x\",Urmatrix!J67,)","v":0},{"$f":"IF(Unternehmen!$AX$30=\"x\",Urmatrix!K67,)","v":0},{"$f":"IF(Unternehmen!$AX$30=\"x\",Urmatrix!L67,)","v":0},{"$f":"IF(Unternehmen!$AX$30=\"x\",Urmatrix!M67,)","v":0},{"$f":"IF(Unternehmen!$AX$30=\"x\",Urmatrix!N67,)","v":0},{"$f":"IF(Unternehmen!$AX$30=\"x\",Urmatrix!O67,)","v":0},{"$f":"IF(Unternehmen!$AX$30=\"x\",Urmatrix!P67,)","v":0},{"$f":"IF(Unternehmen!$AX$30=\"x\",Urmatrix!Q67,)","v":0},{"$f":"IF(Unternehmen!$AX$30=\"x\",Urmatrix!R67,)","v":0},{"$f":"IF(Unternehmen!$AX$30=\"x\",Urmatrix!S67,)","v":0},{"$f":"IF(Unternehmen!$AX$30=\"x\",Urmatrix!T67,)","v":0},{"$f":"IF(Unternehmen!$AX$30=\"x\",Urmatrix!U67,)","v":0},{"$f":"IF(Unternehmen!$AX$30=\"x\",Urmatrix!V67,)","v":0},{"$f":"IF(Unternehmen!$AX$30=\"x\",Urmatrix!W67,)","v":0},{"$f":"IF(Unternehmen!$AX$30=\"x\",Urmatrix!X67,)","v":0},{"$f":"IF(Unternehmen!$AX$30=\"x\",Urmatrix!Y67,)","v":0},{"$f":"IF(Unternehmen!$AX$30=\"x\",Urmatrix!Z67,)","v":0},{"$f":"IF(Unternehmen!$AX$30=\"x\",Urmatrix!AA67,)","v":0},{"$f":"IF(Unternehmen!$AX$30=\"x\",Urmatrix!AB67,)","v":0},{"$f":"IF(Unternehmen!$AX$30=\"x\",Urmatrix!AC67,)","v":0},{"$f":"IF(Unternehmen!$AX$30=\"x\",Urmatrix!AD67,)","v":0},{"$f":"IF(Unternehmen!$AX$30=\"x\",Urmatrix!AE67,)","v":0},{"$f":"IF(Unternehmen!$AX$30=\"x\",Urmatrix!AF67,)","v":0},{"$f":"IF(Unternehmen!$AX$30=\"x\",Urmatrix!AG67,)","v":0},{"$f":"IF(Unternehmen!$AX$30=\"x\",Urmatrix!AH67,)","v":0},{"$f":"IF(Unternehmen!$AX$30=\"x\",Urmatrix!AI67,)","v":0},{"$f":"IF(Unternehmen!$AX$30=\"x\",Urmatrix!AJ67,)","v":0},{"$f":"IF(Unternehmen!$AX$30=\"x\",Urmatrix!AK67,)","v":0},{"$f":"IF(Unternehmen!$AX$30=\"x\",Urmatrix!AL67,)","v":0},{"$f":"IF(Unternehmen!$AX$30=\"x\",Urmatrix!AM67,)","v":0},{"$f":"IF(Unternehmen!$AX$30=\"x\",Urmatrix!AN67,)","v":0},{"$f":"IF(Unternehmen!$AX$30=\"x\",Urmatrix!AO67,)","v":0},{"$f":"IF(Unternehmen!$AX$30=\"x\",Urmatrix!AP67,)","v":0},{"$f":"IF(Unternehmen!$AX$30=\"x\",Urmatrix!AQ67,)","v":0},{"$f":"IF(Unternehmen!$AX$30=\"x\",Urmatrix!AR67,)","v":0},{"$f":"IF(Unternehmen!$AX$30=\"x\",Urmatrix!AS67,)","v":0},{"$f":"IF(Unternehmen!$AX$30=\"x\",Urmatrix!AT67,)","v":0},{"$f":"IF(Unternehmen!$AX$30=\"x\",Urmatrix!AU67,)","v":0},{"$f":"IF(Unternehmen!$AX$30=\"x\",Urmatrix!AV67,)","v":0},{"$f":"IF(Unternehmen!$AX$30=\"x\",Urmatrix!AW67,)","v":0},{"$f":"IF(Unternehmen!$AX$30=\"x\",Urmatrix!AX67,)","v":0},{"$f":"IF(Unternehmen!$AX$30=\"x\",Urmatrix!AY67,)","v":0},{"$f":"IF(Unternehmen!$AX$30=\"x\",Urmatrix!AZ67,)","v":0},{"$f":"IF(Unternehmen!$AX$30=\"x\",Urmatrix!BA67,)","v":0},{"$f":"IF(Unternehmen!$AX$30=\"x\",Urmatrix!BB67,)","v":0},{"$f":"IF(Unternehmen!$AX$30=\"x\",Urmatrix!BC67,)","v":0},{"$f":"IF(Unternehmen!$AX$30=\"x\",Urmatrix!BD67,)","v":0},{"$f":"IF(Unternehmen!$AX$30=\"x\",Urmatrix!BE67,)","v":0},{"$f":"IF(Unternehmen!$AX$30=\"x\",Urmatrix!BF67,)","v":0},{"$f":"IF(Unternehmen!$AX$30=\"x\",Urmatrix!BG67,)","v":0}]
[null,null,null,null,null,"Beschaffungsart","überwiegend externe Beschaffung",null,{"$f":"IF(Unternehmen!$E$32=\"x\",Urmatrix!I68,)","v":0},{"$f":"IF(Unternehmen!$E$32=\"x\",Urmatrix!J68,)","v":0},{"$f":"IF(Unternehmen!$E$32=\"x\",Urmatrix!K68,)","v":0},{"$f":"IF(Unternehmen!$E$32=\"x\",Urmatrix!L68,)","v":0},{"$f":"IF(Unternehmen!$E$32=\"x\",Urmatrix!M68,)","v":0},{"$f":"IF(Unternehmen!$E$32=\"x\",Urmatrix!N68,)","v":0},{"$f":"IF(Unternehmen!$E$32=\"x\",Urmatrix!O68,)","v":0},{"$f":"IF(Unternehmen!$E$32=\"x\",Urmatrix!P68,)","v":0},{"$f":"IF(Unternehmen!$E$32=\"x\",Urmatrix!Q68,)","v":0},{"$f":"IF(Unternehmen!$E$32=\"x\",Urmatrix!R68,)","v":0},{"$f":"IF(Unternehmen!$E$32=\"x\",Urmatrix!S68,)","v":0},{"$f":"IF(Unternehmen!$E$32=\"x\",Urmatrix!T68,)","v":0},{"$f":"IF(Unternehmen!$E$32=\"x\",Urmatrix!U68,)","v":0},{"$f":"IF(Unternehmen!$E$32=\"x\",Urmatrix!V68,)","v":0},{"$f":"IF(Unternehmen!$E$32=\"x\",Urmatrix!W68,)","v":0},{"$f":"IF(Unternehmen!$E$32=\"x\",Urmatrix!X68,)","v":0},{"$f":"IF(Unternehmen!$E$32=\"x\",Urmatrix!Y68,)","v":0},{"$f":"IF(Unternehmen!$E$32=\"x\",Urmatrix!Z68,)","v":0},{"$f":"IF(Unternehmen!$E$32=\"x\",Urmatrix!AA68,)","v":0},{"$f":"IF(Unternehmen!$E$32=\"x\",Urmatrix!AB68,)","v":0},{"$f":"IF(Unternehmen!$E$32=\"x\",Urmatrix!AC68,)","v":0},{"$f":"IF(Unternehmen!$E$32=\"x\",Urmatrix!AD68,)","v":0},{"$f":"IF(Unternehmen!$E$32=\"x\",Urmatrix!AE68,)","v":0},{"$f":"IF(Unternehmen!$E$32=\"x\",Urmatrix!AF68,)","v":0},{"$f":"IF(Unternehmen!$E$32=\"x\",Urmatrix!AG68,)","v":0},{"$f":"IF(Unternehmen!$E$32=\"x\",Urmatrix!AH68,)","v":0},{"$f":"IF(Unternehmen!$E$32=\"x\",Urmatrix!AI68,)","v":0},{"$f":"IF(Unternehmen!$E$32=\"x\",Urmatrix!AJ68,)","v":0},{"$f":"IF(Unternehmen!$E$32=\"x\",Urmatrix!AK68,)","v":0},{"$f":"IF(Unternehmen!$E$32=\"x\",Urmatrix!AL68,)","v":0},{"$f":"IF(Unternehmen!$E$32=\"x\",Urmatrix!AM68,)","v":0},{"$f":"IF(Unternehmen!$E$32=\"x\",Urmatrix!AN68,)","v":0},{"$f":"IF(Unternehmen!$E$32=\"x\",Urmatrix!AO68,)","v":0},{"$f":"IF(Unternehmen!$E$32=\"x\",Urmatrix!AP68,)","v":0},{"$f":"IF(Unternehmen!$E$32=\"x\",Urmatrix!AQ68,)","v":0},{"$f":"IF(Unternehmen!$E$32=\"x\",Urmatrix!AR68,)","v":0},{"$f":"IF(Unternehmen!$E$32=\"x\",Urmatrix!AS68,)","v":0},{"$f":"IF(Unternehmen!$E$32=\"x\",Urmatrix!AT68,)","v":0},{"$f":"IF(Unternehmen!$E$32=\"x\",Urmatrix!AU68,)","v":0},{"$f":"IF(Unternehmen!$E$32=\"x\",Urmatrix!AV68,)","v":0},{"$f":"IF(Unternehmen!$E$32=\"x\",Urmatrix!AW68,)","v":0},{"$f":"IF(Unternehmen!$E$32=\"x\",Urmatrix!AX68,)","v":0},{"$f":"IF(Unternehmen!$E$32=\"x\",Urmatrix!AY68,)","v":0},{"$f":"IF(Unternehmen!$E$32=\"x\",Urmatrix!AZ68,)","v":0},{"$f":"IF(Unternehmen!$E$32=\"x\",Urmatrix!BA68,)","v":0},{"$f":"IF(Unternehmen!$E$32=\"x\",Urmatrix!BB68,)","v":0},{"$f":"IF(Unternehmen!$E$32=\"x\",Urmatrix!BC68,)","v":0},{"$f":"IF(Unternehmen!$E$32=\"x\",Urmatrix!BD68,)","v":0},{"$f":"IF(Unternehmen!$E$32=\"x\",Urmatrix!BE68,)","v":0},{"$f":"IF(Unternehmen!$E$32=\"x\",Urmatrix!BF68,)","v":0},{"$f":"IF(Unternehmen!$E$32=\"x\",Urmatrix!BG68,)","v":0}]
[null,null,null,null,null,null,"teilweise externe Beschaffung",null,{"$f":"IF(Unternehmen!$Y$32=\"x\",Urmatrix!I69,)","v":0},{"$f":"IF(Unternehmen!$Y$32=\"x\",Urmatrix!J69,)","v":0},{"$f":"IF(Unternehmen!$Y$32=\"x\",Urmatrix!K69,)","v":0},{"$f":"IF(Unternehmen!$Y$32=\"x\",Urmatrix!L69,)","v":0},{"$f":"IF(Unternehmen!$Y$32=\"x\",Urmatrix!M69,)","v":0},{"$f":"IF(Unternehmen!$Y$32=\"x\",Urmatrix!N69,)","v":0},{"$f":"IF(Unternehmen!$Y$32=\"x\",Urmatrix!O69,)","v":0},{"$f":"IF(Unternehmen!$Y$32=\"x\",Urmatrix!P69,)","v":0},{"$f":"IF(Unternehmen!$Y$32=\"x\",Urmatrix!Q69,)","v":0},{"$f":"IF(Unternehmen!$Y$32=\"x\",Urmatrix!R69,)","v":0},{"$f":"IF(Unternehmen!$Y$32=\"x\",Urmatrix!S69,)","v":0},{"$f":"IF(Unternehmen!$Y$32=\"x\",Urmatrix!T69,)","v":0},{"$f":"IF(Unternehmen!$Y$32=\"x\",Urmatrix!U69,)","v":0},{"$f":"IF(Unternehmen!$Y$32=\"x\",Urmatrix!V69,)","v":0},{"$f":"IF(Unternehmen!$Y$32=\"x\",Urmatrix!W69,)","v":0},{"$f":"IF(Unternehmen!$Y$32=\"x\",Urmatrix!X69,)","v":0},{"$f":"IF(Unternehmen!$Y$32=\"x\",Urmatrix!Y69,)","v":0},{"$f":"IF(Unternehmen!$Y$32=\"x\",Urmatrix!Z69,)","v":0},{"$f":"IF(Unternehmen!$Y$32=\"x\",Urmatrix!AA69,)","v":0},{"$f":"IF(Unternehmen!$Y$32=\"x\",Urmatrix!AB69,)","v":0},{"$f":"IF(Unternehmen!$Y$32=\"x\",Urmatrix!AC69,)","v":0},{"$f":"IF(Unternehmen!$Y$32=\"x\",Urmatrix!AD69,)","v":0},{"$f":"IF(Unternehmen!$Y$32=\"x\",Urmatrix!AE69,)","v":0},{"$f":"IF(Unternehmen!$Y$32=\"x\",Urmatrix!AF69,)","v":0},{"$f":"IF(Unternehmen!$Y$32=\"x\",Urmatrix!AG69,)","v":0},{"$f":"IF(Unternehmen!$Y$32=\"x\",Urmatrix!AH69,)","v":0},{"$f":"IF(Unternehmen!$Y$32=\"x\",Urmatrix!AI69,)","v":0},{"$f":"IF(Unternehmen!$Y$32=\"x\",Urmatrix!AJ69,)","v":0},{"$f":"IF(Unternehmen!$Y$32=\"x\",Urmatrix!AK69,)","v":0},{"$f":"IF(Unternehmen!$Y$32=\"x\",Urmatrix!AL69,)","v":0},{"$f":"IF(Unternehmen!$Y$32=\"x\",Urmatrix!AM69,)","v":0},{"$f":"IF(Unternehmen!$Y$32=\"x\",Urmatrix!AN69,)","v":0},{"$f":"IF(Unternehmen!$Y$32=\"x\",Urmatrix!AO69,)","v":0},{"$f":"IF(Unternehmen!$Y$32=\"x\",Urmatrix!AP69,)","v":0},{"$f":"IF(Unternehmen!$Y$32=\"x\",Urmatrix!AQ69,)","v":0},{"$f":"IF(Unternehmen!$Y$32=\"x\",Urmatrix!AR69,)","v":0},{"$f":"IF(Unternehmen!$Y$32=\"x\",Urmatrix!AS69,)","v":0},{"$f":"IF(Unternehmen!$Y$32=\"x\",Urmatrix!AT69,)","v":0},{"$f":"IF(Unternehmen!$Y$32=\"x\",Urmatrix!AU69,)","v":0},{"$f":"IF(Unternehmen!$Y$32=\"x\",Urmatrix!AV69,)","v":0},{"$f":"IF(Unternehmen!$Y$32=\"x\",Urmatrix!AW69,)","v":0},{"$f":"IF(Unternehmen!$Y$32=\"x\",Urmatrix!AX69,)","v":0},{"$f":"IF(Unternehmen!$Y$32=\"x\",Urmatrix!AY69,)","v":0},{"$f":"IF(Unternehmen!$Y$32=\"x\",Urmatrix!AZ69,)","v":0},{"$f":"IF(Unternehmen!$Y$32=\"x\",Urmatrix!BA69,)","v":0},{"$f":"IF(Unternehmen!$Y$32=\"x\",Urmatrix!BB69,)","v":0},{"$f":"IF(Unternehmen!$Y$32=\"x\",Urmatrix!BC69,)","v":0},{"$f":"IF(Unternehmen!$Y$32=\"x\",Urmatrix!BD69,)","v":0},{"$f":"IF(Unternehmen!$Y$32=\"x\",Urmatrix!BE69,)","v":0},{"$f":"IF(Unternehmen!$Y$32=\"x\",Urmatrix!BF69,)","v":0},{"$f":"IF(Unternehmen!$Y$32=\"x\",Urmatrix!BG69,)","v":0}]
[null,null,null,null,null,null,"kaum externe Beschaffung",null,{"$f":"IF(Unternehmen!$AS$32=\"x\",Urmatrix!I70,)","v":0},{"$f":"IF(Unternehmen!$AS$32=\"x\",Urmatrix!J70,)","v":0},{"$f":"IF(Unternehmen!$AS$32=\"x\",Urmatrix!K70,)","v":0},{"$f":"IF(Unternehmen!$AS$32=\"x\",Urmatrix!L70,)","v":0},{"$f":"IF(Unternehmen!$AS$32=\"x\",Urmatrix!M70,)","v":0},{"$f":"IF(Unternehmen!$AS$32=\"x\",Urmatrix!N70,)","v":0},{"$f":"IF(Unternehmen!$AS$32=\"x\",Urmatrix!O70,)","v":0},{"$f":"IF(Unternehmen!$AS$32=\"x\",Urmatrix!P70,)","v":0},{"$f":"IF(Unternehmen!$AS$32=\"x\",Urmatrix!Q70,)","v":0},{"$f":"IF(Unternehmen!$AS$32=\"x\",Urmatrix!R70,)","v":0},{"$f":"IF(Unternehmen!$AS$32=\"x\",Urmatrix!S70,)","v":0},{"$f":"IF(Unternehmen!$AS$32=\"x\",Urmatrix!T70,)","v":0},{"$f":"IF(Unternehmen!$AS$32=\"x\",Urmatrix!U70,)","v":0},{"$f":"IF(Unternehmen!$AS$32=\"x\",Urmatrix!V70,)","v":0},{"$f":"IF(Unternehmen!$AS$32=\"x\",Urmatrix!W70,)","v":0},{"$f":"IF(Unternehmen!$AS$32=\"x\",Urmatrix!X70,)","v":0},{"$f":"IF(Unternehmen!$AS$32=\"x\",Urmatrix!Y70,)","v":0},{"$f":"IF(Unternehmen!$AS$32=\"x\",Urmatrix!Z70,)","v":0},{"$f":"IF(Unternehmen!$AS$32=\"x\",Urmatrix!AA70,)","v":0},{"$f":"IF(Unternehmen!$AS$32=\"x\",Urmatrix!AB70,)","v":0},{"$f":"IF(Unternehmen!$AS$32=\"x\",Urmatrix!AC70,)","v":0},{"$f":"IF(Unternehmen!$AS$32=\"x\",Urmatrix!AD70,)","v":0},{"$f":"IF(Unternehmen!$AS$32=\"x\",Urmatrix!AE70,)","v":0},{"$f":"IF(Unternehmen!$AS$32=\"x\",Urmatrix!AF70,)","v":0},{"$f":"IF(Unternehmen!$AS$32=\"x\",Urmatrix!AG70,)","v":0},{"$f":"IF(Unternehmen!$AS$32=\"x\",Urmatrix!AH70,)","v":0},{"$f":"IF(Unternehmen!$AS$32=\"x\",Urmatrix!AI70,)","v":0},{"$f":"IF(Unternehmen!$AS$32=\"x\",Urmatrix!AJ70,)","v":0},{"$f":"IF(Unternehmen!$AS$32=\"x\",Urmatrix!AK70,)","v":0},{"$f":"IF(Unternehmen!$AS$32=\"x\",Urmatrix!AL70,)","v":0},{"$f":"IF(Unternehmen!$AS$32=\"x\",Urmatrix!AM70,)","v":0},{"$f":"IF(Unternehmen!$AS$32=\"x\",Urmatrix!AN70,)","v":0},{"$f":"IF(Unternehmen!$AS$32=\"x\",Urmatrix!AO70,)","v":0},{"$f":"IF(Unternehmen!$AS$32=\"x\",Urmatrix!AP70,)","v":0},{"$f":"IF(Unternehmen!$AS$32=\"x\",Urmatrix!AQ70,)","v":0},{"$f":"IF(Unternehmen!$AS$32=\"x\",Urmatrix!AR70,)","v":0},{"$f":"IF(Unternehmen!$AS$32=\"x\",Urmatrix!AS70,)","v":0},{"$f":"IF(Unternehmen!$AS$32=\"x\",Urmatrix!AT70,)","v":0},{"$f":"IF(Unternehmen!$AS$32=\"x\",Urmatrix!AU70,)","v":0},{"$f":"IF(Unternehmen!$AS$32=\"x\",Urmatrix!AV70,)","v":0},{"$f":"IF(Unternehmen!$AS$32=\"x\",Urmatrix!AW70,)","v":0},{"$f":"IF(Unternehmen!$AS$32=\"x\",Urmatrix!AX70,)","v":0},{"$f":"IF(Unternehmen!$AS$32=\"x\",Urmatrix!AY70,)","v":0},{"$f":"IF(Unternehmen!$AS$32=\"x\",Urmatrix!AZ70,)","v":0},{"$f":"IF(Unternehmen!$AS$32=\"x\",Urmatrix!BA70,)","v":0},{"$f":"IF(Unternehmen!$AS$32=\"x\",Urmatrix!BB70,)","v":0},{"$f":"IF(Unternehmen!$AS$32=\"x\",Urmatrix!BC70,)","v":0},{"$f":"IF(Unternehmen!$AS$32=\"x\",Urmatrix!BD70,)","v":0},{"$f":"IF(Unternehmen!$AS$32=\"x\",Urmatrix!BE70,)","v":0},{"$f":"IF(Unternehmen!$AS$32=\"x\",Urmatrix!BF70,)","v":0},{"$f":"IF(Unternehmen!$AS$32=\"x\",Urmatrix!BG70,)","v":0}]
[null,null,null,null,null,"Produktionskonzept","Engineer-to-Order","x",{"$f":"IF(Unternehmen!$E$34=\"x\",Urmatrix!I71,)","v":0},{"$f":"IF(Unternehmen!$E$34=\"x\",Urmatrix!J71,)","v":0},{"$f":"IF(Unternehmen!$E$34=\"x\",Urmatrix!K71,)","v":0},{"$f":"IF(Unternehmen!$E$34=\"x\",Urmatrix!L71,)","v":0},{"$f":"IF(Unternehmen!$E$34=\"x\",Urmatrix!M71,)","v":0},{"$f":"IF(Unternehmen!$E$34=\"x\",Urmatrix!N71,)","v":0},{"$f":"IF(Unternehmen!$E$34=\"x\",Urmatrix!O71,)","v":0},{"$f":"IF(Unternehmen!$E$34=\"x\",Urmatrix!P71,)","v":0},{"$f":"IF(Unternehmen!$E$34=\"x\",Urmatrix!Q71,)","v":0},{"$f":"IF(Unternehmen!$E$34=\"x\",Urmatrix!R71,)","v":0},{"$f":"IF(Unternehmen!$E$34=\"x\",Urmatrix!S71,)","v":0},{"$f":"IF(Unternehmen!$E$34=\"x\",Urmatrix!T71,)","v":0},{"$f":"IF(Unternehmen!$E$34=\"x\",Urmatrix!U71,)","v":0},{"$f":"IF(Unternehmen!$E$34=\"x\",Urmatrix!V71,)","v":0},{"$f":"IF(Unternehmen!$E$34=\"x\",Urmatrix!W71,)","v":0},{"$f":"IF(Unternehmen!$E$34=\"x\",Urmatrix!X71,)","v":0},{"$f":"IF(Unternehmen!$E$34=\"x\",Urmatrix!Y71,)","v":0},{"$f":"IF(Unternehmen!$E$34=\"x\",Urmatrix!Z71,)","v":0},{"$f":"IF(Unternehmen!$E$34=\"x\",Urmatrix!AA71,)","v":0},{"$f":"IF(Unternehmen!$E$34=\"x\",Urmatrix!AB71,)","v":0},{"$f":"IF(Unternehmen!$E$34=\"x\",Urmatrix!AC71,)","v":0},{"$f":"IF(Unternehmen!$E$34=\"x\",Urmatrix!AD71,)","v":0},{"$f":"IF(Unternehmen!$E$34=\"x\",Urmatrix!AE71,)","v":0},{"$f":"IF(Unternehmen!$E$34=\"x\",Urmatrix!AF71,)","v":0},{"$f":"IF(Unternehmen!$E$34=\"x\",Urmatrix!AG71,)","v":0},{"$f":"IF(Unternehmen!$E$34=\"x\",Urmatrix!AH71,)","v":0},{"$f":"IF(Unternehmen!$E$34=\"x\",Urmatrix!AI71,)","v":0},{"$f":"IF(Unternehmen!$E$34=\"x\",Urmatrix!AJ71,)","v":0},{"$f":"IF(Unternehmen!$E$34=\"x\",Urmatrix!AK71,)","v":0},{"$f":"IF(Unternehmen!$E$34=\"x\",Urmatrix!AL71,)","v":0},{"$f":"IF(Unternehmen!$E$34=\"x\",Urmatrix!AM71,)","v":0},{"$f":"IF(Unternehmen!$E$34=\"x\",Urmatrix!AN71,)","v":0},{"$f":"IF(Unternehmen!$E$34=\"x\",Urmatrix!AO71,)","v":0},{"$f":"IF(Unternehmen!$E$34=\"x\",Urmatrix!AP71,)","v":0},{"$f":"IF(Unternehmen!$E$34=\"x\",Urmatrix!AQ71,)","v":0},{"$f":"IF(Unternehmen!$E$34=\"x\",Urmatrix!AR71,)","v":0},{"$f":"IF(Unternehmen!$E$34=\"x\",Urmatrix!AS71,)","v":0},{"$f":"IF(Unternehmen!$E$34=\"x\",Urmatrix!AT71,)","v":0},{"$f":"IF(Unternehmen!$E$34=\"x\",Urmatrix!AU71,)","v":0},{"$f":"IF(Unternehmen!$E$34=\"x\",Urmatrix!AV71,)","v":0},{"$f":"IF(Unternehmen!$E$34=\"x\",Urmatrix!AW71,)","v":0},{"$f":"IF(Unternehmen!$E$34=\"x\",Urmatrix!AX71,)","v":0},{"$f":"IF(Unternehmen!$E$34=\"x\",Urmatrix!AY71,)","v":0},{"$f":"IF(Unternehmen!$E$34=\"x\",Urmatrix!AZ71,)","v":0},{"$f":"IF(Unternehmen!$E$34=\"x\",Urmatrix!BA71,)","v":0},{"$f":"IF(Unternehmen!$E$34=\"x\",Urmatrix!BB71,)","v":0},{"$f":"IF(Unternehmen!$E$34=\"x\",Urmatrix!BC71,)","v":0},{"$f":"IF(Unternehmen!$E$34=\"x\",Urmatrix!BD71,)","v":0},{"$f":"IF(Unternehmen!$E$34=\"x\",Urmatrix!BE71,)","v":0},{"$f":"IF(Unternehmen!$E$34=\"x\",Urmatrix!BF71,)","v":0},{"$f":"IF(Unternehmen!$E$34=\"x\",Urmatrix!BG71,)","v":0}]
[null,null,null,null,null,null,"Make-to-Order","x",{"$f":"IF(Unternehmen!$T$34=\"x\",Urmatrix!I72,)","v":0},{"$f":"IF(Unternehmen!$T$34=\"x\",Urmatrix!J72,)","v":0},{"$f":"IF(Unternehmen!$T$34=\"x\",Urmatrix!K72,)","v":0},{"$f":"IF(Unternehmen!$T$34=\"x\",Urmatrix!L72,)","v":0},{"$f":"IF(Unternehmen!$T$34=\"x\",Urmatrix!M72,)","v":0},{"$f":"IF(Unternehmen!$T$34=\"x\",Urmatrix!N72,)","v":0},{"$f":"IF(Unternehmen!$T$34=\"x\",Urmatrix!O72,)","v":0},{"$f":"IF(Unternehmen!$T$34=\"x\",Urmatrix!P72,)","v":0},{"$f":"IF(Unternehmen!$T$34=\"x\",Urmatrix!Q72,)","v":0},{"$f":"IF(Unternehmen!$T$34=\"x\",Urmatrix!R72,)","v":0},{"$f":"IF(Unternehmen!$T$34=\"x\",Urmatrix!S72,)","v":0},{"$f":"IF(Unternehmen!$T$34=\"x\",Urmatrix!T72,)","v":0},{"$f":"IF(Unternehmen!$T$34=\"x\",Urmatrix!U72,)","v":0},{"$f":"IF(Unternehmen!$T$34=\"x\",Urmatrix!V72,)","v":0},{"$f":"IF(Unternehmen!$T$34=\"x\",Urmatrix!W72,)","v":0},{"$f":"IF(Unternehmen!$T$34=\"x\",Urmatrix!X72,)","v":0},{"$f":"IF(Unternehmen!$T$34=\"x\",Urmatrix!Y72,)","v":0},{"$f":"IF(Unternehmen!$T$34=\"x\",Urmatrix!Z72,)","v":0},{"$f":"IF(Unternehmen!$T$34=\"x\",Urmatrix!AA72,)","v":0},{"$f":"IF(Unternehmen!$T$34=\"x\",Urmatrix!AB72,)","v":0},{"$f":"IF(Unternehmen!$T$34=\"x\",Urmatrix!AC72,)","v":0},{"$f":"IF(Unternehmen!$T$34=\"x\",Urmatrix!AD72,)","v":0},{"$f":"IF(Unternehmen!$T$34=\"x\",Urmatrix!AE72,)","v":0},{"$f":"IF(Unternehmen!$T$34=\"x\",Urmatrix!AF72,)","v":0},{"$f":"IF(Unternehmen!$T$34=\"x\",Urmatrix!AG72,)","v":0},{"$f":"IF(Unternehmen!$T$34=\"x\",Urmatrix!AH72,)","v":0},{"$f":"IF(Unternehmen!$T$34=\"x\",Urmatrix!AI72,)","v":0},{"$f":"IF(Unternehmen!$T$34=\"x\",Urmatrix!AJ72,)","v":0},{"$f":"IF(Unternehmen!$T$34=\"x\",Urmatrix!AK72,)","v":0},{"$f":"IF(Unternehmen!$T$34=\"x\",Urmatrix!AL72,)","v":0},{"$f":"IF(Unternehmen!$T$34=\"x\",Urmatrix!AM72,)","v":0},{"$f":"IF(Unternehmen!$T$34=\"x\",Urmatrix!AN72,)","v":0},{"$f":"IF(Unternehmen!$T$34=\"x\",Urmatrix!AO72,)","v":0},{"$f":"IF(Unternehmen!$T$34=\"x\",Urmatrix!AP72,)","v":0},{"$f":"IF(Unternehmen!$T$34=\"x\",Urmatrix!AQ72,)","v":0},{"$f":"IF(Unternehmen!$T$34=\"x\",Urmatrix!AR72,)","v":0},{"$f":"IF(Unternehmen!$T$34=\"x\",Urmatrix!AS72,)","v":0},{"$f":"IF(Unternehmen!$T$34=\"x\",Urmatrix!AT72,)","v":0},{"$f":"IF(Unternehmen!$T$34=\"x\",Urmatrix!AU72,)","v":0},{"$f":"IF(Unternehmen!$T$34=\"x\",Urmatrix!AV72,)","v":0},{"$f":"IF(Unternehmen!$T$34=\"x\",Urmatrix!AW72,)","v":0},{"$f":"IF(Unternehmen!$T$34=\"x\",Urmatrix!AX72,)","v":0},{"$f":"IF(Unternehmen!$T$34=\"x\",Urmatrix!AY72,)","v":0},{"$f":"IF(Unternehmen!$T$34=\"x\",Urmatrix!AZ72,)","v":0},{"$f":"IF(Unternehmen!$T$34=\"x\",Urmatrix!BA72,)","v":0},{"$f":"IF(Unternehmen!$T$34=\"x\",Urmatrix!BB72,)","v":0},{"$f":"IF(Unternehmen!$T$34=\"x\",Urmatrix!BC72,)","v":0},{"$f":"IF(Unternehmen!$T$34=\"x\",Urmatrix!BD72,)","v":0},{"$f":"IF(Unternehmen!$T$34=\"x\",Urmatrix!BE72,)","v":0},{"$f":"IF(Unternehmen!$T$34=\"x\",Urmatrix!BF72,)","v":0},{"$f":"IF(Unternehmen!$T$34=\"x\",Urmatrix!BG72,)","v":0}]
[null,null,null,null,null,null,"Assemble-to-Order",null,{"$f":"IF(Unternehmen!$AI$34=\"x\",Urmatrix!I73,)","v":0},{"$f":"IF(Unternehmen!$AI$34=\"x\",Urmatrix!J73,)","v":0},{"$f":"IF(Unternehmen!$AI$34=\"x\",Urmatrix!K73,)","v":0},{"$f":"IF(Unternehmen!$AI$34=\"x\",Urmatrix!L73,)","v":0},{"$f":"IF(Unternehmen!$AI$34=\"x\",Urmatrix!M73,)","v":0},{"$f":"IF(Unternehmen!$AI$34=\"x\",Urmatrix!N73,)","v":0},{"$f":"IF(Unternehmen!$AI$34=\"x\",Urmatrix!O73,)","v":0},{"$f":"IF(Unternehmen!$AI$34=\"x\",Urmatrix!P73,)","v":0},{"$f":"IF(Unternehmen!$AI$34=\"x\",Urmatrix!Q73,)","v":0},{"$f":"IF(Unternehmen!$AI$34=\"x\",Urmatrix!R73,)","v":0},{"$f":"IF(Unternehmen!$AI$34=\"x\",Urmatrix!S73,)","v":0},{"$f":"IF(Unternehmen!$AI$34=\"x\",Urmatrix!T73,)","v":0},{"$f":"IF(Unternehmen!$AI$34=\"x\",Urmatrix!U73,)","v":0},{"$f":"IF(Unternehmen!$AI$34=\"x\",Urmatrix!V73,)","v":0},{"$f":"IF(Unternehmen!$AI$34=\"x\",Urmatrix!W73,)","v":0},{"$f":"IF(Unternehmen!$AI$34=\"x\",Urmatrix!X73,)","v":0},{"$f":"IF(Unternehmen!$AI$34=\"x\",Urmatrix!Y73,)","v":0},{"$f":"IF(Unternehmen!$AI$34=\"x\",Urmatrix!Z73,)","v":0},{"$f":"IF(Unternehmen!$AI$34=\"x\",Urmatrix!AA73,)","v":0},{"$f":"IF(Unternehmen!$AI$34=\"x\",Urmatrix!AB73,)","v":0},{"$f":"IF(Unternehmen!$AI$34=\"x\",Urmatrix!AC73,)","v":0},{"$f":"IF(Unternehmen!$AI$34=\"x\",Urmatrix!AD73,)","v":0},{"$f":"IF(Unternehmen!$AI$34=\"x\",Urmatrix!AE73,)","v":0},{"$f":"IF(Unternehmen!$AI$34=\"x\",Urmatrix!AF73,)","v":0},{"$f":"IF(Unternehmen!$AI$34=\"x\",Urmatrix!AG73,)","v":0},{"$f":"IF(Unternehmen!$AI$34=\"x\",Urmatrix!AH73,)","v":0},{"$f":"IF(Unternehmen!$AI$34=\"x\",Urmatrix!AI73,)","v":0},{"$f":"IF(Unternehmen!$AI$34=\"x\",Urmatrix!AJ73,)","v":0},{"$f":"IF(Unternehmen!$AI$34=\"x\",Urmatrix!AK73,)","v":0},{"$f":"IF(Unternehmen!$AI$34=\"x\",Urmatrix!AL73,)","v":0},{"$f":"IF(Unternehmen!$AI$34=\"x\",Urmatrix!AM73,)","v":0},{"$f":"IF(Unternehmen!$AI$34=\"x\",Urmatrix!AN73,)","v":0},{"$f":"IF(Unternehmen!$AI$34=\"x\",Urmatrix!AO73,)","v":0},{"$f":"IF(Unternehmen!$AI$34=\"x\",Urmatrix!AP73,)","v":0},{"$f":"IF(Unternehmen!$AI$34=\"x\",Urmatrix!AQ73,)","v":0},{"$f":"IF(Unternehmen!$AI$34=\"x\",Urmatrix!AR73,)","v":0},{"$f":"IF(Unternehmen!$AI$34=\"x\",Urmatrix!AS73,)","v":0},{"$f":"IF(Unternehmen!$AI$34=\"x\",Urmatrix!AT73,)","v":0},{"$f":"IF(Unternehmen!$AI$34=\"x\",Urmatrix!AU73,)","v":0},{"$f":"IF(Unternehmen!$AI$34=\"x\",Urmatrix!AV73,)","v":0},{"$f":"IF(Unternehmen!$AI$34=\"x\",Urmatrix!AW73,)","v":0},{"$f":"IF(Unternehmen!$AI$34=\"x\",Urmatrix!AX73,)","v":0},{"$f":"IF(Unternehmen!$AI$34=\"x\",Urmatrix!AY73,)","v":0},{"$f":"IF(Unternehmen!$AI$34=\"x\",Urmatrix!AZ73,)","v":0},{"$f":"IF(Unternehmen!$AI$34=\"x\",Urmatrix!BA73,)","v":0},{"$f":"IF(Unternehmen!$AI$34=\"x\",Urmatrix!BB73,)","v":0},{"$f":"IF(Unternehmen!$AI$34=\"x\",Urmatrix!BC73,)","v":0},{"$f":"IF(Unternehmen!$AI$34=\"x\",Urmatrix!BD73,)","v":0},{"$f":"IF(Unternehmen!$AI$34=\"x\",Urmatrix!BE73,)","v":0},{"$f":"IF(Unternehmen!$AI$34=\"x\",Urmatrix!BF73,)","v":0},{"$f":"IF(Unternehmen!$AI$34=\"x\",Urmatrix!BG73,)","v":0}]
[null,null,null,null,null,null,"Make-to-Stock",null,{"$f":"IF(Unternehmen!$AX$34=\"x\",Urmatrix!I74,)","v":0},{"$f":"IF(Unternehmen!$AX$34=\"x\",Urmatrix!J74,)","v":0},{"$f":"IF(Unternehmen!$AX$34=\"x\",Urmatrix!K74,)","v":0},{"$f":"IF(Unternehmen!$AX$34=\"x\",Urmatrix!L74,)","v":0},{"$f":"IF(Unternehmen!$AX$34=\"x\",Urmatrix!M74,)","v":0},{"$f":"IF(Unternehmen!$AX$34=\"x\",Urmatrix!N74,)","v":0},{"$f":"IF(Unternehmen!$AX$34=\"x\",Urmatrix!O74,)","v":0},{"$f":"IF(Unternehmen!$AX$34=\"x\",Urmatrix!P74,)","v":0},{"$f":"IF(Unternehmen!$AX$34=\"x\",Urmatrix!Q74,)","v":0},{"$f":"IF(Unternehmen!$AX$34=\"x\",Urmatrix!R74,)","v":0},{"$f":"IF(Unternehmen!$AX$34=\"x\",Urmatrix!S74,)","v":0},{"$f":"IF(Unternehmen!$AX$34=\"x\",Urmatrix!T74,)","v":0},{"$f":"IF(Unternehmen!$AX$34=\"x\",Urmatrix!U74,)","v":0},{"$f":"IF(Unternehmen!$AX$34=\"x\",Urmatrix!V74,)","v":0},{"$f":"IF(Unternehmen!$AX$34=\"x\",Urmatrix!W74,)","v":0},{"$f":"IF(Unternehmen!$AX$34=\"x\",Urmatrix!X74,)","v":0},{"$f":"IF(Unternehmen!$AX$34=\"x\",Urmatrix!Y74,)","v":0},{"$f":"IF(Unternehmen!$AX$34=\"x\",Urmatrix!Z74,)","v":0},{"$f":"IF(Unternehmen!$AX$34=\"x\",Urmatrix!AA74,)","v":0},{"$f":"IF(Unternehmen!$AX$34=\"x\",Urmatrix!AB74,)","v":0},{"$f":"IF(Unternehmen!$AX$34=\"x\",Urmatrix!AC74,)","v":0},{"$f":"IF(Unternehmen!$AX$34=\"x\",Urmatrix!AD74,)","v":0},{"$f":"IF(Unternehmen!$AX$34=\"x\",Urmatrix!AE74,)","v":0},{"$f":"IF(Unternehmen!$AX$34=\"x\",Urmatrix!AF74,)","v":0},{"$f":"IF(Unternehmen!$AX$34=\"x\",Urmatrix!AG74,)","v":0},{"$f":"IF(Unternehmen!$AX$34=\"x\",Urmatrix!AH74,)","v":0},{"$f":"IF(Unternehmen!$AX$34=\"x\",Urmatrix!AI74,)","v":0},{"$f":"IF(Unternehmen!$AX$34=\"x\",Urmatrix!AJ74,)","v":0},{"$f":"IF(Unternehmen!$AX$34=\"x\",Urmatrix!AK74,)","v":0},{"$f":"IF(Unternehmen!$AX$34=\"x\",Urmatrix!AL74,)","v":0},{"$f":"IF(Unternehmen!$AX$34=\"x\",Urmatrix!AM74,)","v":0},{"$f":"IF(Unternehmen!$AX$34=\"x\",Urmatrix!AN74,)","v":0},{"$f":"IF(Unternehmen!$AX$34=\"x\",Urmatrix!AO74,)","v":0},{"$f":"IF(Unternehmen!$AX$34=\"x\",Urmatrix!AP74,)","v":0},{"$f":"IF(Unternehmen!$AX$34=\"x\",Urmatrix!AQ74,)","v":0},{"$f":"IF(Unternehmen!$AX$34=\"x\",Urmatrix!AR74,)","v":0},{"$f":"IF(Unternehmen!$AX$34=\"x\",Urmatrix!AS74,)","v":0},{"$f":"IF(Unternehmen!$AX$34=\"x\",Urmatrix!AT74,)","v":0},{"$f":"IF(Unternehmen!$AX$34=\"x\",Urmatrix!AU74,)","v":0},{"$f":"IF(Unternehmen!$AX$34=\"x\",Urmatrix!AV74,)","v":0},{"$f":"IF(Unternehmen!$AX$34=\"x\",Urmatrix!AW74,)","v":0},{"$f":"IF(Unternehmen!$AX$34=\"x\",Urmatrix!AX74,)","v":0},{"$f":"IF(Unternehmen!$AX$34=\"x\",Urmatrix!AY74,)","v":0},{"$f":"IF(Unternehmen!$AX$34=\"x\",Urmatrix!AZ74,)","v":0},{"$f":"IF(Unternehmen!$AX$34=\"x\",Urmatrix!BA74,)","v":0},{"$f":"IF(Unternehmen!$AX$34=\"x\",Urmatrix!BB74,)","v":0},{"$f":"IF(Unternehmen!$AX$34=\"x\",Urmatrix!BC74,)","v":0},{"$f":"IF(Unternehmen!$AX$34=\"x\",Urmatrix!BD74,)","v":0},{"$f":"IF(Unternehmen!$AX$34=\"x\",Urmatrix!BE74,)","v":0},{"$f":"IF(Unternehmen!$AX$34=\"x\",Urmatrix!BF74,)","v":0},{"$f":"IF(Unternehmen!$AX$34=\"x\",Urmatrix!BG74,)","v":0}]
["Entscheidungsgrundlage","Basse",null,null,null,"Änderungsgrad/ Innovationsgrad","neu",null,{"$f":"IF(Entscheidungsgrundlage!$E$10=\"x\",Urmatrix!I75,)","v":0},{"$f":"IF(Entscheidungsgrundlage!$E$10=\"x\",Urmatrix!J75,)","v":0},{"$f":"IF(Entscheidungsgrundlage!$E$10=\"x\",Urmatrix!K75,)","v":0},{"$f":"IF(Entscheidungsgrundlage!$E$10=\"x\",Urmatrix!L75,)","v":0},{"$f":"IF(Entscheidungsgrundlage!$E$10=\"x\",Urmatrix!M75,)","v":0},{"$f":"IF(Entscheidungsgrundlage!$E$10=\"x\",Urmatrix!N75,)","v":0},{"$f":"IF(Entscheidungsgrundlage!$E$10=\"x\",Urmatrix!O75,)","v":0},{"$f":"IF(Entscheidungsgrundlage!$E$10=\"x\",Urmatrix!P75,)","v":0},{"$f":"IF(Entscheidungsgrundlage!$E$10=\"x\",Urmatrix!Q75,)","v":0},{"$f":"IF(Entscheidungsgrundlage!$E$10=\"x\",Urmatrix!R75,)","v":0},{"$f":"IF(Entscheidungsgrundlage!$E$10=\"x\",Urmatrix!S75,)","v":0},{"$f":"IF(Entscheidungsgrundlage!$E$10=\"x\",Urmatrix!T75,)","v":0},{"$f":"IF(Entscheidungsgrundlage!$E$10=\"x\",Urmatrix!U75,)","v":0},{"$f":"IF(Entscheidungsgrundlage!$E$10=\"x\",Urmatrix!V75,)","v":0},{"$f":"IF(Entscheidungsgrundlage!$E$10=\"x\",Urmatrix!W75,)","v":0},{"$f":"IF(Entscheidungsgrundlage!$E$10=\"x\",Urmatrix!X75,)","v":0},{"$f":"IF(Entscheidungsgrundlage!$E$10=\"x\",Urmatrix!Y75,)","v":0},{"$f":"IF(Entscheidungsgrundlage!$E$10=\"x\",Urmatrix!Z75,)","v":0},{"$f":"IF(Entscheidungsgrundlage!$E$10=\"x\",Urmatrix!AA75,)","v":0},{"$f":"IF(Entscheidungsgrundlage!$E$10=\"x\",Urmatrix!AB75,)","v":0},{"$f":"IF(Entscheidungsgrundlage!$E$10=\"x\",Urmatrix!AC75,)","v":0},{"$f":"IF(Entscheidungsgrundlage!$E$10=\"x\",Urmatrix!AD75,)","v":0},{"$f":"IF(Entscheidungsgrundlage!$E$10=\"x\",Urmatrix!AE75,)","v":0},{"$f":"IF(Entscheidungsgrundlage!$E$10=\"x\",Urmatrix!AF75,)","v":0},{"$f":"IF(Entscheidungsgrundlage!$E$10=\"x\",Urmatrix!AG75,)","v":0},{"$f":"IF(Entscheidungsgrundlage!$E$10=\"x\",Urmatrix!AH75,)","v":0},{"$f":"IF(Entscheidungsgrundlage!$E$10=\"x\",Urmatrix!AI75,)","v":0},{"$f":"IF(Entscheidungsgrundlage!$E$10=\"x\",Urmatrix!AJ75,)","v":0},{"$f":"IF(Entscheidungsgrundlage!$E$10=\"x\",Urmatrix!AK75,)","v":0},{"$f":"IF(Entscheidungsgrundlage!$E$10=\"x\",Urmatrix!AL75,)","v":0},{"$f":"IF(Entscheidungsgrundlage!$E$10=\"x\",Urmatrix!AM75,)","v":0},{"$f":"IF(Entscheidungsgrundlage!$E$10=\"x\",Urmatrix!AN75,)","v":0},{"$f":"IF(Entscheidungsgrundlage!$E$10=\"x\",Urmatrix!AO75,)","v":0},{"$f":"IF(Entscheidungsgrundlage!$E$10=\"x\",Urmatrix!AP75,)","v":0},{"$f":"IF(Entscheidungsgrundlage!$E$10=\"x\",Urmatrix!AQ75,)","v":0},{"$f":"IF(Entscheidungsgrundlage!$E$10=\"x\",Urmatrix!AR75,)","v":0},{"$f":"IF(Entscheidungsgrundlage!$E$10=\"x\",Urmatrix!AS75,)","v":0},{"$f":"IF(Entscheidungsgrundlage!$E$10=\"x\",Urmatrix!AT75,)","v":0},{"$f":"IF(Entscheidungsgrundlage!$E$10=\"x\",Urmatrix!AU75,)","v":0},{"$f":"IF(Entscheidungsgrundlage!$E$10=\"x\",Urmatrix!AV75,)","v":0},{"$f":"IF(Entscheidungsgrundlage!$E$10=\"x\",Urmatrix!AW75,)","v":0},{"$f":"IF(Entscheidungsgrundlage!$E$10=\"x\",Urmatrix!AX75,)","v":0},{"$f":"IF(Entscheidungsgrundlage!$E$10=\"x\",Urmatrix!AY75,)","v":0},{"$f":"IF(Entscheidungsgrundlage!$E$10=\"x\",Urmatrix!AZ75,)","v":0},{"$f":"IF(Entscheidungsgrundlage!$E$10=\"x\",Urmatrix!BA75,)","v":0},{"$f":"IF(Entscheidungsgrundlage!$E$10=\"x\",Urmatrix!BB75,)","v":0},{"$f":"IF(Entscheidungsgrundlage!$E$10=\"x\",Urmatrix!BC75,)","v":0},{"$f":"IF(Entscheidungsgrundlage!$E$10=\"x\",Urmatrix!BD75,)","v":0},{"$f":"IF(Entscheidungsgrundlage!$E$10=\"x\",Urmatrix!BE75,)","v":0},{"$f":"IF(Entscheidungsgrundlage!$E$10=\"x\",Urmatrix!BF75,)","v":0},{"$f":"IF(Entscheidungsgrundlage!$E$10=\"x\",Urmatrix!BG75,)","v":0}]
[null,null,null,null,null,null,"geändert",null,{"$f":"IF(Entscheidungsgrundlage!$Y$10=\"x\",Urmatrix!I76,)","v":0},{"$f":"IF(Entscheidungsgrundlage!$Y$10=\"x\",Urmatrix!J76,)","v":0},{"$f":"IF(Entscheidungsgrundlage!$Y$10=\"x\",Urmatrix!K76,)","v":0},{"$f":"IF(Entscheidungsgrundlage!$Y$10=\"x\",Urmatrix!L76,)","v":0},{"$f":"IF(Entscheidungsgrundlage!$Y$10=\"x\",Urmatrix!M76,)","v":0},{"$f":"IF(Entscheidungsgrundlage!$Y$10=\"x\",Urmatrix!N76,)","v":0},{"$f":"IF(Entscheidungsgrundlage!$Y$10=\"x\",Urmatrix!O76,)","v":0},{"$f":"IF(Entscheidungsgrundlage!$Y$10=\"x\",Urmatrix!P76,)","v":0},{"$f":"IF(Entscheidungsgrundlage!$Y$10=\"x\",Urmatrix!Q76,)","v":0},{"$f":"IF(Entscheidungsgrundlage!$Y$10=\"x\",Urmatrix!R76,)","v":0},{"$f":"IF(Entscheidungsgrundlage!$Y$10=\"x\",Urmatrix!S76,)","v":0},{"$f":"IF(Entscheidungsgrundlage!$Y$10=\"x\",Urmatrix!T76,)","v":0},{"$f":"IF(Entscheidungsgrundlage!$Y$10=\"x\",Urmatrix!U76,)","v":0},{"$f":"IF(Entscheidungsgrundlage!$Y$10=\"x\",Urmatrix!V76,)","v":0},{"$f":"IF(Entscheidungsgrundlage!$Y$10=\"x\",Urmatrix!W76,)","v":0},{"$f":"IF(Entscheidungsgrundlage!$Y$10=\"x\",Urmatrix!X76,)","v":0},{"$f":"IF(Entscheidungsgrundlage!$Y$10=\"x\",Urmatrix!Y76,)","v":0},{"$f":"IF(Entscheidungsgrundlage!$Y$10=\"x\",Urmatrix!Z76,)","v":0},{"$f":"IF(Entscheidungsgrundlage!$Y$10=\"x\",Urmatrix!AA76,)","v":0},{"$f":"IF(Entscheidungsgrundlage!$Y$10=\"x\",Urmatrix!AB76,)","v":0},{"$f":"IF(Entscheidungsgrundlage!$Y$10=\"x\",Urmatrix!AC76,)","v":0},{"$f":"IF(Entscheidungsgrundlage!$Y$10=\"x\",Urmatrix!AD76,)","v":0},{"$f":"IF(Entscheidungsgrundlage!$Y$10=\"x\",Urmatrix!AE76,)","v":0},{"$f":"IF(Entscheidungsgrundlage!$Y$10=\"x\",Urmatrix!AF76,)","v":0},{"$f":"IF(Entscheidungsgrundlage!$Y$10=\"x\",Urmatrix!AG76,)","v":0},{"$f":"IF(Entscheidungsgrundlage!$Y$10=\"x\",Urmatrix!AH76,)","v":0},{"$f":"IF(Entscheidungsgrundlage!$Y$10=\"x\",Urmatrix!AI76,)","v":0},{"$f":"IF(Entscheidungsgrundlage!$Y$10=\"x\",Urmatrix!AJ76,)","v":0},{"$f":"IF(Entscheidungsgrundlage!$Y$10=\"x\",Urmatrix!AK76,)","v":0},{"$f":"IF(Entscheidungsgrundlage!$Y$10=\"x\",Urmatrix!AL76,)","v":0},{"$f":"IF(Entscheidungsgrundlage!$Y$10=\"x\",Urmatrix!AM76,)","v":0},{"$f":"IF(Entscheidungsgrundlage!$Y$10=\"x\",Urmatrix!AN76,)","v":0},{"$f":"IF(Entscheidungsgrundlage!$Y$10=\"x\",Urmatrix!AO76,)","v":0},{"$f":"IF(Entscheidungsgrundlage!$Y$10=\"x\",Urmatrix!AP76,)","v":0},{"$f":"IF(Entscheidungsgrundlage!$Y$10=\"x\",Urmatrix!AQ76,)","v":0},{"$f":"IF(Entscheidungsgrundlage!$Y$10=\"x\",Urmatrix!AR76,)","v":0},{"$f":"IF(Entscheidungsgrundlage!$Y$10=\"x\",Urmatrix!AS76,)","v":0},{"$f":"IF(Entscheidungsgrundlage!$Y$10=\"x\",Urmatrix!AT76,)","v":0},{"$f":"IF(Entscheidungsgrundlage!$Y$10=\"x\",Urmatrix!AU76,)","v":0},{"$f":"IF(Entscheidungsgrundlage!$Y$10=\"x\",Urmatrix!AV76,)","v":0},{"$f":"IF(Entscheidungsgrundlage!$Y$10=\"x\",Urmatrix!AW76,)","v":0},{"$f":"IF(Entscheidungsgrundlage!$Y$10=\"x\",Urmatrix!AX76,)","v":0},{"$f":"IF(Entscheidungsgrundlage!$Y$10=\"x\",Urmatrix!AY76,)","v":0},{"$f":"IF(Entscheidungsgrundlage!$Y$10=\"x\",Urmatrix!AZ76,)","v":0},{"$f":"IF(Entscheidungsgrundlage!$Y$10=\"x\",Urmatrix!BA76,)","v":0},{"$f":"IF(Entscheidungsgrundlage!$Y$10=\"x\",Urmatrix!BB76,)","v":0},{"$f":"IF(Entscheidungsgrundlage!$Y$10=\"x\",Urmatrix!BC76,)","v":0},{"$f":"IF(Entscheidungsgrundlage!$Y$10=\"x\",Urmatrix!BD76,)","v":0},{"$f":"IF(Entscheidungsgrundlage!$Y$10=\"x\",Urmatrix!BE76,)","v":0},{"$f":"IF(Entscheidungsgrundlage!$Y$10=\"x\",Urmatrix!BF76,)","v":0},{"$f":"IF(Entscheidungsgrundlage!$Y$10=\"x\",Urmatrix!BG76,)","v":0}]
[null,null,null,null,null,null,"angepasst",null,{"$f":"IF(Entscheidungsgrundlage!$AS$10=\"x\",Urmatrix!I77,)","v":0},{"$f":"IF(Entscheidungsgrundlage!$AS$10=\"x\",Urmatrix!J77,)","v":0},{"$f":"IF(Entscheidungsgrundlage!$AS$10=\"x\",Urmatrix!K77,)","v":0},{"$f":"IF(Entscheidungsgrundlage!$AS$10=\"x\",Urmatrix!L77,)","v":0},{"$f":"IF(Entscheidungsgrundlage!$AS$10=\"x\",Urmatrix!M77,)","v":0},{"$f":"IF(Entscheidungsgrundlage!$AS$10=\"x\",Urmatrix!N77,)","v":0},{"$f":"IF(Entscheidungsgrundlage!$AS$10=\"x\",Urmatrix!O77,)","v":0},{"$f":"IF(Entscheidungsgrundlage!$AS$10=\"x\",Urmatrix!P77,)","v":0},{"$f":"IF(Entscheidungsgrundlage!$AS$10=\"x\",Urmatrix!Q77,)","v":0},{"$f":"IF(Entscheidungsgrundlage!$AS$10=\"x\",Urmatrix!R77,)","v":0},{"$f":"IF(Entscheidungsgrundlage!$AS$10=\"x\",Urmatrix!S77,)","v":0},{"$f":"IF(Entscheidungsgrundlage!$AS$10=\"x\",Urmatrix!T77,)","v":0},{"$f":"IF(Entscheidungsgrundlage!$AS$10=\"x\",Urmatrix!U77,)","v":0},{"$f":"IF(Entscheidungsgrundlage!$AS$10=\"x\",Urmatrix!V77,)","v":0},{"$f":"IF(Entscheidungsgrundlage!$AS$10=\"x\",Urmatrix!W77,)","v":0},{"$f":"IF(Entscheidungsgrundlage!$AS$10=\"x\",Urmatrix!X77,)","v":0},{"$f":"IF(Entscheidungsgrundlage!$AS$10=\"x\",Urmatrix!Y77,)","v":0},{"$f":"IF(Entscheidungsgrundlage!$AS$10=\"x\",Urmatrix!Z77,)","v":0},{"$f":"IF(Entscheidungsgrundlage!$AS$10=\"x\",Urmatrix!AA77,)","v":0},{"$f":"IF(Entscheidungsgrundlage!$AS$10=\"x\",Urmatrix!AB77,)","v":0},{"$f":"IF(Entscheidungsgrundlage!$AS$10=\"x\",Urmatrix!AC77,)","v":0},{"$f":"IF(Entscheidungsgrundlage!$AS$10=\"x\",Urmatrix!AD77,)","v":0},{"$f":"IF(Entscheidungsgrundlage!$AS$10=\"x\",Urmatrix!AE77,)","v":0},{"$f":"IF(Entscheidungsgrundlage!$AS$10=\"x\",Urmatrix!AF77,)","v":0},{"$f":"IF(Entscheidungsgrundlage!$AS$10=\"x\",Urmatrix!AG77,)","v":0},{"$f":"IF(Entscheidungsgrundlage!$AS$10=\"x\",Urmatrix!AH77,)","v":0},{"$f":"IF(Entscheidungsgrundlage!$AS$10=\"x\",Urmatrix!AI77,)","v":0},{"$f":"IF(Entscheidungsgrundlage!$AS$10=\"x\",Urmatrix!AJ77,)","v":0},{"$f":"IF(Entscheidungsgrundlage!$AS$10=\"x\",Urmatrix!AK77,)","v":0},{"$f":"IF(Entscheidungsgrundlage!$AS$10=\"x\",Urmatrix!AL77,)","v":0},{"$f":"IF(Entscheidungsgrundlage!$AS$10=\"x\",Urmatrix!AM77,)","v":0},{"$f":"IF(Entscheidungsgrundlage!$AS$10=\"x\",Urmatrix!AN77,)","v":0},{"$f":"IF(Entscheidungsgrundlage!$AS$10=\"x\",Urmatrix!AO77,)","v":0},{"$f":"IF(Entscheidungsgrundlage!$AS$10=\"x\",Urmatrix!AP77,)","v":0},{"$f":"IF(Entscheidungsgrundlage!$AS$10=\"x\",Urmatrix!AQ77,)","v":0},{"$f":"IF(Entscheidungsgrundlage!$AS$10=\"x\",Urmatrix!AR77,)","v":0},{"$f":"IF(Entscheidungsgrundlage!$AS$10=\"x\",Urmatrix!AS77,)","v":0},{"$f":"IF(Entscheidungsgrundlage!$AS$10=\"x\",Urmatrix!AT77,)","v":0},{"$f":"IF(Entscheidungsgrundlage!$AS$10=\"x\",Urmatrix!AU77,)","v":0},{"$f":"IF(Entscheidungsgrundlage!$AS$10=\"x\",Urmatrix!AV77,)","v":0},{"$f":"IF(Entscheidungsgrundlage!$AS$10=\"x\",Urmatrix!AW77,)","v":0},{"$f":"IF(Entscheidungsgrundlage!$AS$10=\"x\",Urmatrix!AX77,)","v":0},{"$f":"IF(Entscheidungsgrundlage!$AS$10=\"x\",Urmatrix!AY77,)","v":0},{"$f":"IF(Entscheidungsgrundlage!$AS$10=\"x\",Urmatrix!AZ77,)","v":0},{"$f":"IF(Entscheidungsgrundlage!$AS$10=\"x\",Urmatrix!BA77,)","v":0},{"$f":"IF(Entscheidungsgrundlage!$AS$10=\"x\",Urmatrix!BB77,)","v":0},{"$f":"IF(Entscheidungsgrundlage!$AS$10=\"x\",Urmatrix!BC77,)","v":0},{"$f":"IF(Entscheidungsgrundlage!$AS$10=\"x\",Urmatrix!BD77,)","v":0},{"$f":"IF(Entscheidungsgrundlage!$AS$10=\"x\",Urmatrix!BE77,)","v":0},{"$f":"IF(Entscheidungsgrundlage!$AS$10=\"x\",Urmatrix!BF77,)","v":0},{"$f":"IF(Entscheidungsgrundlage!$AS$10=\"x\",Urmatrix!BG77,)","v":0}]
[null,"Kujas",null,null,null,"Änderungsgegenstand","Prozess",null,{"$f":"IF(Entscheidungsgrundlage!$E$12=\"x\",Urmatrix!I78,)","v":0},{"$f":"IF(Entscheidungsgrundlage!$E$12=\"x\",Urmatrix!J78,)","v":0},{"$f":"IF(Entscheidungsgrundlage!$E$12=\"x\",Urmatrix!K78,)","v":0},{"$f":"IF(Entscheidungsgrundlage!$E$12=\"x\",Urmatrix!L78,)","v":0},{"$f":"IF(Entscheidungsgrundlage!$E$12=\"x\",Urmatrix!M78,)","v":0},{"$f":"IF(Entscheidungsgrundlage!$E$12=\"x\",Urmatrix!N78,)","v":0},{"$f":"IF(Entscheidungsgrundlage!$E$12=\"x\",Urmatrix!O78,)","v":0},{"$f":"IF(Entscheidungsgrundlage!$E$12=\"x\",Urmatrix!P78,)","v":0},{"$f":"IF(Entscheidungsgrundlage!$E$12=\"x\",Urmatrix!Q78,)","v":0},{"$f":"IF(Entscheidungsgrundlage!$E$12=\"x\",Urmatrix!R78,)","v":0},{"$f":"IF(Entscheidungsgrundlage!$E$12=\"x\",Urmatrix!S78,)","v":0},{"$f":"IF(Entscheidungsgrundlage!$E$12=\"x\",Urmatrix!T78,)","v":0},{"$f":"IF(Entscheidungsgrundlage!$E$12=\"x\",Urmatrix!U78,)","v":0},{"$f":"IF(Entscheidungsgrundlage!$E$12=\"x\",Urmatrix!V78,)","v":0},{"$f":"IF(Entscheidungsgrundlage!$E$12=\"x\",Urmatrix!W78,)","v":0},{"$f":"IF(Entscheidungsgrundlage!$E$12=\"x\",Urmatrix!X78,)","v":0},{"$f":"IF(Entscheidungsgrundlage!$E$12=\"x\",Urmatrix!Y78,)","v":0},{"$f":"IF(Entscheidungsgrundlage!$E$12=\"x\",Urmatrix!Z78,)","v":0},{"$f":"IF(Entscheidungsgrundlage!$E$12=\"x\",Urmatrix!AA78,)","v":0},{"$f":"IF(Entscheidungsgrundlage!$E$12=\"x\",Urmatrix!AB78,)","v":0},{"$f":"IF(Entscheidungsgrundlage!$E$12=\"x\",Urmatrix!AC78,)","v":0},{"$f":"IF(Entscheidungsgrundlage!$E$12=\"x\",Urmatrix!AD78,)","v":0},{"$f":"IF(Entscheidungsgrundlage!$E$12=\"x\",Urmatrix!AE78,)","v":0},{"$f":"IF(Entscheidungsgrundlage!$E$12=\"x\",Urmatrix!AF78,)","v":0},{"$f":"IF(Entscheidungsgrundlage!$E$12=\"x\",Urmatrix!AG78,)","v":0},{"$f":"IF(Entscheidungsgrundlage!$E$12=\"x\",Urmatrix!AH78,)","v":0},{"$f":"IF(Entscheidungsgrundlage!$E$12=\"x\",Urmatrix!AI78,)","v":0},{"$f":"IF(Entscheidungsgrundlage!$E$12=\"x\",Urmatrix!AJ78,)","v":0},{"$f":"IF(Entscheidungsgrundlage!$E$12=\"x\",Urmatrix!AK78,)","v":0},{"$f":"IF(Entscheidungsgrundlage!$E$12=\"x\",Urmatrix!AL78,)","v":0},{"$f":"IF(Entscheidungsgrundlage!$E$12=\"x\",Urmatrix!AM78,)","v":0},{"$f":"IF(Entscheidungsgrundlage!$E$12=\"x\",Urmatrix!AN78,)","v":0},{"$f":"IF(Entscheidungsgrundlage!$E$12=\"x\",Urmatrix!AO78,)","v":0},{"$f":"IF(Entscheidungsgrundlage!$E$12=\"x\",Urmatrix!AP78,)","v":0},{"$f":"IF(Entscheidungsgrundlage!$E$12=\"x\",Urmatrix!AQ78,)","v":0},{"$f":"IF(Entscheidungsgrundlage!$E$12=\"x\",Urmatrix!AR78,)","v":0},{"$f":"IF(Entscheidungsgrundlage!$E$12=\"x\",Urmatrix!AS78,)","v":0},{"$f":"IF(Entscheidungsgrundlage!$E$12=\"x\",Urmatrix!AT78,)","v":0},{"$f":"IF(Entscheidungsgrundlage!$E$12=\"x\",Urmatrix!AU78,)","v":0},{"$f":"IF(Entscheidungsgrundlage!$E$12=\"x\",Urmatrix!AV78,)","v":0},{"$f":"IF(Entscheidungsgrundlage!$E$12=\"x\",Urmatrix!AW78,)","v":0},{"$f":"IF(Entscheidungsgrundlage!$E$12=\"x\",Urmatrix!AX78,)","v":0},{"$f":"IF(Entscheidungsgrundlage!$E$12=\"x\",Urmatrix!AY78,)","v":0},{"$f":"IF(Entscheidungsgrundlage!$E$12=\"x\",Urmatrix!AZ78,)","v":0},{"$f":"IF(Entscheidungsgrundlage!$E$12=\"x\",Urmatrix!BA78,)","v":0},{"$f":"IF(Entscheidungsgrundlage!$E$12=\"x\",Urmatrix!BB78,)","v":0},{"$f":"IF(Entscheidungsgrundlage!$E$12=\"x\",Urmatrix!BC78,)","v":0},{"$f":"IF(Entscheidungsgrundlage!$E$12=\"x\",Urmatrix!BD78,)","v":0},{"$f":"IF(Entscheidungsgrundlage!$E$12=\"x\",Urmatrix!BE78,)","v":0},{"$f":"IF(Entscheidungsgrundlage!$E$12=\"x\",Urmatrix!BF78,)","v":0},{"$f":"IF(Entscheidungsgrundlage!$E$12=\"x\",Urmatrix!BG78,)","v":0}]
[null,null,null,null,null,null,"Produkt",null,{"$f":"IF(Entscheidungsgrundlage!$T$12=\"x\",Urmatrix!I79,)","v":0},{"$f":"IF(Entscheidungsgrundlage!$T$12=\"x\",Urmatrix!J79,)","v":0},{"$f":"IF(Entscheidungsgrundlage!$T$12=\"x\",Urmatrix!K79,)","v":0},{"$f":"IF(Entscheidungsgrundlage!$T$12=\"x\",Urmatrix!L79,)","v":0},{"$f":"IF(Entscheidungsgrundlage!$T$12=\"x\",Urmatrix!M79,)","v":0},{"$f":"IF(Entscheidungsgrundlage!$T$12=\"x\",Urmatrix!N79,)","v":0},{"$f":"IF(Entscheidungsgrundlage!$T$12=\"x\",Urmatrix!O79,)","v":0},{"$f":"IF(Entscheidungsgrundlage!$T$12=\"x\",Urmatrix!P79,)","v":0},{"$f":"IF(Entscheidungsgrundlage!$T$12=\"x\",Urmatrix!Q79,)","v":0},{"$f":"IF(Entscheidungsgrundlage!$T$12=\"x\",Urmatrix!R79,)","v":0},{"$f":"IF(Entscheidungsgrundlage!$T$12=\"x\",Urmatrix!S79,)","v":0},{"$f":"IF(Entscheidungsgrundlage!$T$12=\"x\",Urmatrix!T79,)","v":0},{"$f":"IF(Entscheidungsgrundlage!$T$12=\"x\",Urmatrix!U79,)","v":0},{"$f":"IF(Entscheidungsgrundlage!$T$12=\"x\",Urmatrix!V79,)","v":0},{"$f":"IF(Entscheidungsgrundlage!$T$12=\"x\",Urmatrix!W79,)","v":0},{"$f":"IF(Entscheidungsgrundlage!$T$12=\"x\",Urmatrix!X79,)","v":0},{"$f":"IF(Entscheidungsgrundlage!$T$12=\"x\",Urmatrix!Y79,)","v":0},{"$f":"IF(Entscheidungsgrundlage!$T$12=\"x\",Urmatrix!Z79,)","v":0},{"$f":"IF(Entscheidungsgrundlage!$T$12=\"x\",Urmatrix!AA79,)","v":0},{"$f":"IF(Entscheidungsgrundlage!$T$12=\"x\",Urmatrix!AB79,)","v":0},{"$f":"IF(Entscheidungsgrundlage!$T$12=\"x\",Urmatrix!AC79,)","v":0},{"$f":"IF(Entscheidungsgrundlage!$T$12=\"x\",Urmatrix!AD79,)","v":0},{"$f":"IF(Entscheidungsgrundlage!$T$12=\"x\",Urmatrix!AE79,)","v":0},{"$f":"IF(Entscheidungsgrundlage!$T$12=\"x\",Urmatrix!AF79,)","v":0},{"$f":"IF(Entscheidungsgrundlage!$T$12=\"x\",Urmatrix!AG79,)","v":0},{"$f":"IF(Entscheidungsgrundlage!$T$12=\"x\",Urmatrix!AH79,)","v":0},{"$f":"IF(Entscheidungsgrundlage!$T$12=\"x\",Urmatrix!AI79,)","v":0},{"$f":"IF(Entscheidungsgrundlage!$T$12=\"x\",Urmatrix!AJ79,)","v":0},{"$f":"IF(Entscheidungsgrundlage!$T$12=\"x\",Urmatrix!AK79,)","v":0},{"$f":"IF(Entscheidungsgrundlage!$T$12=\"x\",Urmatrix!AL79,)","v":0},{"$f":"IF(Entscheidungsgrundlage!$T$12=\"x\",Urmatrix!AM79,)","v":0},{"$f":"IF(Entscheidungsgrundlage!$T$12=\"x\",Urmatrix!AN79,)","v":0},{"$f":"IF(Entscheidungsgrundlage!$T$12=\"x\",Urmatrix!AO79,)","v":0},{"$f":"IF(Entscheidungsgrundlage!$T$12=\"x\",Urmatrix!AP79,)","v":0},{"$f":"IF(Entscheidungsgrundlage!$T$12=\"x\",Urmatrix!AQ79,)","v":0},{"$f":"IF(Entscheidungsgrundlage!$T$12=\"x\",Urmatrix!AR79,)","v":0},{"$f":"IF(Entscheidungsgrundlage!$T$12=\"x\",Urmatrix!AS79,)","v":0},{"$f":"IF(Entscheidungsgrundlage!$T$12=\"x\",Urmatrix!AT79,)","v":0},{"$f":"IF(Entscheidungsgrundlage!$T$12=\"x\",Urmatrix!AU79,)","v":0},{"$f":"IF(Entscheidungsgrundlage!$T$12=\"x\",Urmatrix!AV79,)","v":0},{"$f":"IF(Entscheidungsgrundlage!$T$12=\"x\",Urmatrix!AW79,)","v":0},{"$f":"IF(Entscheidungsgrundlage!$T$12=\"x\",Urmatrix!AX79,)","v":0},{"$f":"IF(Entscheidungsgrundlage!$T$12=\"x\",Urmatrix!AY79,)","v":0},{"$f":"IF(Entscheidungsgrundlage!$T$12=\"x\",Urmatrix!AZ79,)","v":0},{"$f":"IF(Entscheidungsgrundlage!$T$12=\"x\",Urmatrix!BA79,)","v":0},{"$f":"IF(Entscheidungsgrundlage!$T$12=\"x\",Urmatrix!BB79,)","v":0},{"$f":"IF(Entscheidungsgrundlage!$T$12=\"x\",Urmatrix!BC79,)","v":0},{"$f":"IF(Entscheidungsgrundlage!$T$12=\"x\",Urmatrix!BD79,)","v":0},{"$f":"IF(Entscheidungsgrundlage!$T$12=\"x\",Urmatrix!BE79,)","v":0},{"$f":"IF(Entscheidungsgrundlage!$T$12=\"x\",Urmatrix!BF79,)","v":0},{"$f":"IF(Entscheidungsgrundlage!$T$12=\"x\",Urmatrix!BG79,)","v":0}]
[null,null,null,null,null,null,"Umfeld",null,{"$f":"IF(Entscheidungsgrundlage!$AI$12=\"x\",Urmatrix!I80,)","v":0},{"$f":"IF(Entscheidungsgrundlage!$AI$12=\"x\",Urmatrix!J80,)","v":0},{"$f":"IF(Entscheidungsgrundlage!$AI$12=\"x\",Urmatrix!K80,)","v":0},{"$f":"IF(Entscheidungsgrundlage!$AI$12=\"x\",Urmatrix!L80,)","v":0},{"$f":"IF(Entscheidungsgrundlage!$AI$12=\"x\",Urmatrix!M80,)","v":0},{"$f":"IF(Entscheidungsgrundlage!$AI$12=\"x\",Urmatrix!N80,)","v":0},{"$f":"IF(Entscheidungsgrundlage!$AI$12=\"x\",Urmatrix!O80,)","v":0},{"$f":"IF(Entscheidungsgrundlage!$AI$12=\"x\",Urmatrix!P80,)","v":0},{"$f":"IF(Entscheidungsgrundlage!$AI$12=\"x\",Urmatrix!Q80,)","v":0},{"$f":"IF(Entscheidungsgrundlage!$AI$12=\"x\",Urmatrix!R80,)","v":0},{"$f":"IF(Entscheidungsgrundlage!$AI$12=\"x\",Urmatrix!S80,)","v":0},{"$f":"IF(Entscheidungsgrundlage!$AI$12=\"x\",Urmatrix!T80,)","v":0},{"$f":"IF(Entscheidungsgrundlage!$AI$12=\"x\",Urmatrix!U80,)","v":0},{"$f":"IF(Entscheidungsgrundlage!$AI$12=\"x\",Urmatrix!V80,)","v":0},{"$f":"IF(Entscheidungsgrundlage!$AI$12=\"x\",Urmatrix!W80,)","v":0},{"$f":"IF(Entscheidungsgrundlage!$AI$12=\"x\",Urmatrix!X80,)","v":0},{"$f":"IF(Entscheidungsgrundlage!$AI$12=\"x\",Urmatrix!Y80,)","v":0},{"$f":"IF(Entscheidungsgrundlage!$AI$12=\"x\",Urmatrix!Z80,)","v":0},{"$f":"IF(Entscheidungsgrundlage!$AI$12=\"x\",Urmatrix!AA80,)","v":0},{"$f":"IF(Entscheidungsgrundlage!$AI$12=\"x\",Urmatrix!AB80,)","v":0},{"$f":"IF(Entscheidungsgrundlage!$AI$12=\"x\",Urmatrix!AC80,)","v":0},{"$f":"IF(Entscheidungsgrundlage!$AI$12=\"x\",Urmatrix!AD80,)","v":0},{"$f":"IF(Entscheidungsgrundlage!$AI$12=\"x\",Urmatrix!AE80,)","v":0},{"$f":"IF(Entscheidungsgrundlage!$AI$12=\"x\",Urmatrix!AF80,)","v":0},{"$f":"IF(Entscheidungsgrundlage!$AI$12=\"x\",Urmatrix!AG80,)","v":0},{"$f":"IF(Entscheidungsgrundlage!$AI$12=\"x\",Urmatrix!AH80,)","v":0},{"$f":"IF(Entscheidungsgrundlage!$AI$12=\"x\",Urmatrix!AI80,)","v":0},{"$f":"IF(Entscheidungsgrundlage!$AI$12=\"x\",Urmatrix!AJ80,)","v":0},{"$f":"IF(Entscheidungsgrundlage!$AI$12=\"x\",Urmatrix!AK80,)","v":0},{"$f":"IF(Entscheidungsgrundlage!$AI$12=\"x\",Urmatrix!AL80,)","v":0},{"$f":"IF(Entscheidungsgrundlage!$AI$12=\"x\",Urmatrix!AM80,)","v":0},{"$f":"IF(Entscheidungsgrundlage!$AI$12=\"x\",Urmatrix!AN80,)","v":0},{"$f":"IF(Entscheidungsgrundlage!$AI$12=\"x\",Urmatrix!AO80,)","v":0},{"$f":"IF(Entscheidungsgrundlage!$AI$12=\"x\",Urmatrix!AP80,)","v":0},{"$f":"IF(Entscheidungsgrundlage!$AI$12=\"x\",Urmatrix!AQ80,)","v":0},{"$f":"IF(Entscheidungsgrundlage!$AI$12=\"x\",Urmatrix!AR80,)","v":0},{"$f":"IF(Entscheidungsgrundlage!$AI$12=\"x\",Urmatrix!AS80,)","v":0},{"$f":"IF(Entscheidungsgrundlage!$AI$12=\"x\",Urmatrix!AT80,)","v":0},{"$f":"IF(Entscheidungsgrundlage!$AI$12=\"x\",Urmatrix!AU80,)","v":0},{"$f":"IF(Entscheidungsgrundlage!$AI$12=\"x\",Urmatrix!AV80,)","v":0},{"$f":"IF(Entscheidungsgrundlage!$AI$12=\"x\",Urmatrix!AW80,)","v":0},{"$f":"IF(Entscheidungsgrundlage!$AI$12=\"x\",Urmatrix!AX80,)","v":0},{"$f":"IF(Entscheidungsgrundlage!$AI$12=\"x\",Urmatrix!AY80,)","v":0},{"$f":"IF(Entscheidungsgrundlage!$AI$12=\"x\",Urmatrix!AZ80,)","v":0},{"$f":"IF(Entscheidungsgrundlage!$AI$12=\"x\",Urmatrix!BA80,)","v":0},{"$f":"IF(Entscheidungsgrundlage!$AI$12=\"x\",Urmatrix!BB80,)","v":0},{"$f":"IF(Entscheidungsgrundlage!$AI$12=\"x\",Urmatrix!BC80,)","v":0},{"$f":"IF(Entscheidungsgrundlage!$AI$12=\"x\",Urmatrix!BD80,)","v":0},{"$f":"IF(Entscheidungsgrundlage!$AI$12=\"x\",Urmatrix!BE80,)","v":0},{"$f":"IF(Entscheidungsgrundlage!$AI$12=\"x\",Urmatrix!BF80,)","v":0},{"$f":"IF(Entscheidungsgrundlage!$AI$12=\"x\",Urmatrix!BG80,)","v":0}]
[null,null,null,null,null,null,"Organisation",null,{"$f":"IF(Entscheidungsgrundlage!$AX$12=\"x\",Urmatrix!I81,)","v":0},{"$f":"IF(Entscheidungsgrundlage!$AX$12=\"x\",Urmatrix!J81,)","v":0},{"$f":"IF(Entscheidungsgrundlage!$AX$12=\"x\",Urmatrix!K81,)","v":0},{"$f":"IF(Entscheidungsgrundlage!$AX$12=\"x\",Urmatrix!L81,)","v":0},{"$f":"IF(Entscheidungsgrundlage!$AX$12=\"x\",Urmatrix!M81,)","v":0},{"$f":"IF(Entscheidungsgrundlage!$AX$12=\"x\",Urmatrix!N81,)","v":0},{"$f":"IF(Entscheidungsgrundlage!$AX$12=\"x\",Urmatrix!O81,)","v":0},{"$f":"IF(Entscheidungsgrundlage!$AX$12=\"x\",Urmatrix!P81,)","v":0},{"$f":"IF(Entscheidungsgrundlage!$AX$12=\"x\",Urmatrix!Q81,)","v":0},{"$f":"IF(Entscheidungsgrundlage!$AX$12=\"x\",Urmatrix!R81,)","v":0},{"$f":"IF(Entscheidungsgrundlage!$AX$12=\"x\",Urmatrix!S81,)","v":0},{"$f":"IF(Entscheidungsgrundlage!$AX$12=\"x\",Urmatrix!T81,)","v":0},{"$f":"IF(Entscheidungsgrundlage!$AX$12=\"x\",Urmatrix!U81,)","v":0},{"$f":"IF(Entscheidungsgrundlage!$AX$12=\"x\",Urmatrix!V81,)","v":0},{"$f":"IF(Entscheidungsgrundlage!$AX$12=\"x\",Urmatrix!W81,)","v":0},{"$f":"IF(Entscheidungsgrundlage!$AX$12=\"x\",Urmatrix!X81,)","v":0},{"$f":"IF(Entscheidungsgrundlage!$AX$12=\"x\",Urmatrix!Y81,)","v":0},{"$f":"IF(Entscheidungsgrundlage!$AX$12=\"x\",Urmatrix!Z81,)","v":0},{"$f":"IF(Entscheidungsgrundlage!$AX$12=\"x\",Urmatrix!AA81,)","v":0},{"$f":"IF(Entscheidungsgrundlage!$AX$12=\"x\",Urmatrix!AB81,)","v":0},{"$f":"IF(Entscheidungsgrundlage!$AX$12=\"x\",Urmatrix!AC81,)","v":0},{"$f":"IF(Entscheidungsgrundlage!$AX$12=\"x\",Urmatrix!AD81,)","v":0},{"$f":"IF(Entscheidungsgrundlage!$AX$12=\"x\",Urmatrix!AE81,)","v":0},{"$f":"IF(Entscheidungsgrundlage!$AX$12=\"x\",Urmatrix!AF81,)","v":0},{"$f":"IF(Entscheidungsgrundlage!$AX$12=\"x\",Urmatrix!AG81,)","v":0},{"$f":"IF(Entscheidungsgrundlage!$AX$12=\"x\",Urmatrix!AH81,)","v":0},{"$f":"IF(Entscheidungsgrundlage!$AX$12=\"x\",Urmatrix!AI81,)","v":0},{"$f":"IF(Entscheidungsgrundlage!$AX$12=\"x\",Urmatrix!AJ81,)","v":0},{"$f":"IF(Entscheidungsgrundlage!$AX$12=\"x\",Urmatrix!AK81,)","v":0},{"$f":"IF(Entscheidungsgrundlage!$AX$12=\"x\",Urmatrix!AL81,)","v":0},{"$f":"IF(Entscheidungsgrundlage!$AX$12=\"x\",Urmatrix!AM81,)","v":0},{"$f":"IF(Entscheidungsgrundlage!$AX$12=\"x\",Urmatrix!AN81,)","v":0},{"$f":"IF(Entscheidungsgrundlage!$AX$12=\"x\",Urmatrix!AO81,)","v":0},{"$f":"IF(Entscheidungsgrundlage!$AX$12=\"x\",Urmatrix!AP81,)","v":0},{"$f":"IF(Entscheidungsgrundlage!$AX$12=\"x\",Urmatrix!AQ81,)","v":0},{"$f":"IF(Entscheidungsgrundlage!$AX$12=\"x\",Urmatrix!AR81,)","v":0},{"$f":"IF(Entscheidungsgrundlage!$AX$12=\"x\",Urmatrix!AS81,)","v":0},{"$f":"IF(Entscheidungsgrundlage!$AX$12=\"x\",Urmatrix!AT81,)","v":0},{"$f":"IF(Entscheidungsgrundlage!$AX$12=\"x\",Urmatrix!AU81,)","v":0},{"$f":"IF(Entscheidungsgrundlage!$AX$12=\"x\",Urmatrix!AV81,)","v":0},{"$f":"IF(Entscheidungsgrundlage!$AX$12=\"x\",Urmatrix!AW81,)","v":0},{"$f":"IF(Entscheidungsgrundlage!$AX$12=\"x\",Urmatrix!AX81,)","v":0},{"$f":"IF(Entscheidungsgrundlage!$AX$12=\"x\",Urmatrix!AY81,)","v":0},{"$f":"IF(Entscheidungsgrundlage!$AX$12=\"x\",Urmatrix!AZ81,)","v":0},{"$f":"IF(Entscheidungsgrundlage!$AX$12=\"x\",Urmatrix!BA81,)","v":0},{"$f":"IF(Entscheidungsgrundlage!$AX$12=\"x\",Urmatrix!BB81,)","v":0},{"$f":"IF(Entscheidungsgrundlage!$AX$12=\"x\",Urmatrix!BC81,)","v":0},{"$f":"IF(Entscheidungsgrundlage!$AX$12=\"x\",Urmatrix!BD81,)","v":0},{"$f":"IF(Entscheidungsgrundlage!$AX$12=\"x\",Urmatrix!BE81,)","v":0},{"$f":"IF(Entscheidungsgrundlage!$AX$12=\"x\",Urmatrix!BF81,)","v":0},{"$f":"IF(Entscheidungsgrundlage!$AX$12=\"x\",Urmatrix!BG81,)","v":0}]
[null,"Stiller",null,null,null,"Phase im Produktentwicklungs-prozess","Prototyp",null,{"$f":"IF(Entscheidungsgrundlage!$E$14=\"x\",Urmatrix!I82,)","v":0},{"$f":"IF(Entscheidungsgrundlage!$E$14=\"x\",Urmatrix!J82,)","v":0},{"$f":"IF(Entscheidungsgrundlage!$E$14=\"x\",Urmatrix!K82,)","v":0},{"$f":"IF(Entscheidungsgrundlage!$E$14=\"x\",Urmatrix!L82,)","v":0},{"$f":"IF(Entscheidungsgrundlage!$E$14=\"x\",Urmatrix!M82,)","v":0},{"$f":"IF(Entscheidungsgrundlage!$E$14=\"x\",Urmatrix!N82,)","v":0},{"$f":"IF(Entscheidungsgrundlage!$E$14=\"x\",Urmatrix!O82,)","v":0},{"$f":"IF(Entscheidungsgrundlage!$E$14=\"x\",Urmatrix!P82,)","v":0},{"$f":"IF(Entscheidungsgrundlage!$E$14=\"x\",Urmatrix!Q82,)","v":0},{"$f":"IF(Entscheidungsgrundlage!$E$14=\"x\",Urmatrix!R82,)","v":0},{"$f":"IF(Entscheidungsgrundlage!$E$14=\"x\",Urmatrix!S82,)","v":0},{"$f":"IF(Entscheidungsgrundlage!$E$14=\"x\",Urmatrix!T82,)","v":0},{"$f":"IF(Entscheidungsgrundlage!$E$14=\"x\",Urmatrix!U82,)","v":0},{"$f":"IF(Entscheidungsgrundlage!$E$14=\"x\",Urmatrix!V82,)","v":0},{"$f":"IF(Entscheidungsgrundlage!$E$14=\"x\",Urmatrix!W82,)","v":0},{"$f":"IF(Entscheidungsgrundlage!$E$14=\"x\",Urmatrix!X82,)","v":0},{"$f":"IF(Entscheidungsgrundlage!$E$14=\"x\",Urmatrix!Y82,)","v":0},{"$f":"IF(Entscheidungsgrundlage!$E$14=\"x\",Urmatrix!Z82,)","v":0},{"$f":"IF(Entscheidungsgrundlage!$E$14=\"x\",Urmatrix!AA82,)","v":0},{"$f":"IF(Entscheidungsgrundlage!$E$14=\"x\",Urmatrix!AB82,)","v":0},{"$f":"IF(Entscheidungsgrundlage!$E$14=\"x\",Urmatrix!AC82,)","v":0},{"$f":"IF(Entscheidungsgrundlage!$E$14=\"x\",Urmatrix!AD82,)","v":0},{"$f":"IF(Entscheidungsgrundlage!$E$14=\"x\",Urmatrix!AE82,)","v":0},{"$f":"IF(Entscheidungsgrundlage!$E$14=\"x\",Urmatrix!AF82,)","v":0},{"$f":"IF(Entscheidungsgrundlage!$E$14=\"x\",Urmatrix!AG82,)","v":0},{"$f":"IF(Entscheidungsgrundlage!$E$14=\"x\",Urmatrix!AH82,)","v":0},{"$f":"IF(Entscheidungsgrundlage!$E$14=\"x\",Urmatrix!AI82,)","v":0},{"$f":"IF(Entscheidungsgrundlage!$E$14=\"x\",Urmatrix!AJ82,)","v":0},{"$f":"IF(Entscheidungsgrundlage!$E$14=\"x\",Urmatrix!AK82,)","v":0},{"$f":"IF(Entscheidungsgrundlage!$E$14=\"x\",Urmatrix!AL82,)","v":0},{"$f":"IF(Entscheidungsgrundlage!$E$14=\"x\",Urmatrix!AM82,)","v":0},{"$f":"IF(Entscheidungsgrundlage!$E$14=\"x\",Urmatrix!AN82,)","v":0},{"$f":"IF(Entscheidungsgrundlage!$E$14=\"x\",Urmatrix!AO82,)","v":0},{"$f":"IF(Entscheidungsgrundlage!$E$14=\"x\",Urmatrix!AP82,)","v":0},{"$f":"IF(Entscheidungsgrundlage!$E$14=\"x\",Urmatrix!AQ82,)","v":0},{"$f":"IF(Entscheidungsgrundlage!$E$14=\"x\",Urmatrix!AR82,)","v":0},{"$f":"IF(Entscheidungsgrundlage!$E$14=\"x\",Urmatrix!AS82,)","v":0},{"$f":"IF(Entscheidungsgrundlage!$E$14=\"x\",Urmatrix!AT82,)","v":0},{"$f":"IF(Entscheidungsgrundlage!$E$14=\"x\",Urmatrix!AU82,)","v":0},{"$f":"IF(Entscheidungsgrundlage!$E$14=\"x\",Urmatrix!AV82,)","v":0},{"$f":"IF(Entscheidungsgrundlage!$E$14=\"x\",Urmatrix!AW82,)","v":0},{"$f":"IF(Entscheidungsgrundlage!$E$14=\"x\",Urmatrix!AX82,)","v":0},{"$f":"IF(Entscheidungsgrundlage!$E$14=\"x\",Urmatrix!AY82,)","v":0},{"$f":"IF(Entscheidungsgrundlage!$E$14=\"x\",Urmatrix!AZ82,)","v":0},{"$f":"IF(Entscheidungsgrundlage!$E$14=\"x\",Urmatrix!BA82,)","v":0},{"$f":"IF(Entscheidungsgrundlage!$E$14=\"x\",Urmatrix!BB82,)","v":0},{"$f":"IF(Entscheidungsgrundlage!$E$14=\"x\",Urmatrix!BC82,)","v":0},{"$f":"IF(Entscheidungsgrundlage!$E$14=\"x\",Urmatrix!BD82,)","v":0},{"$f":"IF(Entscheidungsgrundlage!$E$14=\"x\",Urmatrix!BE82,)","v":0},{"$f":"IF(Entscheidungsgrundlage!$E$14=\"x\",Urmatrix!BF82,)","v":0},{"$f":"IF(Entscheidungsgrundlage!$E$14=\"x\",Urmatrix!BG82,)","v":0}]
[null,null,null,null,null,null,"Vorserie",null,{"$f":"IF(Entscheidungsgrundlage!$Q$14=\"x\",Urmatrix!I83,)","v":0},{"$f":"IF(Entscheidungsgrundlage!$Q$14=\"x\",Urmatrix!J83,)","v":0},{"$f":"IF(Entscheidungsgrundlage!$Q$14=\"x\",Urmatrix!K83,)","v":0},{"$f":"IF(Entscheidungsgrundlage!$Q$14=\"x\",Urmatrix!L83,)","v":0},{"$f":"IF(Entscheidungsgrundlage!$Q$14=\"x\",Urmatrix!M83,)","v":0},{"$f":"IF(Entscheidungsgrundlage!$Q$14=\"x\",Urmatrix!N83,)","v":0},{"$f":"IF(Entscheidungsgrundlage!$Q$14=\"x\",Urmatrix!O83,)","v":0},{"$f":"IF(Entscheidungsgrundlage!$Q$14=\"x\",Urmatrix!P83,)","v":0},{"$f":"IF(Entscheidungsgrundlage!$Q$14=\"x\",Urmatrix!Q83,)","v":0},{"$f":"IF(Entscheidungsgrundlage!$Q$14=\"x\",Urmatrix!R83,)","v":0},{"$f":"IF(Entscheidungsgrundlage!$Q$14=\"x\",Urmatrix!S83,)","v":0},{"$f":"IF(Entscheidungsgrundlage!$Q$14=\"x\",Urmatrix!T83,)","v":0},{"$f":"IF(Entscheidungsgrundlage!$Q$14=\"x\",Urmatrix!U83,)","v":0},{"$f":"IF(Entscheidungsgrundlage!$Q$14=\"x\",Urmatrix!V83,)","v":0},{"$f":"IF(Entscheidungsgrundlage!$Q$14=\"x\",Urmatrix!W83,)","v":0},{"$f":"IF(Entscheidungsgrundlage!$Q$14=\"x\",Urmatrix!X83,)","v":0},{"$f":"IF(Entscheidungsgrundlage!$Q$14=\"x\",Urmatrix!Y83,)","v":0},{"$f":"IF(Entscheidungsgrundlage!$Q$14=\"x\",Urmatrix!Z83,)","v":0},{"$f":"IF(Entscheidungsgrundlage!$Q$14=\"x\",Urmatrix!AA83,)","v":0},{"$f":"IF(Entscheidungsgrundlage!$Q$14=\"x\",Urmatrix!AB83,)","v":0},{"$f":"IF(Entscheidungsgrundlage!$Q$14=\"x\",Urmatrix!AC83,)","v":0},{"$f":"IF(Entscheidungsgrundlage!$Q$14=\"x\",Urmatrix!AD83,)","v":0},{"$f":"IF(Entscheidungsgrundlage!$Q$14=\"x\",Urmatrix!AE83,)","v":0},{"$f":"IF(Entscheidungsgrundlage!$Q$14=\"x\",Urmatrix!AF83,)","v":0},{"$f":"IF(Entscheidungsgrundlage!$Q$14=\"x\",Urmatrix!AG83,)","v":0},{"$f":"IF(Entscheidungsgrundlage!$Q$14=\"x\",Urmatrix!AH83,)","v":0},{"$f":"IF(Entscheidungsgrundlage!$Q$14=\"x\",Urmatrix!AI83,)","v":0},{"$f":"IF(Entscheidungsgrundlage!$Q$14=\"x\",Urmatrix!AJ83,)","v":0},{"$f":"IF(Entscheidungsgrundlage!$Q$14=\"x\",Urmatrix!AK83,)","v":0},{"$f":"IF(Entscheidungsgrundlage!$Q$14=\"x\",Urmatrix!AL83,)","v":0},{"$f":"IF(Entscheidungsgrundlage!$Q$14=\"x\",Urmatrix!AM83,)","v":0},{"$f":"IF(Entscheidungsgrundlage!$Q$14=\"x\",Urmatrix!AN83,)","v":0},{"$f":"IF(Entscheidungsgrundlage!$Q$14=\"x\",Urmatrix!AO83,)","v":0},{"$f":"IF(Entscheidungsgrundlage!$Q$14=\"x\",Urmatrix!AP83,)","v":0},{"$f":"IF(Entscheidungsgrundlage!$Q$14=\"x\",Urmatrix!AQ83,)","v":0},{"$f":"IF(Entscheidungsgrundlage!$Q$14=\"x\",Urmatrix!AR83,)","v":0},{"$f":"IF(Entscheidungsgrundlage!$Q$14=\"x\",Urmatrix!AS83,)","v":0},{"$f":"IF(Entscheidungsgrundlage!$Q$14=\"x\",Urmatrix!AT83,)","v":0},{"$f":"IF(Entscheidungsgrundlage!$Q$14=\"x\",Urmatrix!AU83,)","v":0},{"$f":"IF(Entscheidungsgrundlage!$Q$14=\"x\",Urmatrix!AV83,)","v":0},{"$f":"IF(Entscheidungsgrundlage!$Q$14=\"x\",Urmatrix!AW83,)","v":0},{"$f":"IF(Entscheidungsgrundlage!$Q$14=\"x\",Urmatrix!AX83,)","v":0},{"$f":"IF(Entscheidungsgrundlage!$Q$14=\"x\",Urmatrix!AY83,)","v":0},{"$f":"IF(Entscheidungsgrundlage!$Q$14=\"x\",Urmatrix!AZ83,)","v":0},{"$f":"IF(Entscheidungsgrundlage!$Q$14=\"x\",Urmatrix!BA83,)","v":0},{"$f":"IF(Entscheidungsgrundlage!$Q$14=\"x\",Urmatrix!BB83,)","v":0},{"$f":"IF(Entscheidungsgrundlage!$Q$14=\"x\",Urmatrix!BC83,)","v":0},{"$f":"IF(Entscheidungsgrundlage!$Q$14=\"x\",Urmatrix!BD83,)","v":0},{"$f":"IF(Entscheidungsgrundlage!$Q$14=\"x\",Urmatrix!BE83,)","v":0},{"$f":"IF(Entscheidungsgrundlage!$Q$14=\"x\",Urmatrix!BF83,)","v":0},{"$f":"IF(Entscheidungsgrundlage!$Q$14=\"x\",Urmatrix!BG83,)","v":0}]
[null,null,null,null,null,null,"0-Serie",null,{"$f":"IF(Entscheidungsgrundlage!$AC$14=\"x\",Urmatrix!I84,)","v":0},{"$f":"IF(Entscheidungsgrundlage!$AC$14=\"x\",Urmatrix!J84,)","v":0},{"$f":"IF(Entscheidungsgrundlage!$AC$14=\"x\",Urmatrix!K84,)","v":0},{"$f":"IF(Entscheidungsgrundlage!$AC$14=\"x\",Urmatrix!L84,)","v":0},{"$f":"IF(Entscheidungsgrundlage!$AC$14=\"x\",Urmatrix!M84,)","v":0},{"$f":"IF(Entscheidungsgrundlage!$AC$14=\"x\",Urmatrix!N84,)","v":0},{"$f":"IF(Entscheidungsgrundlage!$AC$14=\"x\",Urmatrix!O84,)","v":0},{"$f":"IF(Entscheidungsgrundlage!$AC$14=\"x\",Urmatrix!P84,)","v":0},{"$f":"IF(Entscheidungsgrundlage!$AC$14=\"x\",Urmatrix!Q84,)","v":0},{"$f":"IF(Entscheidungsgrundlage!$AC$14=\"x\",Urmatrix!R84,)","v":0},{"$f":"IF(Entscheidungsgrundlage!$AC$14=\"x\",Urmatrix!S84,)","v":0},{"$f":"IF(Entscheidungsgrundlage!$AC$14=\"x\",Urmatrix!T84,)","v":0},{"$f":"IF(Entscheidungsgrundlage!$AC$14=\"x\",Urmatrix!U84,)","v":0},{"$f":"IF(Entscheidungsgrundlage!$AC$14=\"x\",Urmatrix!V84,)","v":0},{"$f":"IF(Entscheidungsgrundlage!$AC$14=\"x\",Urmatrix!W84,)","v":0},{"$f":"IF(Entscheidungsgrundlage!$AC$14=\"x\",Urmatrix!X84,)","v":0},{"$f":"IF(Entscheidungsgrundlage!$AC$14=\"x\",Urmatrix!Y84,)","v":0},{"$f":"IF(Entscheidungsgrundlage!$AC$14=\"x\",Urmatrix!Z84,)","v":0},{"$f":"IF(Entscheidungsgrundlage!$AC$14=\"x\",Urmatrix!AA84,)","v":0},{"$f":"IF(Entscheidungsgrundlage!$AC$14=\"x\",Urmatrix!AB84,)","v":0},{"$f":"IF(Entscheidungsgrundlage!$AC$14=\"x\",Urmatrix!AC84,)","v":0},{"$f":"IF(Entscheidungsgrundlage!$AC$14=\"x\",Urmatrix!AD84,)","v":0},{"$f":"IF(Entscheidungsgrundlage!$AC$14=\"x\",Urmatrix!AE84,)","v":0},{"$f":"IF(Entscheidungsgrundlage!$AC$14=\"x\",Urmatrix!AF84,)","v":0},{"$f":"IF(Entscheidungsgrundlage!$AC$14=\"x\",Urmatrix!AG84,)","v":0},{"$f":"IF(Entscheidungsgrundlage!$AC$14=\"x\",Urmatrix!AH84,)","v":0},{"$f":"IF(Entscheidungsgrundlage!$AC$14=\"x\",Urmatrix!AI84,)","v":0},{"$f":"IF(Entscheidungsgrundlage!$AC$14=\"x\",Urmatrix!AJ84,)","v":0},{"$f":"IF(Entscheidungsgrundlage!$AC$14=\"x\",Urmatrix!AK84,)","v":0},{"$f":"IF(Entscheidungsgrundlage!$AC$14=\"x\",Urmatrix!AL84,)","v":0},{"$f":"IF(Entscheidungsgrundlage!$AC$14=\"x\",Urmatrix!AM84,)","v":0},{"$f":"IF(Entscheidungsgrundlage!$AC$14=\"x\",Urmatrix!AN84,)","v":0},{"$f":"IF(Entscheidungsgrundlage!$AC$14=\"x\",Urmatrix!AO84,)","v":0},{"$f":"IF(Entscheidungsgrundlage!$AC$14=\"x\",Urmatrix!AP84,)","v":0},{"$f":"IF(Entscheidungsgrundlage!$AC$14=\"x\",Urmatrix!AQ84,)","v":0},{"$f":"IF(Entscheidungsgrundlage!$AC$14=\"x\",Urmatrix!AR84,)","v":0},{"$f":"IF(Entscheidungsgrundlage!$AC$14=\"x\",Urmatrix!AS84,)","v":0},{"$f":"IF(Entscheidungsgrundlage!$AC$14=\"x\",Urmatrix!AT84,)","v":0},{"$f":"IF(Entscheidungsgrundlage!$AC$14=\"x\",Urmatrix!AU84,)","v":0},{"$f":"IF(Entscheidungsgrundlage!$AC$14=\"x\",Urmatrix!AV84,)","v":0},{"$f":"IF(Entscheidungsgrundlage!$AC$14=\"x\",Urmatrix!AW84,)","v":0},{"$f":"IF(Entscheidungsgrundlage!$AC$14=\"x\",Urmatrix!AX84,)","v":0},{"$f":"IF(Entscheidungsgrundlage!$AC$14=\"x\",Urmatrix!AY84,)","v":0},{"$f":"IF(Entscheidungsgrundlage!$AC$14=\"x\",Urmatrix!AZ84,)","v":0},{"$f":"IF(Entscheidungsgrundlage!$AC$14=\"x\",Urmatrix!BA84,)","v":0},{"$f":"IF(Entscheidungsgrundlage!$AC$14=\"x\",Urmatrix!BB84,)","v":0},{"$f":"IF(Entscheidungsgrundlage!$AC$14=\"x\",Urmatrix!BC84,)","v":0},{"$f":"IF(Entscheidungsgrundlage!$AC$14=\"x\",Urmatrix!BD84,)","v":0},{"$f":"IF(Entscheidungsgrundlage!$AC$14=\"x\",Urmatrix!BE84,)","v":0},{"$f":"IF(Entscheidungsgrundlage!$AC$14=\"x\",Urmatrix!BF84,)","v":0},{"$f":"IF(Entscheidungsgrundlage!$AC$14=\"x\",Urmatrix!BG84,)","v":0}]
[null,null,null,null,null,null,"Hochlauf",null,{"$f":"IF(Entscheidungsgrundlage!$AO$14=\"x\",Urmatrix!I85,)","v":0},{"$f":"IF(Entscheidungsgrundlage!$AO$14=\"x\",Urmatrix!J85,)","v":0},{"$f":"IF(Entscheidungsgrundlage!$AO$14=\"x\",Urmatrix!K85,)","v":0},{"$f":"IF(Entscheidungsgrundlage!$AO$14=\"x\",Urmatrix!L85,)","v":0},{"$f":"IF(Entscheidungsgrundlage!$AO$14=\"x\",Urmatrix!M85,)","v":0},{"$f":"IF(Entscheidungsgrundlage!$AO$14=\"x\",Urmatrix!N85,)","v":0},{"$f":"IF(Entscheidungsgrundlage!$AO$14=\"x\",Urmatrix!O85,)","v":0},{"$f":"IF(Entscheidungsgrundlage!$AO$14=\"x\",Urmatrix!P85,)","v":0},{"$f":"IF(Entscheidungsgrundlage!$AO$14=\"x\",Urmatrix!Q85,)","v":0},{"$f":"IF(Entscheidungsgrundlage!$AO$14=\"x\",Urmatrix!R85,)","v":0},{"$f":"IF(Entscheidungsgrundlage!$AO$14=\"x\",Urmatrix!S85,)","v":0},{"$f":"IF(Entscheidungsgrundlage!$AO$14=\"x\",Urmatrix!T85,)","v":0},{"$f":"IF(Entscheidungsgrundlage!$AO$14=\"x\",Urmatrix!U85,)","v":0},{"$f":"IF(Entscheidungsgrundlage!$AO$14=\"x\",Urmatrix!V85,)","v":0},{"$f":"IF(Entscheidungsgrundlage!$AO$14=\"x\",Urmatrix!W85,)","v":0},{"$f":"IF(Entscheidungsgrundlage!$AO$14=\"x\",Urmatrix!X85,)","v":0},{"$f":"IF(Entscheidungsgrundlage!$AO$14=\"x\",Urmatrix!Y85,)","v":0},{"$f":"IF(Entscheidungsgrundlage!$AO$14=\"x\",Urmatrix!Z85,)","v":0},{"$f":"IF(Entscheidungsgrundlage!$AO$14=\"x\",Urmatrix!AA85,)","v":0},{"$f":"IF(Entscheidungsgrundlage!$AO$14=\"x\",Urmatrix!AB85,)","v":0},{"$f":"IF(Entscheidungsgrundlage!$AO$14=\"x\",Urmatrix!AC85,)","v":0},{"$f":"IF(Entscheidungsgrundlage!$AO$14=\"x\",Urmatrix!AD85,)","v":0},{"$f":"IF(Entscheidungsgrundlage!$AO$14=\"x\",Urmatrix!AE85,)","v":0},{"$f":"IF(Entscheidungsgrundlage!$AO$14=\"x\",Urmatrix!AF85,)","v":0},{"$f":"IF(Entscheidungsgrundlage!$AO$14=\"x\",Urmatrix!AG85,)","v":0},{"$f":"IF(Entscheidungsgrundlage!$AO$14=\"x\",Urmatrix!AH85,)","v":0},{"$f":"IF(Entscheidungsgrundlage!$AO$14=\"x\",Urmatrix!AI85,)","v":0},{"$f":"IF(Entscheidungsgrundlage!$AO$14=\"x\",Urmatrix!AJ85,)","v":0},{"$f":"IF(Entscheidungsgrundlage!$AO$14=\"x\",Urmatrix!AK85,)","v":0},{"$f":"IF(Entscheidungsgrundlage!$AO$14=\"x\",Urmatrix!AL85,)","v":0},{"$f":"IF(Entscheidungsgrundlage!$AO$14=\"x\",Urmatrix!AM85,)","v":0},{"$f":"IF(Entscheidungsgrundlage!$AO$14=\"x\",Urmatrix!AN85,)","v":0},{"$f":"IF(Entscheidungsgrundlage!$AO$14=\"x\",Urmatrix!AO85,)","v":0},{"$f":"IF(Entscheidungsgrundlage!$AO$14=\"x\",Urmatrix!AP85,)","v":0},{"$f":"IF(Entscheidungsgrundlage!$AO$14=\"x\",Urmatrix!AQ85,)","v":0},{"$f":"IF(Entscheidungsgrundlage!$AO$14=\"x\",Urmatrix!AR85,)","v":0},{"$f":"IF(Entscheidungsgrundlage!$AO$14=\"x\",Urmatrix!AS85,)","v":0},{"$f":"IF(Entscheidungsgrundlage!$AO$14=\"x\",Urmatrix!AT85,)","v":0},{"$f":"IF(Entscheidungsgrundlage!$AO$14=\"x\",Urmatrix!AU85,)","v":0},{"$f":"IF(Entscheidungsgrundlage!$AO$14=\"x\",Urmatrix!AV85,)","v":0},{"$f":"IF(Entscheidungsgrundlage!$AO$14=\"x\",Urmatrix!AW85,)","v":0},{"$f":"IF(Entscheidungsgrundlage!$AO$14=\"x\",Urmatrix!AX85,)","v":0},{"$f":"IF(Entscheidungsgrundlage!$AO$14=\"x\",Urmatrix!AY85,)","v":0},{"$f":"IF(Entscheidungsgrundlage!$AO$14=\"x\",Urmatrix!AZ85,)","v":0},{"$f":"IF(Entscheidungsgrundlage!$AO$14=\"x\",Urmatrix!BA85,)","v":0},{"$f":"IF(Entscheidungsgrundlage!$AO$14=\"x\",Urmatrix!BB85,)","v":0},{"$f":"IF(Entscheidungsgrundlage!$AO$14=\"x\",Urmatrix!BC85,)","v":0},{"$f":"IF(Entscheidungsgrundlage!$AO$14=\"x\",Urmatrix!BD85,)","v":0},{"$f":"IF(Entscheidungsgrundlage!$AO$14=\"x\",Urmatrix!BE85,)","v":0},{"$f":"IF(Entscheidungsgrundlage!$AO$14=\"x\",Urmatrix!BF85,)","v":0},{"$f":"IF(Entscheidungsgrundlage!$AO$14=\"x\",Urmatrix!BG85,)","v":0}]
[null,null,null,null,null,null,"Serie",null,{"$f":"IF(Entscheidungsgrundlage!$BA$14=\"x\",Urmatrix!I86,)","v":0},{"$f":"IF(Entscheidungsgrundlage!$BA$14=\"x\",Urmatrix!J86,)","v":0},{"$f":"IF(Entscheidungsgrundlage!$BA$14=\"x\",Urmatrix!K86,)","v":0},{"$f":"IF(Entscheidungsgrundlage!$BA$14=\"x\",Urmatrix!L86,)","v":0},{"$f":"IF(Entscheidungsgrundlage!$BA$14=\"x\",Urmatrix!M86,)","v":0},{"$f":"IF(Entscheidungsgrundlage!$BA$14=\"x\",Urmatrix!N86,)","v":0},{"$f":"IF(Entscheidungsgrundlage!$BA$14=\"x\",Urmatrix!O86,)","v":0},{"$f":"IF(Entscheidungsgrundlage!$BA$14=\"x\",Urmatrix!P86,)","v":0},{"$f":"IF(Entscheidungsgrundlage!$BA$14=\"x\",Urmatrix!Q86,)","v":0},{"$f":"IF(Entscheidungsgrundlage!$BA$14=\"x\",Urmatrix!R86,)","v":0},{"$f":"IF(Entscheidungsgrundlage!$BA$14=\"x\",Urmatrix!S86,)","v":0},{"$f":"IF(Entscheidungsgrundlage!$BA$14=\"x\",Urmatrix!T86,)","v":0},{"$f":"IF(Entscheidungsgrundlage!$BA$14=\"x\",Urmatrix!U86,)","v":0},{"$f":"IF(Entscheidungsgrundlage!$BA$14=\"x\",Urmatrix!V86,)","v":0},{"$f":"IF(Entscheidungsgrundlage!$BA$14=\"x\",Urmatrix!W86,)","v":0},{"$f":"IF(Entscheidungsgrundlage!$BA$14=\"x\",Urmatrix!X86,)","v":0},{"$f":"IF(Entscheidungsgrundlage!$BA$14=\"x\",Urmatrix!Y86,)","v":0},{"$f":"IF(Entscheidungsgrundlage!$BA$14=\"x\",Urmatrix!Z86,)","v":0},{"$f":"IF(Entscheidungsgrundlage!$BA$14=\"x\",Urmatrix!AA86,)","v":0},{"$f":"IF(Entscheidungsgrundlage!$BA$14=\"x\",Urmatrix!AB86,)","v":0},{"$f":"IF(Entscheidungsgrundlage!$BA$14=\"x\",Urmatrix!AC86,)","v":0},{"$f":"IF(Entscheidungsgrundlage!$BA$14=\"x\",Urmatrix!AD86,)","v":0},{"$f":"IF(Entscheidungsgrundlage!$BA$14=\"x\",Urmatrix!AE86,)","v":0},{"$f":"IF(Entscheidungsgrundlage!$BA$14=\"x\",Urmatrix!AF86,)","v":0},{"$f":"IF(Entscheidungsgrundlage!$BA$14=\"x\",Urmatrix!AG86,)","v":0},{"$f":"IF(Entscheidungsgrundlage!$BA$14=\"x\",Urmatrix!AH86,)","v":0},{"$f":"IF(Entscheidungsgrundlage!$BA$14=\"x\",Urmatrix!AI86,)","v":0},{"$f":"IF(Entscheidungsgrundlage!$BA$14=\"x\",Urmatrix!AJ86,)","v":0},{"$f":"IF(Entscheidungsgrundlage!$BA$14=\"x\",Urmatrix!AK86,)","v":0},{"$f":"IF(Entscheidungsgrundlage!$BA$14=\"x\",Urmatrix!AL86,)","v":0},{"$f":"IF(Entscheidungsgrundlage!$BA$14=\"x\",Urmatrix!AM86,)","v":0},{"$f":"IF(Entscheidungsgrundlage!$BA$14=\"x\",Urmatrix!AN86,)","v":0},{"$f":"IF(Entscheidungsgrundlage!$BA$14=\"x\",Urmatrix!AO86,)","v":0},{"$f":"IF(Entscheidungsgrundlage!$BA$14=\"x\",Urmatrix!AP86,)","v":0},{"$f":"IF(Entscheidungsgrundlage!$BA$14=\"x\",Urmatrix!AQ86,)","v":0},{"$f":"IF(Entscheidungsgrundlage!$BA$14=\"x\",Urmatrix!AR86,)","v":0},{"$f":"IF(Entscheidungsgrundlage!$BA$14=\"x\",Urmatrix!AS86,)","v":0},{"$f":"IF(Entscheidungsgrundlage!$BA$14=\"x\",Urmatrix!AT86,)","v":0},{"$f":"IF(Entscheidungsgrundlage!$BA$14=\"x\",Urmatrix!AU86,)","v":0},{"$f":"IF(Entscheidungsgrundlage!$BA$14=\"x\",Urmatrix!AV86,)","v":0},{"$f":"IF(Entscheidungsgrundlage!$BA$14=\"x\",Urmatrix!AW86,)","v":0},{"$f":"IF(Entscheidungsgrundlage!$BA$14=\"x\",Urmatrix!AX86,)","v":0},{"$f":"IF(Entscheidungsgrundlage!$BA$14=\"x\",Urmatrix!AY86,)","v":0},{"$f":"IF(Entscheidungsgrundlage!$BA$14=\"x\",Urmatrix!AZ86,)","v":0},{"$f":"IF(Entscheidungsgrundlage!$BA$14=\"x\",Urmatrix!BA86,)","v":0},{"$f":"IF(Entscheidungsgrundlage!$BA$14=\"x\",Urmatrix!BB86,)","v":0},{"$f":"IF(Entscheidungsgrundlage!$BA$14=\"x\",Urmatrix!BC86,)","v":0},{"$f":"IF(Entscheidungsgrundlage!$BA$14=\"x\",Urmatrix!BD86,)","v":0},{"$f":"IF(Entscheidungsgrundlage!$BA$14=\"x\",Urmatrix!BE86,)","v":0},{"$f":"IF(Entscheidungsgrundlage!$BA$14=\"x\",Urmatrix!BF86,)","v":0},{"$f":"IF(Entscheidungsgrundlage!$BA$14=\"x\",Urmatrix!BG86,)","v":0}]
[null,null,null,null,null,"Häufigkeit von Anläufen","mehrmals im Monat",null,{"$f":"IF(Entscheidungsgrundlage!$E$16=\"x\",Urmatrix!I87,)","v":0},{"$f":"IF(Entscheidungsgrundlage!$E$16=\"x\",Urmatrix!J87,)","v":0},{"$f":"IF(Entscheidungsgrundlage!$E$16=\"x\",Urmatrix!K87,)","v":0},{"$f":"IF(Entscheidungsgrundlage!$E$16=\"x\",Urmatrix!L87,)","v":0},{"$f":"IF(Entscheidungsgrundlage!$E$16=\"x\",Urmatrix!M87,)","v":0},{"$f":"IF(Entscheidungsgrundlage!$E$16=\"x\",Urmatrix!N87,)","v":0},{"$f":"IF(Entscheidungsgrundlage!$E$16=\"x\",Urmatrix!O87,)","v":0},{"$f":"IF(Entscheidungsgrundlage!$E$16=\"x\",Urmatrix!P87,)","v":0},{"$f":"IF(Entscheidungsgrundlage!$E$16=\"x\",Urmatrix!Q87,)","v":0},{"$f":"IF(Entscheidungsgrundlage!$E$16=\"x\",Urmatrix!R87,)","v":0},{"$f":"IF(Entscheidungsgrundlage!$E$16=\"x\",Urmatrix!S87,)","v":0},{"$f":"IF(Entscheidungsgrundlage!$E$16=\"x\",Urmatrix!T87,)","v":0},{"$f":"IF(Entscheidungsgrundlage!$E$16=\"x\",Urmatrix!U87,)","v":0},{"$f":"IF(Entscheidungsgrundlage!$E$16=\"x\",Urmatrix!V87,)","v":0},{"$f":"IF(Entscheidungsgrundlage!$E$16=\"x\",Urmatrix!W87,)","v":0},{"$f":"IF(Entscheidungsgrundlage!$E$16=\"x\",Urmatrix!X87,)","v":0},{"$f":"IF(Entscheidungsgrundlage!$E$16=\"x\",Urmatrix!Y87,)","v":0},{"$f":"IF(Entscheidungsgrundlage!$E$16=\"x\",Urmatrix!Z87,)","v":0},{"$f":"IF(Entscheidungsgrundlage!$E$16=\"x\",Urmatrix!AA87,)","v":0},{"$f":"IF(Entscheidungsgrundlage!$E$16=\"x\",Urmatrix!AB87,)","v":0},{"$f":"IF(Entscheidungsgrundlage!$E$16=\"x\",Urmatrix!AC87,)","v":0},{"$f":"IF(Entscheidungsgrundlage!$E$16=\"x\",Urmatrix!AD87,)","v":0},{"$f":"IF(Entscheidungsgrundlage!$E$16=\"x\",Urmatrix!AE87,)","v":0},{"$f":"IF(Entscheidungsgrundlage!$E$16=\"x\",Urmatrix!AF87,)","v":0},{"$f":"IF(Entscheidungsgrundlage!$E$16=\"x\",Urmatrix!AG87,)","v":0},{"$f":"IF(Entscheidungsgrundlage!$E$16=\"x\",Urmatrix!AH87,)","v":0},{"$f":"IF(Entscheidungsgrundlage!$E$16=\"x\",Urmatrix!AI87,)","v":0},{"$f":"IF(Entscheidungsgrundlage!$E$16=\"x\",Urmatrix!AJ87,)","v":0},{"$f":"IF(Entscheidungsgrundlage!$E$16=\"x\",Urmatrix!AK87,)","v":0},{"$f":"IF(Entscheidungsgrundlage!$E$16=\"x\",Urmatrix!AL87,)","v":0},{"$f":"IF(Entscheidungsgrundlage!$E$16=\"x\",Urmatrix!AM87,)","v":0},{"$f":"IF(Entscheidungsgrundlage!$E$16=\"x\",Urmatrix!AN87,)","v":0},{"$f":"IF(Entscheidungsgrundlage!$E$16=\"x\",Urmatrix!AO87,)","v":0},{"$f":"IF(Entscheidungsgrundlage!$E$16=\"x\",Urmatrix!AP87,)","v":0},{"$f":"IF(Entscheidungsgrundlage!$E$16=\"x\",Urmatrix!AQ87,)","v":0},{"$f":"IF(Entscheidungsgrundlage!$E$16=\"x\",Urmatrix!AR87,)","v":0},{"$f":"IF(Entscheidungsgrundlage!$E$16=\"x\",Urmatrix!AS87,)","v":0},{"$f":"IF(Entscheidungsgrundlage!$E$16=\"x\",Urmatrix!AT87,)","v":0},{"$f":"IF(Entscheidungsgrundlage!$E$16=\"x\",Urmatrix!AU87,)","v":0},{"$f":"IF(Entscheidungsgrundlage!$E$16=\"x\",Urmatrix!AV87,)","v":0},{"$f":"IF(Entscheidungsgrundlage!$E$16=\"x\",Urmatrix!AW87,)","v":0},{"$f":"IF(Entscheidungsgrundlage!$E$16=\"x\",Urmatrix!AX87,)","v":0},{"$f":"IF(Entscheidungsgrundlage!$E$16=\"x\",Urmatrix!AY87,)","v":0},{"$f":"IF(Entscheidungsgrundlage!$E$16=\"x\",Urmatrix!AZ87,)","v":0},{"$f":"IF(Entscheidungsgrundlage!$E$16=\"x\",Urmatrix!BA87,)","v":0},{"$f":"IF(Entscheidungsgrundlage!$E$16=\"x\",Urmatrix!BB87,)","v":0},{"$f":"IF(Entscheidungsgrundlage!$E$16=\"x\",Urmatrix!BC87,)","v":0},{"$f":"IF(Entscheidungsgrundlage!$E$16=\"x\",Urmatrix!BD87,)","v":0},{"$f":"IF(Entscheidungsgrundlage!$E$16=\"x\",Urmatrix!BE87,)","v":0},{"$f":"IF(Entscheidungsgrundlage!$E$16=\"x\",Urmatrix!BF87,)","v":0},{"$f":"IF(Entscheidungsgrundlage!$E$16=\"x\",Urmatrix!BG87,)","v":0}]
[null,null,null,null,null,null,"mehrmals im Jahr",null,{"$f":"IF(Entscheidungsgrundlage!$Y$16=\"x\",Urmatrix!I88,)","v":0},{"$f":"IF(Entscheidungsgrundlage!$Y$16=\"x\",Urmatrix!J88,)","v":0},{"$f":"IF(Entscheidungsgrundlage!$Y$16=\"x\",Urmatrix!K88,)","v":0},{"$f":"IF(Entscheidungsgrundlage!$Y$16=\"x\",Urmatrix!L88,)","v":0},{"$f":"IF(Entscheidungsgrundlage!$Y$16=\"x\",Urmatrix!M88,)","v":0},{"$f":"IF(Entscheidungsgrundlage!$Y$16=\"x\",Urmatrix!N88,)","v":0},{"$f":"IF(Entscheidungsgrundlage!$Y$16=\"x\",Urmatrix!O88,)","v":0},{"$f":"IF(Entscheidungsgrundlage!$Y$16=\"x\",Urmatrix!P88,)","v":0},{"$f":"IF(Entscheidungsgrundlage!$Y$16=\"x\",Urmatrix!Q88,)","v":0},{"$f":"IF(Entscheidungsgrundlage!$Y$16=\"x\",Urmatrix!R88,)","v":0},{"$f":"IF(Entscheidungsgrundlage!$Y$16=\"x\",Urmatrix!S88,)","v":0},{"$f":"IF(Entscheidungsgrundlage!$Y$16=\"x\",Urmatrix!T88,)","v":0},{"$f":"IF(Entscheidungsgrundlage!$Y$16=\"x\",Urmatrix!U88,)","v":0},{"$f":"IF(Entscheidungsgrundlage!$Y$16=\"x\",Urmatrix!V88,)","v":0},{"$f":"IF(Entscheidungsgrundlage!$Y$16=\"x\",Urmatrix!W88,)","v":0},{"$f":"IF(Entscheidungsgrundlage!$Y$16=\"x\",Urmatrix!X88,)","v":0},{"$f":"IF(Entscheidungsgrundlage!$Y$16=\"x\",Urmatrix!Y88,)","v":0},{"$f":"IF(Entscheidungsgrundlage!$Y$16=\"x\",Urmatrix!Z88,)","v":0},{"$f":"IF(Entscheidungsgrundlage!$Y$16=\"x\",Urmatrix!AA88,)","v":0},{"$f":"IF(Entscheidungsgrundlage!$Y$16=\"x\",Urmatrix!AB88,)","v":0},{"$f":"IF(Entscheidungsgrundlage!$Y$16=\"x\",Urmatrix!AC88,)","v":0},{"$f":"IF(Entscheidungsgrundlage!$Y$16=\"x\",Urmatrix!AD88,)","v":0},{"$f":"IF(Entscheidungsgrundlage!$Y$16=\"x\",Urmatrix!AE88,)","v":0},{"$f":"IF(Entscheidungsgrundlage!$Y$16=\"x\",Urmatrix!AF88,)","v":0},{"$f":"IF(Entscheidungsgrundlage!$Y$16=\"x\",Urmatrix!AG88,)","v":0},{"$f":"IF(Entscheidungsgrundlage!$Y$16=\"x\",Urmatrix!AH88,)","v":0},{"$f":"IF(Entscheidungsgrundlage!$Y$16=\"x\",Urmatrix!AI88,)","v":0},{"$f":"IF(Entscheidungsgrundlage!$Y$16=\"x\",Urmatrix!AJ88,)","v":0},{"$f":"IF(Entscheidungsgrundlage!$Y$16=\"x\",Urmatrix!AK88,)","v":0},{"$f":"IF(Entscheidungsgrundlage!$Y$16=\"x\",Urmatrix!AL88,)","v":0},{"$f":"IF(Entscheidungsgrundlage!$Y$16=\"x\",Urmatrix!AM88,)","v":0},{"$f":"IF(Entscheidungsgrundlage!$Y$16=\"x\",Urmatrix!AN88,)","v":0},{"$f":"IF(Entscheidungsgrundlage!$Y$16=\"x\",Urmatrix!AO88,)","v":0},{"$f":"IF(Entscheidungsgrundlage!$Y$16=\"x\",Urmatrix!AP88,)","v":0},{"$f":"IF(Entscheidungsgrundlage!$Y$16=\"x\",Urmatrix!AQ88,)","v":0},{"$f":"IF(Entscheidungsgrundlage!$Y$16=\"x\",Urmatrix!AR88,)","v":0},{"$f":"IF(Entscheidungsgrundlage!$Y$16=\"x\",Urmatrix!AS88,)","v":0},{"$f":"IF(Entscheidungsgrundlage!$Y$16=\"x\",Urmatrix!AT88,)","v":0},{"$f":"IF(Entscheidungsgrundlage!$Y$16=\"x\",Urmatrix!AU88,)","v":0},{"$f":"IF(Entscheidungsgrundlage!$Y$16=\"x\",Urmatrix!AV88,)","v":0},{"$f":"IF(Entscheidungsgrundlage!$Y$16=\"x\",Urmatrix!AW88,)","v":0},{"$f":"IF(Entscheidungsgrundlage!$Y$16=\"x\",Urmatrix!AX88,)","v":0},{"$f":"IF(Entscheidungsgrundlage!$Y$16=\"x\",Urmatrix!AY88,)","v":0},{"$f":"IF(Entscheidungsgrundlage!$Y$16=\"x\",Urmatrix!AZ88,)","v":0},{"$f":"IF(Entscheidungsgrundlage!$Y$16=\"x\",Urmatrix!BA88,)","v":0},{"$f":"IF(Entscheidungsgrundlage!$Y$16=\"x\",Urmatrix!BB88,)","v":0},{"$f":"IF(Entscheidungsgrundlage!$Y$16=\"x\",Urmatrix!BC88,)","v":0},{"$f":"IF(Entscheidungsgrundlage!$Y$16=\"x\",Urmatrix!BD88,)","v":0},{"$f":"IF(Entscheidungsgrundlage!$Y$16=\"x\",Urmatrix!BE88,)","v":0},{"$f":"IF(Entscheidungsgrundlage!$Y$16=\"x\",Urmatrix!BF88,)","v":0},{"$f":"IF(Entscheidungsgrundlage!$Y$16=\"x\",Urmatrix!BG88,)","v":0}]
[null,null,null,null,null,null,"selten",null,{"$f":"IF(Entscheidungsgrundlage!$AS$16=\"x\",Urmatrix!I89,)","v":0},{"$f":"IF(Entscheidungsgrundlage!$AS$16=\"x\",Urmatrix!J89,)","v":0},{"$f":"IF(Entscheidungsgrundlage!$AS$16=\"x\",Urmatrix!K89,)","v":0},{"$f":"IF(Entscheidungsgrundlage!$AS$16=\"x\",Urmatrix!L89,)","v":0},{"$f":"IF(Entscheidungsgrundlage!$AS$16=\"x\",Urmatrix!M89,)","v":0},{"$f":"IF(Entscheidungsgrundlage!$AS$16=\"x\",Urmatrix!N89,)","v":0},{"$f":"IF(Entscheidungsgrundlage!$AS$16=\"x\",Urmatrix!O89,)","v":0},{"$f":"IF(Entscheidungsgrundlage!$AS$16=\"x\",Urmatrix!P89,)","v":0},{"$f":"IF(Entscheidungsgrundlage!$AS$16=\"x\",Urmatrix!Q89,)","v":0},{"$f":"IF(Entscheidungsgrundlage!$AS$16=\"x\",Urmatrix!R89,)","v":0},{"$f":"IF(Entscheidungsgrundlage!$AS$16=\"x\",Urmatrix!S89,)","v":0},{"$f":"IF(Entscheidungsgrundlage!$AS$16=\"x\",Urmatrix!T89,)","v":0},{"$f":"IF(Entscheidungsgrundlage!$AS$16=\"x\",Urmatrix!U89,)","v":0},{"$f":"IF(Entscheidungsgrundlage!$AS$16=\"x\",Urmatrix!V89,)","v":0},{"$f":"IF(Entscheidungsgrundlage!$AS$16=\"x\",Urmatrix!W89,)","v":0},{"$f":"IF(Entscheidungsgrundlage!$AS$16=\"x\",Urmatrix!X89,)","v":0},{"$f":"IF(Entscheidungsgrundlage!$AS$16=\"x\",Urmatrix!Y89,)","v":0},{"$f":"IF(Entscheidungsgrundlage!$AS$16=\"x\",Urmatrix!Z89,)","v":0},{"$f":"IF(Entscheidungsgrundlage!$AS$16=\"x\",Urmatrix!AA89,)","v":0},{"$f":"IF(Entscheidungsgrundlage!$AS$16=\"x\",Urmatrix!AB89,)","v":0},{"$f":"IF(Entscheidungsgrundlage!$AS$16=\"x\",Urmatrix!AC89,)","v":0},{"$f":"IF(Entscheidungsgrundlage!$AS$16=\"x\",Urmatrix!AD89,)","v":0},{"$f":"IF(Entscheidungsgrundlage!$AS$16=\"x\",Urmatrix!AE89,)","v":0},{"$f":"IF(Entscheidungsgrundlage!$AS$16=\"x\",Urmatrix!AF89,)","v":0},{"$f":"IF(Entscheidungsgrundlage!$AS$16=\"x\",Urmatrix!AG89,)","v":0},{"$f":"IF(Entscheidungsgrundlage!$AS$16=\"x\",Urmatrix!AH89,)","v":0},{"$f":"IF(Entscheidungsgrundlage!$AS$16=\"x\",Urmatrix!AI89,)","v":0},{"$f":"IF(Entscheidungsgrundlage!$AS$16=\"x\",Urmatrix!AJ89,)","v":0},{"$f":"IF(Entscheidungsgrundlage!$AS$16=\"x\",Urmatrix!AK89,)","v":0},{"$f":"IF(Entscheidungsgrundlage!$AS$16=\"x\",Urmatrix!AL89,)","v":0},{"$f":"IF(Entscheidungsgrundlage!$AS$16=\"x\",Urmatrix!AM89,)","v":0},{"$f":"IF(Entscheidungsgrundlage!$AS$16=\"x\",Urmatrix!AN89,)","v":0},{"$f":"IF(Entscheidungsgrundlage!$AS$16=\"x\",Urmatrix!AO89,)","v":0},{"$f":"IF(Entscheidungsgrundlage!$AS$16=\"x\",Urmatrix!AP89,)","v":0},{"$f":"IF(Entscheidungsgrundlage!$AS$16=\"x\",Urmatrix!AQ89,)","v":0},{"$f":"IF(Entscheidungsgrundlage!$AS$16=\"x\",Urmatrix!AR89,)","v":0},{"$f":"IF(Entscheidungsgrundlage!$AS$16=\"x\",Urmatrix!AS89,)","v":0},{"$f":"IF(Entscheidungsgrundlage!$AS$16=\"x\",Urmatrix!AT89,)","v":0},{"$f":"IF(Entscheidungsgrundlage!$AS$16=\"x\",Urmatrix!AU89,)","v":0},{"$f":"IF(Entscheidungsgrundlage!$AS$16=\"x\",Urmatrix!AV89,)","v":0},{"$f":"IF(Entscheidungsgrundlage!$AS$16=\"x\",Urmatrix!AW89,)","v":0},{"$f":"IF(Entscheidungsgrundlage!$AS$16=\"x\",Urmatrix!AX89,)","v":0},{"$f":"IF(Entscheidungsgrundlage!$AS$16=\"x\",Urmatrix!AY89,)","v":0},{"$f":"IF(Entscheidungsgrundlage!$AS$16=\"x\",Urmatrix!AZ89,)","v":0},{"$f":"IF(Entscheidungsgrundlage!$AS$16=\"x\",Urmatrix!BA89,)","v":0},{"$f":"IF(Entscheidungsgrundlage!$AS$16=\"x\",Urmatrix!BB89,)","v":0},{"$f":"IF(Entscheidungsgrundlage!$AS$16=\"x\",Urmatrix!BC89,)","v":0},{"$f":"IF(Entscheidungsgrundlage!$AS$16=\"x\",Urmatrix!BD89,)","v":0},{"$f":"IF(Entscheidungsgrundlage!$AS$16=\"x\",Urmatrix!BE89,)","v":0},{"$f":"IF(Entscheidungsgrundlage!$AS$16=\"x\",Urmatrix!BF89,)","v":0},{"$f":"IF(Entscheidungsgrundlage!$AS$16=\"x\",Urmatrix!BG89,)","v":0}]
[null,"Steiner",null,null,null,"Änderungsgrund","KVP (Hochfahren auf Nennkapazität)",null,{"$f":"IF(Entscheidungsgrundlage!$E$18=\"x\",Urmatrix!I90,)","v":0},{"$f":"IF(Entscheidungsgrundlage!$E$18=\"x\",Urmatrix!J90,)","v":0},{"$f":"IF(Entscheidungsgrundlage!$E$18=\"x\",Urmatrix!K90,)","v":0},{"$f":"IF(Entscheidungsgrundlage!$E$18=\"x\",Urmatrix!L90,)","v":0},{"$f":"IF(Entscheidungsgrundlage!$E$18=\"x\",Urmatrix!M90,)","v":0},{"$f":"IF(Entscheidungsgrundlage!$E$18=\"x\",Urmatrix!N90,)","v":0},{"$f":"IF(Entscheidungsgrundlage!$E$18=\"x\",Urmatrix!O90,)","v":0},{"$f":"IF(Entscheidungsgrundlage!$E$18=\"x\",Urmatrix!P90,)","v":0},{"$f":"IF(Entscheidungsgrundlage!$E$18=\"x\",Urmatrix!Q90,)","v":0},{"$f":"IF(Entscheidungsgrundlage!$E$18=\"x\",Urmatrix!R90,)","v":0},{"$f":"IF(Entscheidungsgrundlage!$E$18=\"x\",Urmatrix!S90,)","v":0},{"$f":"IF(Entscheidungsgrundlage!$E$18=\"x\",Urmatrix!T90,)","v":0},{"$f":"IF(Entscheidungsgrundlage!$E$18=\"x\",Urmatrix!U90,)","v":0},{"$f":"IF(Entscheidungsgrundlage!$E$18=\"x\",Urmatrix!V90,)","v":0},{"$f":"IF(Entscheidungsgrundlage!$E$18=\"x\",Urmatrix!W90,)","v":0},{"$f":"IF(Entscheidungsgrundlage!$E$18=\"x\",Urmatrix!X90,)","v":0},{"$f":"IF(Entscheidungsgrundlage!$E$18=\"x\",Urmatrix!Y90,)","v":0},{"$f":"IF(Entscheidungsgrundlage!$E$18=\"x\",Urmatrix!Z90,)","v":0},{"$f":"IF(Entscheidungsgrundlage!$E$18=\"x\",Urmatrix!AA90,)","v":0},{"$f":"IF(Entscheidungsgrundlage!$E$18=\"x\",Urmatrix!AB90,)","v":0},{"$f":"IF(Entscheidungsgrundlage!$E$18=\"x\",Urmatrix!AC90,)","v":0},{"$f":"IF(Entscheidungsgrundlage!$E$18=\"x\",Urmatrix!AD90,)","v":0},{"$f":"IF(Entscheidungsgrundlage!$E$18=\"x\",Urmatrix!AE90,)","v":0},{"$f":"IF(Entscheidungsgrundlage!$E$18=\"x\",Urmatrix!AF90,)","v":0},{"$f":"IF(Entscheidungsgrundlage!$E$18=\"x\",Urmatrix!AG90,)","v":0},{"$f":"IF(Entscheidungsgrundlage!$E$18=\"x\",Urmatrix!AH90,)","v":0},{"$f":"IF(Entscheidungsgrundlage!$E$18=\"x\",Urmatrix!AI90,)","v":0},{"$f":"IF(Entscheidungsgrundlage!$E$18=\"x\",Urmatrix!AJ90,)","v":0},{"$f":"IF(Entscheidungsgrundlage!$E$18=\"x\",Urmatrix!AK90,)","v":0},{"$f":"IF(Entscheidungsgrundlage!$E$18=\"x\",Urmatrix!AL90,)","v":0},{"$f":"IF(Entscheidungsgrundlage!$E$18=\"x\",Urmatrix!AM90,)","v":0},{"$f":"IF(Entscheidungsgrundlage!$E$18=\"x\",Urmatrix!AN90,)","v":0},{"$f":"IF(Entscheidungsgrundlage!$E$18=\"x\",Urmatrix!AO90,)","v":0},{"$f":"IF(Entscheidungsgrundlage!$E$18=\"x\",Urmatrix!AP90,)","v":0},{"$f":"IF(Entscheidungsgrundlage!$E$18=\"x\",Urmatrix!AQ90,)","v":0},{"$f":"IF(Entscheidungsgrundlage!$E$18=\"x\",Urmatrix!AR90,)","v":0},{"$f":"IF(Entscheidungsgrundlage!$E$18=\"x\",Urmatrix!AS90,)","v":0},{"$f":"IF(Entscheidungsgrundlage!$E$18=\"x\",Urmatrix!AT90,)","v":0},{"$f":"IF(Entscheidungsgrundlage!$E$18=\"x\",Urmatrix!AU90,)","v":0},{"$f":"IF(Entscheidungsgrundlage!$E$18=\"x\",Urmatrix!AV90,)","v":0},{"$f":"IF(Entscheidungsgrundlage!$E$18=\"x\",Urmatrix!AW90,)","v":0},{"$f":"IF(Entscheidungsgrundlage!$E$18=\"x\",Urmatrix!AX90,)","v":0},{"$f":"IF(Entscheidungsgrundlage!$E$18=\"x\",Urmatrix!AY90,)","v":0},{"$f":"IF(Entscheidungsgrundlage!$E$18=\"x\",Urmatrix!AZ90,)","v":0},{"$f":"IF(Entscheidungsgrundlage!$E$18=\"x\",Urmatrix!BA90,)","v":0},{"$f":"IF(Entscheidungsgrundlage!$E$18=\"x\",Urmatrix!BB90,)","v":0},{"$f":"IF(Entscheidungsgrundlage!$E$18=\"x\",Urmatrix!BC90,)","v":0},{"$f":"IF(Entscheidungsgrundlage!$E$18=\"x\",Urmatrix!BD90,)","v":0},{"$f":"IF(Entscheidungsgrundlage!$E$18=\"x\",Urmatrix!BE90,)","v":0},{"$f":"IF(Entscheidungsgrundlage!$E$18=\"x\",Urmatrix!BF90,)","v":0},{"$f":"IF(Entscheidungsgrundlage!$E$18=\"x\",Urmatrix!BG90,)","v":0}]
[null,null,null,null,null,null,"Qualitätsmängel (Produkt/ Prozess)",null,{"$f":"IF(Entscheidungsgrundlage!$O$18=\"x\",Urmatrix!I91,)","v":0},{"$f":"IF(Entscheidungsgrundlage!$O$18=\"x\",Urmatrix!J91,)","v":0},{"$f":"IF(Entscheidungsgrundlage!$O$18=\"x\",Urmatrix!K91,)","v":0},{"$f":"IF(Entscheidungsgrundlage!$O$18=\"x\",Urmatrix!L91,)","v":0},{"$f":"IF(Entscheidungsgrundlage!$O$18=\"x\",Urmatrix!M91,)","v":0},{"$f":"IF(Entscheidungsgrundlage!$O$18=\"x\",Urmatrix!N91,)","v":0},{"$f":"IF(Entscheidungsgrundlage!$O$18=\"x\",Urmatrix!O91,)","v":0},{"$f":"IF(Entscheidungsgrundlage!$O$18=\"x\",Urmatrix!P91,)","v":0},{"$f":"IF(Entscheidungsgrundlage!$O$18=\"x\",Urmatrix!Q91,)","v":0},{"$f":"IF(Entscheidungsgrundlage!$O$18=\"x\",Urmatrix!R91,)","v":0},{"$f":"IF(Entscheidungsgrundlage!$O$18=\"x\",Urmatrix!S91,)","v":0},{"$f":"IF(Entscheidungsgrundlage!$O$18=\"x\",Urmatrix!T91,)","v":0},{"$f":"IF(Entscheidungsgrundlage!$O$18=\"x\",Urmatrix!U91,)","v":0},{"$f":"IF(Entscheidungsgrundlage!$O$18=\"x\",Urmatrix!V91,)","v":0},{"$f":"IF(Entscheidungsgrundlage!$O$18=\"x\",Urmatrix!W91,)","v":0},{"$f":"IF(Entscheidungsgrundlage!$O$18=\"x\",Urmatrix!X91,)","v":0},{"$f":"IF(Entscheidungsgrundlage!$O$18=\"x\",Urmatrix!Y91,)","v":0},{"$f":"IF(Entscheidungsgrundlage!$O$18=\"x\",Urmatrix!Z91,)","v":0},{"$f":"IF(Entscheidungsgrundlage!$O$18=\"x\",Urmatrix!AA91,)","v":0},{"$f":"IF(Entscheidungsgrundlage!$O$18=\"x\",Urmatrix!AB91,)","v":0},{"$f":"IF(Entscheidungsgrundlage!$O$18=\"x\",Urmatrix!AC91,)","v":0},{"$f":"IF(Entscheidungsgrundlage!$O$18=\"x\",Urmatrix!AD91,)","v":0},{"$f":"IF(Entscheidungsgrundlage!$O$18=\"x\",Urmatrix!AE91,)","v":0},{"$f":"IF(Entscheidungsgrundlage!$O$18=\"x\",Urmatrix!AF91,)","v":0},{"$f":"IF(Entscheidungsgrundlage!$O$18=\"x\",Urmatrix!AG91,)","v":0},{"$f":"IF(Entscheidungsgrundlage!$O$18=\"x\",Urmatrix!AH91,)","v":0},{"$f":"IF(Entscheidungsgrundlage!$O$18=\"x\",Urmatrix!AI91,)","v":0},{"$f":"IF(Entscheidungsgrundlage!$O$18=\"x\",Urmatrix!AJ91,)","v":0},{"$f":"IF(Entscheidungsgrundlage!$O$18=\"x\",Urmatrix!AK91,)","v":0},{"$f":"IF(Entscheidungsgrundlage!$O$18=\"x\",Urmatrix!AL91,)","v":0},{"$f":"IF(Entscheidungsgrundlage!$O$18=\"x\",Urmatrix!AM91,)","v":0},{"$f":"IF(Entscheidungsgrundlage!$O$18=\"x\",Urmatrix!AN91,)","v":0},{"$f":"IF(Entscheidungsgrundlage!$O$18=\"x\",Urmatrix!AO91,)","v":0},{"$f":"IF(Entscheidungsgrundlage!$O$18=\"x\",Urmatrix!AP91,)","v":0},{"$f":"IF(Entscheidungsgrundlage!$O$18=\"x\",Urmatrix!AQ91,)","v":0},{"$f":"IF(Entscheidungsgrundlage!$O$18=\"x\",Urmatrix!AR91,)","v":0},{"$f":"IF(Entscheidungsgrundlage!$O$18=\"x\",Urmatrix!AS91,)","v":0},{"$f":"IF(Entscheidungsgrundlage!$O$18=\"x\",Urmatrix!AT91,)","v":0},{"$f":"IF(Entscheidungsgrundlage!$O$18=\"x\",Urmatrix!AU91,)","v":0},{"$f":"IF(Entscheidungsgrundlage!$O$18=\"x\",Urmatrix!AV91,)","v":0},{"$f":"IF(Entscheidungsgrundlage!$O$18=\"x\",Urmatrix!AW91,)","v":0},{"$f":"IF(Entscheidungsgrundlage!$O$18=\"x\",Urmatrix!AX91,)","v":0},{"$f":"IF(Entscheidungsgrundlage!$O$18=\"x\",Urmatrix!AY91,)","v":0},{"$f":"IF(Entscheidungsgrundlage!$O$18=\"x\",Urmatrix!AZ91,)","v":0},{"$f":"IF(Entscheidungsgrundlage!$O$18=\"x\",Urmatrix!BA91,)","v":0},{"$f":"IF(Entscheidungsgrundlage!$O$18=\"x\",Urmatrix!BB91,)","v":0},{"$f":"IF(Entscheidungsgrundlage!$O$18=\"x\",Urmatrix!BC91,)","v":0},{"$f":"IF(Entscheidungsgrundlage!$O$18=\"x\",Urmatrix!BD91,)","v":0},{"$f":"IF(Entscheidungsgrundlage!$O$18=\"x\",Urmatrix!BE91,)","v":0},{"$f":"IF(Entscheidungsgrundlage!$O$18=\"x\",Urmatrix!BF91,)","v":0},{"$f":"IF(Entscheidungsgrundlage!$O$18=\"x\",Urmatrix!BG91,)","v":0}]
[null,null,null,null,null,null,"Prozess-Technologie",null,{"$f":"IF(Entscheidungsgrundlage!$Y$18=\"x\",Urmatrix!I92,)","v":0},{"$f":"IF(Entscheidungsgrundlage!$Y$18=\"x\",Urmatrix!J92,)","v":0},{"$f":"IF(Entscheidungsgrundlage!$Y$18=\"x\",Urmatrix!K92,)","v":0},{"$f":"IF(Entscheidungsgrundlage!$Y$18=\"x\",Urmatrix!L92,)","v":0},{"$f":"IF(Entscheidungsgrundlage!$Y$18=\"x\",Urmatrix!M92,)","v":0},{"$f":"IF(Entscheidungsgrundlage!$Y$18=\"x\",Urmatrix!N92,)","v":0},{"$f":"IF(Entscheidungsgrundlage!$Y$18=\"x\",Urmatrix!O92,)","v":0},{"$f":"IF(Entscheidungsgrundlage!$Y$18=\"x\",Urmatrix!P92,)","v":0},{"$f":"IF(Entscheidungsgrundlage!$Y$18=\"x\",Urmatrix!Q92,)","v":0},{"$f":"IF(Entscheidungsgrundlage!$Y$18=\"x\",Urmatrix!R92,)","v":0},{"$f":"IF(Entscheidungsgrundlage!$Y$18=\"x\",Urmatrix!S92,)","v":0},{"$f":"IF(Entscheidungsgrundlage!$Y$18=\"x\",Urmatrix!T92,)","v":0},{"$f":"IF(Entscheidungsgrundlage!$Y$18=\"x\",Urmatrix!U92,)","v":0},{"$f":"IF(Entscheidungsgrundlage!$Y$18=\"x\",Urmatrix!V92,)","v":0},{"$f":"IF(Entscheidungsgrundlage!$Y$18=\"x\",Urmatrix!W92,)","v":0},{"$f":"IF(Entscheidungsgrundlage!$Y$18=\"x\",Urmatrix!X92,)","v":0},{"$f":"IF(Entscheidungsgrundlage!$Y$18=\"x\",Urmatrix!Y92,)","v":0},{"$f":"IF(Entscheidungsgrundlage!$Y$18=\"x\",Urmatrix!Z92,)","v":0},{"$f":"IF(Entscheidungsgrundlage!$Y$18=\"x\",Urmatrix!AA92,)","v":0},{"$f":"IF(Entscheidungsgrundlage!$Y$18=\"x\",Urmatrix!AB92,)","v":0},{"$f":"IF(Entscheidungsgrundlage!$Y$18=\"x\",Urmatrix!AC92,)","v":0},{"$f":"IF(Entscheidungsgrundlage!$Y$18=\"x\",Urmatrix!AD92,)","v":0},{"$f":"IF(Entscheidungsgrundlage!$Y$18=\"x\",Urmatrix!AE92,)","v":0},{"$f":"IF(Entscheidungsgrundlage!$Y$18=\"x\",Urmatrix!AF92,)","v":0},{"$f":"IF(Entscheidungsgrundlage!$Y$18=\"x\",Urmatrix!AG92,)","v":0},{"$f":"IF(Entscheidungsgrundlage!$Y$18=\"x\",Urmatrix!AH92,)","v":0},{"$f":"IF(Entscheidungsgrundlage!$Y$18=\"x\",Urmatrix!AI92,)","v":0},{"$f":"IF(Entscheidungsgrundlage!$Y$18=\"x\",Urmatrix!AJ92,)","v":0},{"$f":"IF(Entscheidungsgrundlage!$Y$18=\"x\",Urmatrix!AK92,)","v":0},{"$f":"IF(Entscheidungsgrundlage!$Y$18=\"x\",Urmatrix!AL92,)","v":0},{"$f":"IF(Entscheidungsgrundlage!$Y$18=\"x\",Urmatrix!AM92,)","v":0},{"$f":"IF(Entscheidungsgrundlage!$Y$18=\"x\",Urmatrix!AN92,)","v":0},{"$f":"IF(Entscheidungsgrundlage!$Y$18=\"x\",Urmatrix!AO92,)","v":0},{"$f":"IF(Entscheidungsgrundlage!$Y$18=\"x\",Urmatrix!AP92,)","v":0},{"$f":"IF(Entscheidungsgrundlage!$Y$18=\"x\",Urmatrix!AQ92,)","v":0},{"$f":"IF(Entscheidungsgrundlage!$Y$18=\"x\",Urmatrix!AR92,)","v":0},{"$f":"IF(Entscheidungsgrundlage!$Y$18=\"x\",Urmatrix!AS92,)","v":0},{"$f":"IF(Entscheidungsgrundlage!$Y$18=\"x\",Urmatrix!AT92,)","v":0},{"$f":"IF(Entscheidungsgrundlage!$Y$18=\"x\",Urmatrix!AU92,)","v":0},{"$f":"IF(Entscheidungsgrundlage!$Y$18=\"x\",Urmatrix!AV92,)","v":0},{"$f":"IF(Entscheidungsgrundlage!$Y$18=\"x\",Urmatrix!AW92,)","v":0},{"$f":"IF(Entscheidungsgrundlage!$Y$18=\"x\",Urmatrix!AX92,)","v":0},{"$f":"IF(Entscheidungsgrundlage!$Y$18=\"x\",Urmatrix!AY92,)","v":0},{"$f":"IF(Entscheidungsgrundlage!$Y$18=\"x\",Urmatrix!AZ92,)","v":0},{"$f":"IF(Entscheidungsgrundlage!$Y$18=\"x\",Urmatrix!BA92,)","v":0},{"$f":"IF(Entscheidungsgrundlage!$Y$18=\"x\",Urmatrix!BB92,)","v":0},{"$f":"IF(Entscheidungsgrundlage!$Y$18=\"x\",Urmatrix!BC92,)","v":0},{"$f":"IF(Entscheidungsgrundlage!$Y$18=\"x\",Urmatrix!BD92,)","v":0},{"$f":"IF(Entscheidungsgrundlage!$Y$18=\"x\",Urmatrix!BE92,)","v":0},{"$f":"IF(Entscheidungsgrundlage!$Y$18=\"x\",Urmatrix!BF92,)","v":0},{"$f":"IF(Entscheidungsgrundlage!$Y$18=\"x\",Urmatrix!BG92,)","v":0}]
[null,null,null,null,null,null,"Produkt-Technologie",null,{"$f":"IF(Entscheidungsgrundlage!$AI$18=\"x\",Urmatrix!I93,)","v":0},{"$f":"IF(Entscheidungsgrundlage!$AI$18=\"x\",Urmatrix!J93,)","v":0},{"$f":"IF(Entscheidungsgrundlage!$AI$18=\"x\",Urmatrix!K93,)","v":0},{"$f":"IF(Entscheidungsgrundlage!$AI$18=\"x\",Urmatrix!L93,)","v":0},{"$f":"IF(Entscheidungsgrundlage!$AI$18=\"x\",Urmatrix!M93,)","v":0},{"$f":"IF(Entscheidungsgrundlage!$AI$18=\"x\",Urmatrix!N93,)","v":0},{"$f":"IF(Entscheidungsgrundlage!$AI$18=\"x\",Urmatrix!O93,)","v":0},{"$f":"IF(Entscheidungsgrundlage!$AI$18=\"x\",Urmatrix!P93,)","v":0},{"$f":"IF(Entscheidungsgrundlage!$AI$18=\"x\",Urmatrix!Q93,)","v":0},{"$f":"IF(Entscheidungsgrundlage!$AI$18=\"x\",Urmatrix!R93,)","v":0},{"$f":"IF(Entscheidungsgrundlage!$AI$18=\"x\",Urmatrix!S93,)","v":0},{"$f":"IF(Entscheidungsgrundlage!$AI$18=\"x\",Urmatrix!T93,)","v":0},{"$f":"IF(Entscheidungsgrundlage!$AI$18=\"x\",Urmatrix!U93,)","v":0},{"$f":"IF(Entscheidungsgrundlage!$AI$18=\"x\",Urmatrix!V93,)","v":0},{"$f":"IF(Entscheidungsgrundlage!$AI$18=\"x\",Urmatrix!W93,)","v":0},{"$f":"IF(Entscheidungsgrundlage!$AI$18=\"x\",Urmatrix!X93,)","v":0},{"$f":"IF(Entscheidungsgrundlage!$AI$18=\"x\",Urmatrix!Y93,)","v":0},{"$f":"IF(Entscheidungsgrundlage!$AI$18=\"x\",Urmatrix!Z93,)","v":0},{"$f":"IF(Entscheidungsgrundlage!$AI$18=\"x\",Urmatrix!AA93,)","v":0},{"$f":"IF(Entscheidungsgrundlage!$AI$18=\"x\",Urmatrix!AB93,)","v":0},{"$f":"IF(Entscheidungsgrundlage!$AI$18=\"x\",Urmatrix!AC93,)","v":0},{"$f":"IF(Entscheidungsgrundlage!$AI$18=\"x\",Urmatrix!AD93,)","v":0},{"$f":"IF(Entscheidungsgrundlage!$AI$18=\"x\",Urmatrix!AE93,)","v":0},{"$f":"IF(Entscheidungsgrundlage!$AI$18=\"x\",Urmatrix!AF93,)","v":0},{"$f":"IF(Entscheidungsgrundlage!$AI$18=\"x\",Urmatrix!AG93,)","v":0},{"$f":"IF(Entscheidungsgrundlage!$AI$18=\"x\",Urmatrix!AH93,)","v":0},{"$f":"IF(Entscheidungsgrundlage!$AI$18=\"x\",Urmatrix!AI93,)","v":0},{"$f":"IF(Entscheidungsgrundlage!$AI$18=\"x\",Urmatrix!AJ93,)","v":0},{"$f":"IF(Entscheidungsgrundlage!$AI$18=\"x\",Urmatrix!AK93,)","v":0},{"$f":"IF(Entscheidungsgrundlage!$AI$18=\"x\",Urmatrix!AL93,)","v":0},{"$f":"IF(Entscheidungsgrundlage!$AI$18=\"x\",Urmatrix!AM93,)","v":0},{"$f":"IF(Entscheidungsgrundlage!$AI$18=\"x\",Urmatrix!AN93,)","v":0},{"$f":"IF(Entscheidungsgrundlage!$AI$18=\"x\",Urmatrix!AO93,)","v":0},{"$f":"IF(Entscheidungsgrundlage!$AI$18=\"x\",Urmatrix!AP93,)","v":0},{"$f":"IF(Entscheidungsgrundlage!$AI$18=\"x\",Urmatrix!AQ93,)","v":0},{"$f":"IF(Entscheidungsgrundlage!$AI$18=\"x\",Urmatrix!AR93,)","v":0},{"$f":"IF(Entscheidungsgrundlage!$AI$18=\"x\",Urmatrix!AS93,)","v":0},{"$f":"IF(Entscheidungsgrundlage!$AI$18=\"x\",Urmatrix!AT93,)","v":0},{"$f":"IF(Entscheidungsgrundlage!$AI$18=\"x\",Urmatrix!AU93,)","v":0},{"$f":"IF(Entscheidungsgrundlage!$AI$18=\"x\",Urmatrix!AV93,)","v":0},{"$f":"IF(Entscheidungsgrundlage!$AI$18=\"x\",Urmatrix!AW93,)","v":0},{"$f":"IF(Entscheidungsgrundlage!$AI$18=\"x\",Urmatrix!AX93,)","v":0},{"$f":"IF(Entscheidungsgrundlage!$AI$18=\"x\",Urmatrix!AY93,)","v":0},{"$f":"IF(Entscheidungsgrundlage!$AI$18=\"x\",Urmatrix!AZ93,)","v":0},{"$f":"IF(Entscheidungsgrundlage!$AI$18=\"x\",Urmatrix!BA93,)","v":0},{"$f":"IF(Entscheidungsgrundlage!$AI$18=\"x\",Urmatrix!BB93,)","v":0},{"$f":"IF(Entscheidungsgrundlage!$AI$18=\"x\",Urmatrix!BC93,)","v":0},{"$f":"IF(Entscheidungsgrundlage!$AI$18=\"x\",Urmatrix!BD93,)","v":0},{"$f":"IF(Entscheidungsgrundlage!$AI$18=\"x\",Urmatrix!BE93,)","v":0},{"$f":"IF(Entscheidungsgrundlage!$AI$18=\"x\",Urmatrix!BF93,)","v":0},{"$f":"IF(Entscheidungsgrundlage!$AI$18=\"x\",Urmatrix!BG93,)","v":0}]
[null,null,null,null,null,null,"Gesetz",null,{"$f":"IF(Entscheidungsgrundlage!$AS$18=\"x\",Urmatrix!I94,)","v":0},{"$f":"IF(Entscheidungsgrundlage!$AS$18=\"x\",Urmatrix!J94,)","v":0},{"$f":"IF(Entscheidungsgrundlage!$AS$18=\"x\",Urmatrix!K94,)","v":0},{"$f":"IF(Entscheidungsgrundlage!$AS$18=\"x\",Urmatrix!L94,)","v":0},{"$f":"IF(Entscheidungsgrundlage!$AS$18=\"x\",Urmatrix!M94,)","v":0},{"$f":"IF(Entscheidungsgrundlage!$AS$18=\"x\",Urmatrix!N94,)","v":0},{"$f":"IF(Entscheidungsgrundlage!$AS$18=\"x\",Urmatrix!O94,)","v":0},{"$f":"IF(Entscheidungsgrundlage!$AS$18=\"x\",Urmatrix!P94,)","v":0},{"$f":"IF(Entscheidungsgrundlage!$AS$18=\"x\",Urmatrix!Q94,)","v":0},{"$f":"IF(Entscheidungsgrundlage!$AS$18=\"x\",Urmatrix!R94,)","v":0},{"$f":"IF(Entscheidungsgrundlage!$AS$18=\"x\",Urmatrix!S94,)","v":0},{"$f":"IF(Entscheidungsgrundlage!$AS$18=\"x\",Urmatrix!T94,)","v":0},{"$f":"IF(Entscheidungsgrundlage!$AS$18=\"x\",Urmatrix!U94,)","v":0},{"$f":"IF(Entscheidungsgrundlage!$AS$18=\"x\",Urmatrix!V94,)","v":0},{"$f":"IF(Entscheidungsgrundlage!$AS$18=\"x\",Urmatrix!W94,)","v":0},{"$f":"IF(Entscheidungsgrundlage!$AS$18=\"x\",Urmatrix!X94,)","v":0},{"$f":"IF(Entscheidungsgrundlage!$AS$18=\"x\",Urmatrix!Y94,)","v":0},{"$f":"IF(Entscheidungsgrundlage!$AS$18=\"x\",Urmatrix!Z94,)","v":0},{"$f":"IF(Entscheidungsgrundlage!$AS$18=\"x\",Urmatrix!AA94,)","v":0},{"$f":"IF(Entscheidungsgrundlage!$AS$18=\"x\",Urmatrix!AB94,)","v":0},{"$f":"IF(Entscheidungsgrundlage!$AS$18=\"x\",Urmatrix!AC94,)","v":0},{"$f":"IF(Entscheidungsgrundlage!$AS$18=\"x\",Urmatrix!AD94,)","v":0},{"$f":"IF(Entscheidungsgrundlage!$AS$18=\"x\",Urmatrix!AE94,)","v":0},{"$f":"IF(Entscheidungsgrundlage!$AS$18=\"x\",Urmatrix!AF94,)","v":0},{"$f":"IF(Entscheidungsgrundlage!$AS$18=\"x\",Urmatrix!AG94,)","v":0},{"$f":"IF(Entscheidungsgrundlage!$AS$18=\"x\",Urmatrix!AH94,)","v":0},{"$f":"IF(Entscheidungsgrundlage!$AS$18=\"x\",Urmatrix!AI94,)","v":0},{"$f":"IF(Entscheidungsgrundlage!$AS$18=\"x\",Urmatrix!AJ94,)","v":0},{"$f":"IF(Entscheidungsgrundlage!$AS$18=\"x\",Urmatrix!AK94,)","v":0},{"$f":"IF(Entscheidungsgrundlage!$AS$18=\"x\",Urmatrix!AL94,)","v":0},{"$f":"IF(Entscheidungsgrundlage!$AS$18=\"x\",Urmatrix!AM94,)","v":0},{"$f":"IF(Entscheidungsgrundlage!$AS$18=\"x\",Urmatrix!AN94,)","v":0},{"$f":"IF(Entscheidungsgrundlage!$AS$18=\"x\",Urmatrix!AO94,)","v":0},{"$f":"IF(Entscheidungsgrundlage!$AS$18=\"x\",Urmatrix!AP94,)","v":0},{"$f":"IF(Entscheidungsgrundlage!$AS$18=\"x\",Urmatrix!AQ94,)","v":0},{"$f":"IF(Entscheidungsgrundlage!$AS$18=\"x\",Urmatrix!AR94,)","v":0},{"$f":"IF(Entscheidungsgrundlage!$AS$18=\"x\",Urmatrix!AS94,)","v":0},{"$f":"IF(Entscheidungsgrundlage!$AS$18=\"x\",Urmatrix!AT94,)","v":0},{"$f":"IF(Entscheidungsgrundlage!$AS$18=\"x\",Urmatrix!AU94,)","v":0},{"$f":"IF(Entscheidungsgrundlage!$AS$18=\"x\",Urmatrix!AV94,)","v":0},{"$f":"IF(Entscheidungsgrundlage!$AS$18=\"x\",Urmatrix!AW94,)","v":0},{"$f":"IF(Entscheidungsgrundlage!$AS$18=\"x\",Urmatrix!AX94,)","v":0},{"$f":"IF(Entscheidungsgrundlage!$AS$18=\"x\",Urmatrix!AY94,)","v":0},{"$f":"IF(Entscheidungsgrundlage!$AS$18=\"x\",Urmatrix!AZ94,)","v":0},{"$f":"IF(Entscheidungsgrundlage!$AS$18=\"x\",Urmatrix!BA94,)","v":0},{"$f":"IF(Entscheidungsgrundlage!$AS$18=\"x\",Urmatrix!BB94,)","v":0},{"$f":"IF(Entscheidungsgrundlage!$AS$18=\"x\",Urmatrix!BC94,)","v":0},{"$f":"IF(Entscheidungsgrundlage!$AS$18=\"x\",Urmatrix!BD94,)","v":0},{"$f":"IF(Entscheidungsgrundlage!$AS$18=\"x\",Urmatrix!BE94,)","v":0},{"$f":"IF(Entscheidungsgrundlage!$AS$18=\"x\",Urmatrix!BF94,)","v":0},{"$f":"IF(Entscheidungsgrundlage!$AS$18=\"x\",Urmatrix!BG94,)","v":0}]
[null,null,null,null,null,null,"Kundenwunsch",null,{"$f":"IF(Entscheidungsgrundlage!$BC$18=\"x\",Urmatrix!I95,)","v":0},{"$f":"IF(Entscheidungsgrundlage!$BC$18=\"x\",Urmatrix!J95,)","v":0},{"$f":"IF(Entscheidungsgrundlage!$BC$18=\"x\",Urmatrix!K95,)","v":0},{"$f":"IF(Entscheidungsgrundlage!$BC$18=\"x\",Urmatrix!L95,)","v":0},{"$f":"IF(Entscheidungsgrundlage!$BC$18=\"x\",Urmatrix!M95,)","v":0},{"$f":"IF(Entscheidungsgrundlage!$BC$18=\"x\",Urmatrix!N95,)","v":0},{"$f":"IF(Entscheidungsgrundlage!$BC$18=\"x\",Urmatrix!O95,)","v":0},{"$f":"IF(Entscheidungsgrundlage!$BC$18=\"x\",Urmatrix!P95,)","v":0},{"$f":"IF(Entscheidungsgrundlage!$BC$18=\"x\",Urmatrix!Q95,)","v":0},{"$f":"IF(Entscheidungsgrundlage!$BC$18=\"x\",Urmatrix!R95,)","v":0},{"$f":"IF(Entscheidungsgrundlage!$BC$18=\"x\",Urmatrix!S95,)","v":0},{"$f":"IF(Entscheidungsgrundlage!$BC$18=\"x\",Urmatrix!T95,)","v":0},{"$f":"IF(Entscheidungsgrundlage!$BC$18=\"x\",Urmatrix!U95,)","v":0},{"$f":"IF(Entscheidungsgrundlage!$BC$18=\"x\",Urmatrix!V95,)","v":0},{"$f":"IF(Entscheidungsgrundlage!$BC$18=\"x\",Urmatrix!W95,)","v":0},{"$f":"IF(Entscheidungsgrundlage!$BC$18=\"x\",Urmatrix!X95,)","v":0},{"$f":"IF(Entscheidungsgrundlage!$BC$18=\"x\",Urmatrix!Y95,)","v":0},{"$f":"IF(Entscheidungsgrundlage!$BC$18=\"x\",Urmatrix!Z95,)","v":0},{"$f":"IF(Entscheidungsgrundlage!$BC$18=\"x\",Urmatrix!AA95,)","v":0},{"$f":"IF(Entscheidungsgrundlage!$BC$18=\"x\",Urmatrix!AB95,)","v":0},{"$f":"IF(Entscheidungsgrundlage!$BC$18=\"x\",Urmatrix!AC95,)","v":0},{"$f":"IF(Entscheidungsgrundlage!$BC$18=\"x\",Urmatrix!AD95,)","v":0},{"$f":"IF(Entscheidungsgrundlage!$BC$18=\"x\",Urmatrix!AE95,)","v":0},{"$f":"IF(Entscheidungsgrundlage!$BC$18=\"x\",Urmatrix!AF95,)","v":0},{"$f":"IF(Entscheidungsgrundlage!$BC$18=\"x\",Urmatrix!AG95,)","v":0},{"$f":"IF(Entscheidungsgrundlage!$BC$18=\"x\",Urmatrix!AH95,)","v":0},{"$f":"IF(Entscheidungsgrundlage!$BC$18=\"x\",Urmatrix!AI95,)","v":0},{"$f":"IF(Entscheidungsgrundlage!$BC$18=\"x\",Urmatrix!AJ95,)","v":0},{"$f":"IF(Entscheidungsgrundlage!$BC$18=\"x\",Urmatrix!AK95,)","v":0},{"$f":"IF(Entscheidungsgrundlage!$BC$18=\"x\",Urmatrix!AL95,)","v":0},{"$f":"IF(Entscheidungsgrundlage!$BC$18=\"x\",Urmatrix!AM95,)","v":0},{"$f":"IF(Entscheidungsgrundlage!$BC$18=\"x\",Urmatrix!AN95,)","v":0},{"$f":"IF(Entscheidungsgrundlage!$BC$18=\"x\",Urmatrix!AO95,)","v":0},{"$f":"IF(Entscheidungsgrundlage!$BC$18=\"x\",Urmatrix!AP95,)","v":0},{"$f":"IF(Entscheidungsgrundlage!$BC$18=\"x\",Urmatrix!AQ95,)","v":0},{"$f":"IF(Entscheidungsgrundlage!$BC$18=\"x\",Urmatrix!AR95,)","v":0},{"$f":"IF(Entscheidungsgrundlage!$BC$18=\"x\",Urmatrix!AS95,)","v":0},{"$f":"IF(Entscheidungsgrundlage!$BC$18=\"x\",Urmatrix!AT95,)","v":0},{"$f":"IF(Entscheidungsgrundlage!$BC$18=\"x\",Urmatrix!AU95,)","v":0},{"$f":"IF(Entscheidungsgrundlage!$BC$18=\"x\",Urmatrix!AV95,)","v":0},{"$f":"IF(Entscheidungsgrundlage!$BC$18=\"x\",Urmatrix!AW95,)","v":0},{"$f":"IF(Entscheidungsgrundlage!$BC$18=\"x\",Urmatrix!AX95,)","v":0},{"$f":"IF(Entscheidungsgrundlage!$BC$18=\"x\",Urmatrix!AY95,)","v":0},{"$f":"IF(Entscheidungsgrundlage!$BC$18=\"x\",Urmatrix!AZ95,)","v":0},{"$f":"IF(Entscheidungsgrundlage!$BC$18=\"x\",Urmatrix!BA95,)","v":0},{"$f":"IF(Entscheidungsgrundlage!$BC$18=\"x\",Urmatrix!BB95,)","v":0},{"$f":"IF(Entscheidungsgrundlage!$BC$18=\"x\",Urmatrix!BC95,)","v":0},{"$f":"IF(Entscheidungsgrundlage!$BC$18=\"x\",Urmatrix!BD95,)","v":0},{"$f":"IF(Entscheidungsgrundlage!$BC$18=\"x\",Urmatrix!BE95,)","v":0},{"$f":"IF(Entscheidungsgrundlage!$BC$18=\"x\",Urmatrix!BF95,)","v":0},{"$f":"IF(Entscheidungsgrundlage!$BC$18=\"x\",Urmatrix!BG95,)","v":0}]
[null,null,null,null,null,"Laufzeit / Dauer","Tage",null,{"$f":"IF(Entscheidungsgrundlage!$E$20=\"x\",Urmatrix!I96,)","v":0},{"$f":"IF(Entscheidungsgrundlage!$E$20=\"x\",Urmatrix!J96,)","v":0},{"$f":"IF(Entscheidungsgrundlage!$E$20=\"x\",Urmatrix!K96,)","v":0},{"$f":"IF(Entscheidungsgrundlage!$E$20=\"x\",Urmatrix!L96,)","v":0},{"$f":"IF(Entscheidungsgrundlage!$E$20=\"x\",Urmatrix!M96,)","v":0},{"$f":"IF(Entscheidungsgrundlage!$E$20=\"x\",Urmatrix!N96,)","v":0},{"$f":"IF(Entscheidungsgrundlage!$E$20=\"x\",Urmatrix!O96,)","v":0},{"$f":"IF(Entscheidungsgrundlage!$E$20=\"x\",Urmatrix!P96,)","v":0},{"$f":"IF(Entscheidungsgrundlage!$E$20=\"x\",Urmatrix!Q96,)","v":0},{"$f":"IF(Entscheidungsgrundlage!$E$20=\"x\",Urmatrix!R96,)","v":0},{"$f":"IF(Entscheidungsgrundlage!$E$20=\"x\",Urmatrix!S96,)","v":0},{"$f":"IF(Entscheidungsgrundlage!$E$20=\"x\",Urmatrix!T96,)","v":0},{"$f":"IF(Entscheidungsgrundlage!$E$20=\"x\",Urmatrix!U96,)","v":0},{"$f":"IF(Entscheidungsgrundlage!$E$20=\"x\",Urmatrix!V96,)","v":0},{"$f":"IF(Entscheidungsgrundlage!$E$20=\"x\",Urmatrix!W96,)","v":0},{"$f":"IF(Entscheidungsgrundlage!$E$20=\"x\",Urmatrix!X96,)","v":0},{"$f":"IF(Entscheidungsgrundlage!$E$20=\"x\",Urmatrix!Y96,)","v":0},{"$f":"IF(Entscheidungsgrundlage!$E$20=\"x\",Urmatrix!Z96,)","v":0},{"$f":"IF(Entscheidungsgrundlage!$E$20=\"x\",Urmatrix!AA96,)","v":0},{"$f":"IF(Entscheidungsgrundlage!$E$20=\"x\",Urmatrix!AB96,)","v":0},{"$f":"IF(Entscheidungsgrundlage!$E$20=\"x\",Urmatrix!AC96,)","v":0},{"$f":"IF(Entscheidungsgrundlage!$E$20=\"x\",Urmatrix!AD96,)","v":0},{"$f":"IF(Entscheidungsgrundlage!$E$20=\"x\",Urmatrix!AE96,)","v":0},{"$f":"IF(Entscheidungsgrundlage!$E$20=\"x\",Urmatrix!AF96,)","v":0},{"$f":"IF(Entscheidungsgrundlage!$E$20=\"x\",Urmatrix!AG96,)","v":0},{"$f":"IF(Entscheidungsgrundlage!$E$20=\"x\",Urmatrix!AH96,)","v":0},{"$f":"IF(Entscheidungsgrundlage!$E$20=\"x\",Urmatrix!AI96,)","v":0},{"$f":"IF(Entscheidungsgrundlage!$E$20=\"x\",Urmatrix!AJ96,)","v":0},{"$f":"IF(Entscheidungsgrundlage!$E$20=\"x\",Urmatrix!AK96,)","v":0},{"$f":"IF(Entscheidungsgrundlage!$E$20=\"x\",Urmatrix!AL96,)","v":0},{"$f":"IF(Entscheidungsgrundlage!$E$20=\"x\",Urmatrix!AM96,)","v":0},{"$f":"IF(Entscheidungsgrundlage!$E$20=\"x\",Urmatrix!AN96,)","v":0},{"$f":"IF(Entscheidungsgrundlage!$E$20=\"x\",Urmatrix!AO96,)","v":0},{"$f":"IF(Entscheidungsgrundlage!$E$20=\"x\",Urmatrix!AP96,)","v":0},{"$f":"IF(Entscheidungsgrundlage!$E$20=\"x\",Urmatrix!AQ96,)","v":0},{"$f":"IF(Entscheidungsgrundlage!$E$20=\"x\",Urmatrix!AR96,)","v":0},{"$f":"IF(Entscheidungsgrundlage!$E$20=\"x\",Urmatrix!AS96,)","v":0},{"$f":"IF(Entscheidungsgrundlage!$E$20=\"x\",Urmatrix!AT96,)","v":0},{"$f":"IF(Entscheidungsgrundlage!$E$20=\"x\",Urmatrix!AU96,)","v":0},{"$f":"IF(Entscheidungsgrundlage!$E$20=\"x\",Urmatrix!AV96,)","v":0},{"$f":"IF(Entscheidungsgrundlage!$E$20=\"x\",Urmatrix!AW96,)","v":0},{"$f":"IF(Entscheidungsgrundlage!$E$20=\"x\",Urmatrix!AX96,)","v":0},{"$f":"IF(Entscheidungsgrundlage!$E$20=\"x\",Urmatrix!AY96,)","v":0},{"$f":"IF(Entscheidungsgrundlage!$E$20=\"x\",Urmatrix!AZ96,)","v":0},{"$f":"IF(Entscheidungsgrundlage!$E$20=\"x\",Urmatrix!BA96,)","v":0},{"$f":"IF(Entscheidungsgrundlage!$E$20=\"x\",Urmatrix!BB96,)","v":0},{"$f":"IF(Entscheidungsgrundlage!$E$20=\"x\",Urmatrix!BC96,)","v":0},{"$f":"IF(Entscheidungsgrundlage!$E$20=\"x\",Urmatrix!BD96,)","v":0},{"$f":"IF(Entscheidungsgrundlage!$E$20=\"x\",Urmatrix!BE96,)","v":0},{"$f":"IF(Entscheidungsgrundlage!$E$20=\"x\",Urmatrix!BF96,)","v":0},{"$f":"IF(Entscheidungsgrundlage!$E$20=\"x\",Urmatrix!BG96,)","v":0}]
[null,null,null,null,null,null,">14 Tage",null,{"$f":"IF(Entscheidungsgrundlage!$T$20=\"x\",Urmatrix!I97,)","v":0},{"$f":"IF(Entscheidungsgrundlage!$T$20=\"x\",Urmatrix!J97,)","v":0},{"$f":"IF(Entscheidungsgrundlage!$T$20=\"x\",Urmatrix!K97,)","v":0},{"$f":"IF(Entscheidungsgrundlage!$T$20=\"x\",Urmatrix!L97,)","v":0},{"$f":"IF(Entscheidungsgrundlage!$T$20=\"x\",Urmatrix!M97,)","v":0},{"$f":"IF(Entscheidungsgrundlage!$T$20=\"x\",Urmatrix!N97,)","v":0},{"$f":"IF(Entscheidungsgrundlage!$T$20=\"x\",Urmatrix!O97,)","v":0},{"$f":"IF(Entscheidungsgrundlage!$T$20=\"x\",Urmatrix!P97,)","v":0},{"$f":"IF(Entscheidungsgrundlage!$T$20=\"x\",Urmatrix!Q97,)","v":0},{"$f":"IF(Entscheidungsgrundlage!$T$20=\"x\",Urmatrix!R97,)","v":0},{"$f":"IF(Entscheidungsgrundlage!$T$20=\"x\",Urmatrix!S97,)","v":0},{"$f":"IF(Entscheidungsgrundlage!$T$20=\"x\",Urmatrix!T97,)","v":0},{"$f":"IF(Entscheidungsgrundlage!$T$20=\"x\",Urmatrix!U97,)","v":0},{"$f":"IF(Entscheidungsgrundlage!$T$20=\"x\",Urmatrix!V97,)","v":0},{"$f":"IF(Entscheidungsgrundlage!$T$20=\"x\",Urmatrix!W97,)","v":0},{"$f":"IF(Entscheidungsgrundlage!$T$20=\"x\",Urmatrix!X97,)","v":0},{"$f":"IF(Entscheidungsgrundlage!$T$20=\"x\",Urmatrix!Y97,)","v":0},{"$f":"IF(Entscheidungsgrundlage!$T$20=\"x\",Urmatrix!Z97,)","v":0},{"$f":"IF(Entscheidungsgrundlage!$T$20=\"x\",Urmatrix!AA97,)","v":0},{"$f":"IF(Entscheidungsgrundlage!$T$20=\"x\",Urmatrix!AB97,)","v":0},{"$f":"IF(Entscheidungsgrundlage!$T$20=\"x\",Urmatrix!AC97,)","v":0},{"$f":"IF(Entscheidungsgrundlage!$T$20=\"x\",Urmatrix!AD97,)","v":0},{"$f":"IF(Entscheidungsgrundlage!$T$20=\"x\",Urmatrix!AE97,)","v":0},{"$f":"IF(Entscheidungsgrundlage!$T$20=\"x\",Urmatrix!AF97,)","v":0},{"$f":"IF(Entscheidungsgrundlage!$T$20=\"x\",Urmatrix!AG97,)","v":0},{"$f":"IF(Entscheidungsgrundlage!$T$20=\"x\",Urmatrix!AH97,)","v":0},{"$f":"IF(Entscheidungsgrundlage!$T$20=\"x\",Urmatrix!AI97,)","v":0},{"$f":"IF(Entscheidungsgrundlage!$T$20=\"x\",Urmatrix!AJ97,)","v":0},{"$f":"IF(Entscheidungsgrundlage!$T$20=\"x\",Urmatrix!AK97,)","v":0},{"$f":"IF(Entscheidungsgrundlage!$T$20=\"x\",Urmatrix!AL97,)","v":0},{"$f":"IF(Entscheidungsgrundlage!$T$20=\"x\",Urmatrix!AM97,)","v":0},{"$f":"IF(Entscheidungsgrundlage!$T$20=\"x\",Urmatrix!AN97,)","v":0},{"$f":"IF(Entscheidungsgrundlage!$T$20=\"x\",Urmatrix!AO97,)","v":0},{"$f":"IF(Entscheidungsgrundlage!$T$20=\"x\",Urmatrix!AP97,)","v":0},{"$f":"IF(Entscheidungsgrundlage!$T$20=\"x\",Urmatrix!AQ97,)","v":0},{"$f":"IF(Entscheidungsgrundlage!$T$20=\"x\",Urmatrix!AR97,)","v":0},{"$f":"IF(Entscheidungsgrundlage!$T$20=\"x\",Urmatrix!AS97,)","v":0},{"$f":"IF(Entscheidungsgrundlage!$T$20=\"x\",Urmatrix!AT97,)","v":0},{"$f":"IF(Entscheidungsgrundlage!$T$20=\"x\",Urmatrix!AU97,)","v":0},{"$f":"IF(Entscheidungsgrundlage!$T$20=\"x\",Urmatrix!AV97,)","v":0},{"$f":"IF(Entscheidungsgrundlage!$T$20=\"x\",Urmatrix!AW97,)","v":0},{"$f":"IF(Entscheidungsgrundlage!$T$20=\"x\",Urmatrix!AX97,)","v":0},{"$f":"IF(Entscheidungsgrundlage!$T$20=\"x\",Urmatrix!AY97,)","v":0},{"$f":"IF(Entscheidungsgrundlage!$T$20=\"x\",Urmatrix!AZ97,)","v":0},{"$f":"IF(Entscheidungsgrundlage!$T$20=\"x\",Urmatrix!BA97,)","v":0},{"$f":"IF(Entscheidungsgrundlage!$T$20=\"x\",Urmatrix!BB97,)","v":0},{"$f":"IF(Entscheidungsgrundlage!$T$20=\"x\",Urmatrix!BC97,)","v":0},{"$f":"IF(Entscheidungsgrundlage!$T$20=\"x\",Urmatrix!BD97,)","v":0},{"$f":"IF(Entscheidungsgrundlage!$T$20=\"x\",Urmatrix!BE97,)","v":0},{"$f":"IF(Entscheidungsgrundlage!$T$20=\"x\",Urmatrix!BF97,)","v":0},{"$f":"IF(Entscheidungsgrundlage!$T$20=\"x\",Urmatrix!BG97,)","v":0}]
[null,null,null,null,null,null,">8 Wochen",null,{"$f":"IF(Entscheidungsgrundlage!$AI$20=\"x\",Urmatrix!I98,)","v":0},{"$f":"IF(Entscheidungsgrundlage!$AI$20=\"x\",Urmatrix!J98,)","v":0},{"$f":"IF(Entscheidungsgrundlage!$AI$20=\"x\",Urmatrix!K98,)","v":0},{"$f":"IF(Entscheidungsgrundlage!$AI$20=\"x\",Urmatrix!L98,)","v":0},{"$f":"IF(Entscheidungsgrundlage!$AI$20=\"x\",Urmatrix!M98,)","v":0},{"$f":"IF(Entscheidungsgrundlage!$AI$20=\"x\",Urmatrix!N98,)","v":0},{"$f":"IF(Entscheidungsgrundlage!$AI$20=\"x\",Urmatrix!O98,)","v":0},{"$f":"IF(Entscheidungsgrundlage!$AI$20=\"x\",Urmatrix!P98,)","v":0},{"$f":"IF(Entscheidungsgrundlage!$AI$20=\"x\",Urmatrix!Q98,)","v":0},{"$f":"IF(Entscheidungsgrundlage!$AI$20=\"x\",Urmatrix!R98,)","v":0},{"$f":"IF(Entscheidungsgrundlage!$AI$20=\"x\",Urmatrix!S98,)","v":0},{"$f":"IF(Entscheidungsgrundlage!$AI$20=\"x\",Urmatrix!T98,)","v":0},{"$f":"IF(Entscheidungsgrundlage!$AI$20=\"x\",Urmatrix!U98,)","v":0},{"$f":"IF(Entscheidungsgrundlage!$AI$20=\"x\",Urmatrix!V98,)","v":0},{"$f":"IF(Entscheidungsgrundlage!$AI$20=\"x\",Urmatrix!W98,)","v":0},{"$f":"IF(Entscheidungsgrundlage!$AI$20=\"x\",Urmatrix!X98,)","v":0},{"$f":"IF(Entscheidungsgrundlage!$AI$20=\"x\",Urmatrix!Y98,)","v":0},{"$f":"IF(Entscheidungsgrundlage!$AI$20=\"x\",Urmatrix!Z98,)","v":0},{"$f":"IF(Entscheidungsgrundlage!$AI$20=\"x\",Urmatrix!AA98,)","v":0},{"$f":"IF(Entscheidungsgrundlage!$AI$20=\"x\",Urmatrix!AB98,)","v":0},{"$f":"IF(Entscheidungsgrundlage!$AI$20=\"x\",Urmatrix!AC98,)","v":0},{"$f":"IF(Entscheidungsgrundlage!$AI$20=\"x\",Urmatrix!AD98,)","v":0},{"$f":"IF(Entscheidungsgrundlage!$AI$20=\"x\",Urmatrix!AE98,)","v":0},{"$f":"IF(Entscheidungsgrundlage!$AI$20=\"x\",Urmatrix!AF98,)","v":0},{"$f":"IF(Entscheidungsgrundlage!$AI$20=\"x\",Urmatrix!AG98,)","v":0},{"$f":"IF(Entscheidungsgrundlage!$AI$20=\"x\",Urmatrix!AH98,)","v":0},{"$f":"IF(Entscheidungsgrundlage!$AI$20=\"x\",Urmatrix!AI98,)","v":0},{"$f":"IF(Entscheidungsgrundlage!$AI$20=\"x\",Urmatrix!AJ98,)","v":0},{"$f":"IF(Entscheidungsgrundlage!$AI$20=\"x\",Urmatrix!AK98,)","v":0},{"$f":"IF(Entscheidungsgrundlage!$AI$20=\"x\",Urmatrix!AL98,)","v":0},{"$f":"IF(Entscheidungsgrundlage!$AI$20=\"x\",Urmatrix!AM98,)","v":0},{"$f":"IF(Entscheidungsgrundlage!$AI$20=\"x\",Urmatrix!AN98,)","v":0},{"$f":"IF(Entscheidungsgrundlage!$AI$20=\"x\",Urmatrix!AO98,)","v":0},{"$f":"IF(Entscheidungsgrundlage!$AI$20=\"x\",Urmatrix!AP98,)","v":0},{"$f":"IF(Entscheidungsgrundlage!$AI$20=\"x\",Urmatrix!AQ98,)","v":0},{"$f":"IF(Entscheidungsgrundlage!$AI$20=\"x\",Urmatrix!AR98,)","v":0},{"$f":"IF(Entscheidungsgrundlage!$AI$20=\"x\",Urmatrix!AS98,)","v":0},{"$f":"IF(Entscheidungsgrundlage!$AI$20=\"x\",Urmatrix!AT98,)","v":0},{"$f":"IF(Entscheidungsgrundlage!$AI$20=\"x\",Urmatrix!AU98,)","v":0},{"$f":"IF(Entscheidungsgrundlage!$AI$20=\"x\",Urmatrix!AV98,)","v":0},{"$f":"IF(Entscheidungsgrundlage!$AI$20=\"x\",Urmatrix!AW98,)","v":0},{"$f":"IF(Entscheidungsgrundlage!$AI$20=\"x\",Urmatrix!AX98,)","v":0},{"$f":"IF(Entscheidungsgrundlage!$AI$20=\"x\",Urmatrix!AY98,)","v":0},{"$f":"IF(Entscheidungsgrundlage!$AI$20=\"x\",Urmatrix!AZ98,)","v":0},{"$f":"IF(Entscheidungsgrundlage!$AI$20=\"x\",Urmatrix!BA98,)","v":0},{"$f":"IF(Entscheidungsgrundlage!$AI$20=\"x\",Urmatrix!BB98,)","v":0},{"$f":"IF(Entscheidungsgrundlage!$AI$20=\"x\",Urmatrix!BC98,)","v":0},{"$f":"IF(Entscheidungsgrundlage!$AI$20=\"x\",Urmatrix!BD98,)","v":0},{"$f":"IF(Entscheidungsgrundlage!$AI$20=\"x\",Urmatrix!BE98,)","v":0},{"$f":"IF(Entscheidungsgrundlage!$AI$20=\"x\",Urmatrix!BF98,)","v":0},{"$f":"IF(Entscheidungsgrundlage!$AI$20=\"x\",Urmatrix!BG98,)","v":0}]
[null,null,null,null,null,null,">6 Monate",null,{"$f":"IF(Entscheidungsgrundlage!$AX$20=\"x\",Urmatrix!I99,)","v":0},{"$f":"IF(Entscheidungsgrundlage!$AX$20=\"x\",Urmatrix!J99,)","v":0},{"$f":"IF(Entscheidungsgrundlage!$AX$20=\"x\",Urmatrix!K99,)","v":0},{"$f":"IF(Entscheidungsgrundlage!$AX$20=\"x\",Urmatrix!L99,)","v":0},{"$f":"IF(Entscheidungsgrundlage!$AX$20=\"x\",Urmatrix!M99,)","v":0},{"$f":"IF(Entscheidungsgrundlage!$AX$20=\"x\",Urmatrix!N99,)","v":0},{"$f":"IF(Entscheidungsgrundlage!$AX$20=\"x\",Urmatrix!O99,)","v":0},{"$f":"IF(Entscheidungsgrundlage!$AX$20=\"x\",Urmatrix!P99,)","v":0},{"$f":"IF(Entscheidungsgrundlage!$AX$20=\"x\",Urmatrix!Q99,)","v":0},{"$f":"IF(Entscheidungsgrundlage!$AX$20=\"x\",Urmatrix!R99,)","v":0},{"$f":"IF(Entscheidungsgrundlage!$AX$20=\"x\",Urmatrix!S99,)","v":0},{"$f":"IF(Entscheidungsgrundlage!$AX$20=\"x\",Urmatrix!T99,)","v":0},{"$f":"IF(Entscheidungsgrundlage!$AX$20=\"x\",Urmatrix!U99,)","v":0},{"$f":"IF(Entscheidungsgrundlage!$AX$20=\"x\",Urmatrix!V99,)","v":0},{"$f":"IF(Entscheidungsgrundlage!$AX$20=\"x\",Urmatrix!W99,)","v":0},{"$f":"IF(Entscheidungsgrundlage!$AX$20=\"x\",Urmatrix!X99,)","v":0},{"$f":"IF(Entscheidungsgrundlage!$AX$20=\"x\",Urmatrix!Y99,)","v":0},{"$f":"IF(Entscheidungsgrundlage!$AX$20=\"x\",Urmatrix!Z99,)","v":0},{"$f":"IF(Entscheidungsgrundlage!$AX$20=\"x\",Urmatrix!AA99,)","v":0},{"$f":"IF(Entscheidungsgrundlage!$AX$20=\"x\",Urmatrix!AB99,)","v":0},{"$f":"IF(Entscheidungsgrundlage!$AX$20=\"x\",Urmatrix!AC99,)","v":0},{"$f":"IF(Entscheidungsgrundlage!$AX$20=\"x\",Urmatrix!AD99,)","v":0},{"$f":"IF(Entscheidungsgrundlage!$AX$20=\"x\",Urmatrix!AE99,)","v":0},{"$f":"IF(Entscheidungsgrundlage!$AX$20=\"x\",Urmatrix!AF99,)","v":0},{"$f":"IF(Entscheidungsgrundlage!$AX$20=\"x\",Urmatrix!AG99,)","v":0},{"$f":"IF(Entscheidungsgrundlage!$AX$20=\"x\",Urmatrix!AH99,)","v":0},{"$f":"IF(Entscheidungsgrundlage!$AX$20=\"x\",Urmatrix!AI99,)","v":0},{"$f":"IF(Entscheidungsgrundlage!$AX$20=\"x\",Urmatrix!AJ99,)","v":0},{"$f":"IF(Entscheidungsgrundlage!$AX$20=\"x\",Urmatrix!AK99,)","v":0},{"$f":"IF(Entscheidungsgrundlage!$AX$20=\"x\",Urmatrix!AL99,)","v":0},{"$f":"IF(Entscheidungsgrundlage!$AX$20=\"x\",Urmatrix!AM99,)","v":0},{"$f":"IF(Entscheidungsgrundlage!$AX$20=\"x\",Urmatrix!AN99,)","v":0},{"$f":"IF(Entscheidungsgrundlage!$AX$20=\"x\",Urmatrix!AO99,)","v":0},{"$f":"IF(Entscheidungsgrundlage!$AX$20=\"x\",Urmatrix!AP99,)","v":0},{"$f":"IF(Entscheidungsgrundlage!$AX$20=\"x\",Urmatrix!AQ99,)","v":0},{"$f":"IF(Entscheidungsgrundlage!$AX$20=\"x\",Urmatrix!AR99,)","v":0},{"$f":"IF(Entscheidungsgrundlage!$AX$20=\"x\",Urmatrix!AS99,)","v":0},{"$f":"IF(Entscheidungsgrundlage!$AX$20=\"x\",Urmatrix!AT99,)","v":0},{"$f":"IF(Entscheidungsgrundlage!$AX$20=\"x\",Urmatrix!AU99,)","v":0},{"$f":"IF(Entscheidungsgrundlage!$AX$20=\"x\",Urmatrix!AV99,)","v":0},{"$f":"IF(Entscheidungsgrundlage!$AX$20=\"x\",Urmatrix!AW99,)","v":0},{"$f":"IF(Entscheidungsgrundlage!$AX$20=\"x\",Urmatrix!AX99,)","v":0},{"$f":"IF(Entscheidungsgrundlage!$AX$20=\"x\",Urmatrix!AY99,)","v":0},{"$f":"IF(Entscheidungsgrundlage!$AX$20=\"x\",Urmatrix!AZ99,)","v":0},{"$f":"IF(Entscheidungsgrundlage!$AX$20=\"x\",Urmatrix!BA99,)","v":0},{"$f":"IF(Entscheidungsgrundlage!$AX$20=\"x\",Urmatrix!BB99,)","v":0},{"$f":"IF(Entscheidungsgrundlage!$AX$20=\"x\",Urmatrix!BC99,)","v":0},{"$f":"IF(Entscheidungsgrundlage!$AX$20=\"x\",Urmatrix!BD99,)","v":0},{"$f":"IF(Entscheidungsgrundlage!$AX$20=\"x\",Urmatrix!BE99,)","v":0},{"$f":"IF(Entscheidungsgrundlage!$AX$20=\"x\",Urmatrix!BF99,)","v":0},{"$f":"IF(Entscheidungsgrundlage!$AX$20=\"x\",Urmatrix!BG99,)","v":0}]
[null,"Bußwolder",null,null,null,"involvierte Mitarbeiter","Einzelperson",null,{"$f":"IF(Entscheidungsgrundlage!$E$22=\"x\",Urmatrix!I100,)","v":0},{"$f":"IF(Entscheidungsgrundlage!$E$22=\"x\",Urmatrix!J100,)","v":0},{"$f":"IF(Entscheidungsgrundlage!$E$22=\"x\",Urmatrix!K100,)","v":0},{"$f":"IF(Entscheidungsgrundlage!$E$22=\"x\",Urmatrix!L100,)","v":0},{"$f":"IF(Entscheidungsgrundlage!$E$22=\"x\",Urmatrix!M100,)","v":0},{"$f":"IF(Entscheidungsgrundlage!$E$22=\"x\",Urmatrix!N100,)","v":0},{"$f":"IF(Entscheidungsgrundlage!$E$22=\"x\",Urmatrix!O100,)","v":0},{"$f":"IF(Entscheidungsgrundlage!$E$22=\"x\",Urmatrix!P100,)","v":0},{"$f":"IF(Entscheidungsgrundlage!$E$22=\"x\",Urmatrix!Q100,)","v":0},{"$f":"IF(Entscheidungsgrundlage!$E$22=\"x\",Urmatrix!R100,)","v":0},{"$f":"IF(Entscheidungsgrundlage!$E$22=\"x\",Urmatrix!S100,)","v":0},{"$f":"IF(Entscheidungsgrundlage!$E$22=\"x\",Urmatrix!T100,)","v":0},{"$f":"IF(Entscheidungsgrundlage!$E$22=\"x\",Urmatrix!U100,)","v":0},{"$f":"IF(Entscheidungsgrundlage!$E$22=\"x\",Urmatrix!V100,)","v":0},{"$f":"IF(Entscheidungsgrundlage!$E$22=\"x\",Urmatrix!W100,)","v":0},{"$f":"IF(Entscheidungsgrundlage!$E$22=\"x\",Urmatrix!X100,)","v":0},{"$f":"IF(Entscheidungsgrundlage!$E$22=\"x\",Urmatrix!Y100,)","v":0},{"$f":"IF(Entscheidungsgrundlage!$E$22=\"x\",Urmatrix!Z100,)","v":0},{"$f":"IF(Entscheidungsgrundlage!$E$22=\"x\",Urmatrix!AA100,)","v":0},{"$f":"IF(Entscheidungsgrundlage!$E$22=\"x\",Urmatrix!AB100,)","v":0},{"$f":"IF(Entscheidungsgrundlage!$E$22=\"x\",Urmatrix!AC100,)","v":0},{"$f":"IF(Entscheidungsgrundlage!$E$22=\"x\",Urmatrix!AD100,)","v":0},{"$f":"IF(Entscheidungsgrundlage!$E$22=\"x\",Urmatrix!AE100,)","v":0},{"$f":"IF(Entscheidungsgrundlage!$E$22=\"x\",Urmatrix!AF100,)","v":0},{"$f":"IF(Entscheidungsgrundlage!$E$22=\"x\",Urmatrix!AG100,)","v":0},{"$f":"IF(Entscheidungsgrundlage!$E$22=\"x\",Urmatrix!AH100,)","v":0},{"$f":"IF(Entscheidungsgrundlage!$E$22=\"x\",Urmatrix!AI100,)","v":0},{"$f":"IF(Entscheidungsgrundlage!$E$22=\"x\",Urmatrix!AJ100,)","v":0},{"$f":"IF(Entscheidungsgrundlage!$E$22=\"x\",Urmatrix!AK100,)","v":0},{"$f":"IF(Entscheidungsgrundlage!$E$22=\"x\",Urmatrix!AL100,)","v":0},{"$f":"IF(Entscheidungsgrundlage!$E$22=\"x\",Urmatrix!AM100,)","v":0},{"$f":"IF(Entscheidungsgrundlage!$E$22=\"x\",Urmatrix!AN100,)","v":0},{"$f":"IF(Entscheidungsgrundlage!$E$22=\"x\",Urmatrix!AO100,)","v":0},{"$f":"IF(Entscheidungsgrundlage!$E$22=\"x\",Urmatrix!AP100,)","v":0},{"$f":"IF(Entscheidungsgrundlage!$E$22=\"x\",Urmatrix!AQ100,)","v":0},{"$f":"IF(Entscheidungsgrundlage!$E$22=\"x\",Urmatrix!AR100,)","v":0},{"$f":"IF(Entscheidungsgrundlage!$E$22=\"x\",Urmatrix!AS100,)","v":0},{"$f":"IF(Entscheidungsgrundlage!$E$22=\"x\",Urmatrix!AT100,)","v":0},{"$f":"IF(Entscheidungsgrundlage!$E$22=\"x\",Urmatrix!AU100,)","v":0},{"$f":"IF(Entscheidungsgrundlage!$E$22=\"x\",Urmatrix!AV100,)","v":0},{"$f":"IF(Entscheidungsgrundlage!$E$22=\"x\",Urmatrix!AW100,)","v":0},{"$f":"IF(Entscheidungsgrundlage!$E$22=\"x\",Urmatrix!AX100,)","v":0},{"$f":"IF(Entscheidungsgrundlage!$E$22=\"x\",Urmatrix!AY100,)","v":0},{"$f":"IF(Entscheidungsgrundlage!$E$22=\"x\",Urmatrix!AZ100,)","v":0},{"$f":"IF(Entscheidungsgrundlage!$E$22=\"x\",Urmatrix!BA100,)","v":0},{"$f":"IF(Entscheidungsgrundlage!$E$22=\"x\",Urmatrix!BB100,)","v":0},{"$f":"IF(Entscheidungsgrundlage!$E$22=\"x\",Urmatrix!BC100,)","v":0},{"$f":"IF(Entscheidungsgrundlage!$E$22=\"x\",Urmatrix!BD100,)","v":0},{"$f":"IF(Entscheidungsgrundlage!$E$22=\"x\",Urmatrix!BE100,)","v":0},{"$f":"IF(Entscheidungsgrundlage!$E$22=\"x\",Urmatrix!BF100,)","v":0},{"$f":"IF(Entscheidungsgrundlage!$E$22=\"x\",Urmatrix!BG100,)","v":0}]
[null,null,null,null,null,null,"Gruppe (2-4)",null,{"$f":"IF(Entscheidungsgrundlage!$T$22=\"x\",Urmatrix!I101,)","v":0},{"$f":"IF(Entscheidungsgrundlage!$T$22=\"x\",Urmatrix!J101,)","v":0},{"$f":"IF(Entscheidungsgrundlage!$T$22=\"x\",Urmatrix!K101,)","v":0},{"$f":"IF(Entscheidungsgrundlage!$T$22=\"x\",Urmatrix!L101,)","v":0},{"$f":"IF(Entscheidungsgrundlage!$T$22=\"x\",Urmatrix!M101,)","v":0},{"$f":"IF(Entscheidungsgrundlage!$T$22=\"x\",Urmatrix!N101,)","v":0},{"$f":"IF(Entscheidungsgrundlage!$T$22=\"x\",Urmatrix!O101,)","v":0},{"$f":"IF(Entscheidungsgrundlage!$T$22=\"x\",Urmatrix!P101,)","v":0},{"$f":"IF(Entscheidungsgrundlage!$T$22=\"x\",Urmatrix!Q101,)","v":0},{"$f":"IF(Entscheidungsgrundlage!$T$22=\"x\",Urmatrix!R101,)","v":0},{"$f":"IF(Entscheidungsgrundlage!$T$22=\"x\",Urmatrix!S101,)","v":0},{"$f":"IF(Entscheidungsgrundlage!$T$22=\"x\",Urmatrix!T101,)","v":0},{"$f":"IF(Entscheidungsgrundlage!$T$22=\"x\",Urmatrix!U101,)","v":0},{"$f":"IF(Entscheidungsgrundlage!$T$22=\"x\",Urmatrix!V101,)","v":0},{"$f":"IF(Entscheidungsgrundlage!$T$22=\"x\",Urmatrix!W101,)","v":0},{"$f":"IF(Entscheidungsgrundlage!$T$22=\"x\",Urmatrix!X101,)","v":0},{"$f":"IF(Entscheidungsgrundlage!$T$22=\"x\",Urmatrix!Y101,)","v":0},{"$f":"IF(Entscheidungsgrundlage!$T$22=\"x\",Urmatrix!Z101,)","v":0},{"$f":"IF(Entscheidungsgrundlage!$T$22=\"x\",Urmatrix!AA101,)","v":0},{"$f":"IF(Entscheidungsgrundlage!$T$22=\"x\",Urmatrix!AB101,)","v":0},{"$f":"IF(Entscheidungsgrundlage!$T$22=\"x\",Urmatrix!AC101,)","v":0},{"$f":"IF(Entscheidungsgrundlage!$T$22=\"x\",Urmatrix!AD101,)","v":0},{"$f":"IF(Entscheidungsgrundlage!$T$22=\"x\",Urmatrix!AE101,)","v":0},{"$f":"IF(Entscheidungsgrundlage!$T$22=\"x\",Urmatrix!AF101,)","v":0},{"$f":"IF(Entscheidungsgrundlage!$T$22=\"x\",Urmatrix!AG101,)","v":0},{"$f":"IF(Entscheidungsgrundlage!$T$22=\"x\",Urmatrix!AH101,)","v":0},{"$f":"IF(Entscheidungsgrundlage!$T$22=\"x\",Urmatrix!AI101,)","v":0},{"$f":"IF(Entscheidungsgrundlage!$T$22=\"x\",Urmatrix!AJ101,)","v":0},{"$f":"IF(Entscheidungsgrundlage!$T$22=\"x\",Urmatrix!AK101,)","v":0},{"$f":"IF(Entscheidungsgrundlage!$T$22=\"x\",Urmatrix!AL101,)","v":0},{"$f":"IF(Entscheidungsgrundlage!$T$22=\"x\",Urmatrix!AM101,)","v":0},{"$f":"IF(Entscheidungsgrundlage!$T$22=\"x\",Urmatrix!AN101,)","v":0},{"$f":"IF(Entscheidungsgrundlage!$T$22=\"x\",Urmatrix!AO101,)","v":0},{"$f":"IF(Entscheidungsgrundlage!$T$22=\"x\",Urmatrix!AP101,)","v":0},{"$f":"IF(Entscheidungsgrundlage!$T$22=\"x\",Urmatrix!AQ101,)","v":0},{"$f":"IF(Entscheidungsgrundlage!$T$22=\"x\",Urmatrix!AR101,)","v":0},{"$f":"IF(Entscheidungsgrundlage!$T$22=\"x\",Urmatrix!AS101,)","v":0},{"$f":"IF(Entscheidungsgrundlage!$T$22=\"x\",Urmatrix!AT101,)","v":0},{"$f":"IF(Entscheidungsgrundlage!$T$22=\"x\",Urmatrix!AU101,)","v":0},{"$f":"IF(Entscheidungsgrundlage!$T$22=\"x\",Urmatrix!AV101,)","v":0},{"$f":"IF(Entscheidungsgrundlage!$T$22=\"x\",Urmatrix!AW101,)","v":0},{"$f":"IF(Entscheidungsgrundlage!$T$22=\"x\",Urmatrix!AX101,)","v":0},{"$f":"IF(Entscheidungsgrundlage!$T$22=\"x\",Urmatrix!AY101,)","v":0},{"$f":"IF(Entscheidungsgrundlage!$T$22=\"x\",Urmatrix!AZ101,)","v":0},{"$f":"IF(Entscheidungsgrundlage!$T$22=\"x\",Urmatrix!BA101,)","v":0},{"$f":"IF(Entscheidungsgrundlage!$T$22=\"x\",Urmatrix!BB101,)","v":0},{"$f":"IF(Entscheidungsgrundlage!$T$22=\"x\",Urmatrix!BC101,)","v":0},{"$f":"IF(Entscheidungsgrundlage!$T$22=\"x\",Urmatrix!BD101,)","v":0},{"$f":"IF(Entscheidungsgrundlage!$T$22=\"x\",Urmatrix!BE101,)","v":0},{"$f":"IF(Entscheidungsgrundlage!$T$22=\"x\",Urmatrix!BF101,)","v":0},{"$f":"IF(Entscheidungsgrundlage!$T$22=\"x\",Urmatrix!BG101,)","v":0}]
[null,null,null,null,null,null,"Team (5-12)",null,{"$f":"IF(Entscheidungsgrundlage!$AI$22=\"x\",Urmatrix!I102,)","v":0},{"$f":"IF(Entscheidungsgrundlage!$AI$22=\"x\",Urmatrix!J102,)","v":0},{"$f":"IF(Entscheidungsgrundlage!$AI$22=\"x\",Urmatrix!K102,)","v":0},{"$f":"IF(Entscheidungsgrundlage!$AI$22=\"x\",Urmatrix!L102,)","v":0},{"$f":"IF(Entscheidungsgrundlage!$AI$22=\"x\",Urmatrix!M102,)","v":0},{"$f":"IF(Entscheidungsgrundlage!$AI$22=\"x\",Urmatrix!N102,)","v":0},{"$f":"IF(Entscheidungsgrundlage!$AI$22=\"x\",Urmatrix!O102,)","v":0},{"$f":"IF(Entscheidungsgrundlage!$AI$22=\"x\",Urmatrix!P102,)","v":0},{"$f":"IF(Entscheidungsgrundlage!$AI$22=\"x\",Urmatrix!Q102,)","v":0},{"$f":"IF(Entscheidungsgrundlage!$AI$22=\"x\",Urmatrix!R102,)","v":0},{"$f":"IF(Entscheidungsgrundlage!$AI$22=\"x\",Urmatrix!S102,)","v":0},{"$f":"IF(Entscheidungsgrundlage!$AI$22=\"x\",Urmatrix!T102,)","v":0},{"$f":"IF(Entscheidungsgrundlage!$AI$22=\"x\",Urmatrix!U102,)","v":0},{"$f":"IF(Entscheidungsgrundlage!$AI$22=\"x\",Urmatrix!V102,)","v":0},{"$f":"IF(Entscheidungsgrundlage!$AI$22=\"x\",Urmatrix!W102,)","v":0},{"$f":"IF(Entscheidungsgrundlage!$AI$22=\"x\",Urmatrix!X102,)","v":0},{"$f":"IF(Entscheidungsgrundlage!$AI$22=\"x\",Urmatrix!Y102,)","v":0},{"$f":"IF(Entscheidungsgrundlage!$AI$22=\"x\",Urmatrix!Z102,)","v":0},{"$f":"IF(Entscheidungsgrundlage!$AI$22=\"x\",Urmatrix!AA102,)","v":0},{"$f":"IF(Entscheidungsgrundlage!$AI$22=\"x\",Urmatrix!AB102,)","v":0},{"$f":"IF(Entscheidungsgrundlage!$AI$22=\"x\",Urmatrix!AC102,)","v":0},{"$f":"IF(Entscheidungsgrundlage!$AI$22=\"x\",Urmatrix!AD102,)","v":0},{"$f":"IF(Entscheidungsgrundlage!$AI$22=\"x\",Urmatrix!AE102,)","v":0},{"$f":"IF(Entscheidungsgrundlage!$AI$22=\"x\",Urmatrix!AF102,)","v":0},{"$f":"IF(Entscheidungsgrundlage!$AI$22=\"x\",Urmatrix!AG102,)","v":0},{"$f":"IF(Entscheidungsgrundlage!$AI$22=\"x\",Urmatrix!AH102,)","v":0},{"$f":"IF(Entscheidungsgrundlage!$AI$22=\"x\",Urmatrix!AI102,)","v":0},{"$f":"IF(Entscheidungsgrundlage!$AI$22=\"x\",Urmatrix!AJ102,)","v":0},{"$f":"IF(Entscheidungsgrundlage!$AI$22=\"x\",Urmatrix!AK102,)","v":0},{"$f":"IF(Entscheidungsgrundlage!$AI$22=\"x\",Urmatrix!AL102,)","v":0},{"$f":"IF(Entscheidungsgrundlage!$AI$22=\"x\",Urmatrix!AM102,)","v":0},{"$f":"IF(Entscheidungsgrundlage!$AI$22=\"x\",Urmatrix!AN102,)","v":0},{"$f":"IF(Entscheidungsgrundlage!$AI$22=\"x\",Urmatrix!AO102,)","v":0},{"$f":"IF(Entscheidungsgrundlage!$AI$22=\"x\",Urmatrix!AP102,)","v":0},{"$f":"IF(Entscheidungsgrundlage!$AI$22=\"x\",Urmatrix!AQ102,)","v":0},{"$f":"IF(Entscheidungsgrundlage!$AI$22=\"x\",Urmatrix!AR102,)","v":0},{"$f":"IF(Entscheidungsgrundlage!$AI$22=\"x\",Urmatrix!AS102,)","v":0},{"$f":"IF(Entscheidungsgrundlage!$AI$22=\"x\",Urmatrix!AT102,)","v":0},{"$f":"IF(Entscheidungsgrundlage!$AI$22=\"x\",Urmatrix!AU102,)","v":0},{"$f":"IF(Entscheidungsgrundlage!$AI$22=\"x\",Urmatrix!AV102,)","v":0},{"$f":"IF(Entscheidungsgrundlage!$AI$22=\"x\",Urmatrix!AW102,)","v":0},{"$f":"IF(Entscheidungsgrundlage!$AI$22=\"x\",Urmatrix!AX102,)","v":0},{"$f":"IF(Entscheidungsgrundlage!$AI$22=\"x\",Urmatrix!AY102,)","v":0},{"$f":"IF(Entscheidungsgrundlage!$AI$22=\"x\",Urmatrix!AZ102,)","v":0},{"$f":"IF(Entscheidungsgrundlage!$AI$22=\"x\",Urmatrix!BA102,)","v":0},{"$f":"IF(Entscheidungsgrundlage!$AI$22=\"x\",Urmatrix!BB102,)","v":0},{"$f":"IF(Entscheidungsgrundlage!$AI$22=\"x\",Urmatrix!BC102,)","v":0},{"$f":"IF(Entscheidungsgrundlage!$AI$22=\"x\",Urmatrix!BD102,)","v":0},{"$f":"IF(Entscheidungsgrundlage!$AI$22=\"x\",Urmatrix!BE102,)","v":0},{"$f":"IF(Entscheidungsgrundlage!$AI$22=\"x\",Urmatrix!BF102,)","v":0},{"$f":"IF(Entscheidungsgrundlage!$AI$22=\"x\",Urmatrix!BG102,)","v":0}]
[null,null,null,null,null,null,"Mehrere Teams (>12)",null,{"$f":"IF(Entscheidungsgrundlage!$AX$22=\"x\",Urmatrix!I103,)","v":0},{"$f":"IF(Entscheidungsgrundlage!$AX$22=\"x\",Urmatrix!J103,)","v":0},{"$f":"IF(Entscheidungsgrundlage!$AX$22=\"x\",Urmatrix!K103,)","v":0},{"$f":"IF(Entscheidungsgrundlage!$AX$22=\"x\",Urmatrix!L103,)","v":0},{"$f":"IF(Entscheidungsgrundlage!$AX$22=\"x\",Urmatrix!M103,)","v":0},{"$f":"IF(Entscheidungsgrundlage!$AX$22=\"x\",Urmatrix!N103,)","v":0},{"$f":"IF(Entscheidungsgrundlage!$AX$22=\"x\",Urmatrix!O103,)","v":0},{"$f":"IF(Entscheidungsgrundlage!$AX$22=\"x\",Urmatrix!P103,)","v":0},{"$f":"IF(Entscheidungsgrundlage!$AX$22=\"x\",Urmatrix!Q103,)","v":0},{"$f":"IF(Entscheidungsgrundlage!$AX$22=\"x\",Urmatrix!R103,)","v":0},{"$f":"IF(Entscheidungsgrundlage!$AX$22=\"x\",Urmatrix!S103,)","v":0},{"$f":"IF(Entscheidungsgrundlage!$AX$22=\"x\",Urmatrix!T103,)","v":0},{"$f":"IF(Entscheidungsgrundlage!$AX$22=\"x\",Urmatrix!U103,)","v":0},{"$f":"IF(Entscheidungsgrundlage!$AX$22=\"x\",Urmatrix!V103,)","v":0},{"$f":"IF(Entscheidungsgrundlage!$AX$22=\"x\",Urmatrix!W103,)","v":0},{"$f":"IF(Entscheidungsgrundlage!$AX$22=\"x\",Urmatrix!X103,)","v":0},{"$f":"IF(Entscheidungsgrundlage!$AX$22=\"x\",Urmatrix!Y103,)","v":0},{"$f":"IF(Entscheidungsgrundlage!$AX$22=\"x\",Urmatrix!Z103,)","v":0},{"$f":"IF(Entscheidungsgrundlage!$AX$22=\"x\",Urmatrix!AA103,)","v":0},{"$f":"IF(Entscheidungsgrundlage!$AX$22=\"x\",Urmatrix!AB103,)","v":0},{"$f":"IF(Entscheidungsgrundlage!$AX$22=\"x\",Urmatrix!AC103,)","v":0},{"$f":"IF(Entscheidungsgrundlage!$AX$22=\"x\",Urmatrix!AD103,)","v":0},{"$f":"IF(Entscheidungsgrundlage!$AX$22=\"x\",Urmatrix!AE103,)","v":0},{"$f":"IF(Entscheidungsgrundlage!$AX$22=\"x\",Urmatrix!AF103,)","v":0},{"$f":"IF(Entscheidungsgrundlage!$AX$22=\"x\",Urmatrix!AG103,)","v":0},{"$f":"IF(Entscheidungsgrundlage!$AX$22=\"x\",Urmatrix!AH103,)","v":0},{"$f":"IF(Entscheidungsgrundlage!$AX$22=\"x\",Urmatrix!AI103,)","v":0},{"$f":"IF(Entscheidungsgrundlage!$AX$22=\"x\",Urmatrix!AJ103,)","v":0},{"$f":"IF(Entscheidungsgrundlage!$AX$22=\"x\",Urmatrix!AK103,)","v":0},{"$f":"IF(Entscheidungsgrundlage!$AX$22=\"x\",Urmatrix!AL103,)","v":0},{"$f":"IF(Entscheidungsgrundlage!$AX$22=\"x\",Urmatrix!AM103,)","v":0},{"$f":"IF(Entscheidungsgrundlage!$AX$22=\"x\",Urmatrix!AN103,)","v":0},{"$f":"IF(Entscheidungsgrundlage!$AX$22=\"x\",Urmatrix!AO103,)","v":0},{"$f":"IF(Entscheidungsgrundlage!$AX$22=\"x\",Urmatrix!AP103,)","v":0},{"$f":"IF(Entscheidungsgrundlage!$AX$22=\"x\",Urmatrix!AQ103,)","v":0},{"$f":"IF(Entscheidungsgrundlage!$AX$22=\"x\",Urmatrix!AR103,)","v":0},{"$f":"IF(Entscheidungsgrundlage!$AX$22=\"x\",Urmatrix!AS103,)","v":0},{"$f":"IF(Entscheidungsgrundlage!$AX$22=\"x\",Urmatrix!AT103,)","v":0},{"$f":"IF(Entscheidungsgrundlage!$AX$22=\"x\",Urmatrix!AU103,)","v":0},{"$f":"IF(Entscheidungsgrundlage!$AX$22=\"x\",Urmatrix!AV103,)","v":0},{"$f":"IF(Entscheidungsgrundlage!$AX$22=\"x\",Urmatrix!AW103,)","v":0},{"$f":"IF(Entscheidungsgrundlage!$AX$22=\"x\",Urmatrix!AX103,)","v":0},{"$f":"IF(Entscheidungsgrundlage!$AX$22=\"x\",Urmatrix!AY103,)","v":0},{"$f":"IF(Entscheidungsgrundlage!$AX$22=\"x\",Urmatrix!AZ103,)","v":0},{"$f":"IF(Entscheidungsgrundlage!$AX$22=\"x\",Urmatrix!BA103,)","v":0},{"$f":"IF(Entscheidungsgrundlage!$AX$22=\"x\",Urmatrix!BB103,)","v":0},{"$f":"IF(Entscheidungsgrundlage!$AX$22=\"x\",Urmatrix!BC103,)","v":0},{"$f":"IF(Entscheidungsgrundlage!$AX$22=\"x\",Urmatrix!BD103,)","v":0},{"$f":"IF(Entscheidungsgrundlage!$AX$22=\"x\",Urmatrix!BE103,)","v":0},{"$f":"IF(Entscheidungsgrundlage!$AX$22=\"x\",Urmatrix!BF103,)","v":0},{"$f":"IF(Entscheidungsgrundlage!$AX$22=\"x\",Urmatrix!BG103,)","v":0}]
[null,"Müller",null,null,null,"Qualifikation involvierter Mitarbeiter","individuelle Experten",null,{"$f":"IF(Entscheidungsgrundlage!$E$24=\"x\",Urmatrix!I104,)","v":0},{"$f":"IF(Entscheidungsgrundlage!$E$24=\"x\",Urmatrix!J104,)","v":0},{"$f":"IF(Entscheidungsgrundlage!$E$24=\"x\",Urmatrix!K104,)","v":0},{"$f":"IF(Entscheidungsgrundlage!$E$24=\"x\",Urmatrix!L104,)","v":0},{"$f":"IF(Entscheidungsgrundlage!$E$24=\"x\",Urmatrix!M104,)","v":0},{"$f":"IF(Entscheidungsgrundlage!$E$24=\"x\",Urmatrix!N104,)","v":0},{"$f":"IF(Entscheidungsgrundlage!$E$24=\"x\",Urmatrix!O104,)","v":0},{"$f":"IF(Entscheidungsgrundlage!$E$24=\"x\",Urmatrix!P104,)","v":0},{"$f":"IF(Entscheidungsgrundlage!$E$24=\"x\",Urmatrix!Q104,)","v":0},{"$f":"IF(Entscheidungsgrundlage!$E$24=\"x\",Urmatrix!R104,)","v":0},{"$f":"IF(Entscheidungsgrundlage!$E$24=\"x\",Urmatrix!S104,)","v":0},{"$f":"IF(Entscheidungsgrundlage!$E$24=\"x\",Urmatrix!T104,)","v":0},{"$f":"IF(Entscheidungsgrundlage!$E$24=\"x\",Urmatrix!U104,)","v":0},{"$f":"IF(Entscheidungsgrundlage!$E$24=\"x\",Urmatrix!V104,)","v":0},{"$f":"IF(Entscheidungsgrundlage!$E$24=\"x\",Urmatrix!W104,)","v":0},{"$f":"IF(Entscheidungsgrundlage!$E$24=\"x\",Urmatrix!X104,)","v":0},{"$f":"IF(Entscheidungsgrundlage!$E$24=\"x\",Urmatrix!Y104,)","v":0},{"$f":"IF(Entscheidungsgrundlage!$E$24=\"x\",Urmatrix!Z104,)","v":0},{"$f":"IF(Entscheidungsgrundlage!$E$24=\"x\",Urmatrix!AA104,)","v":0},{"$f":"IF(Entscheidungsgrundlage!$E$24=\"x\",Urmatrix!AB104,)","v":0},{"$f":"IF(Entscheidungsgrundlage!$E$24=\"x\",Urmatrix!AC104,)","v":0},{"$f":"IF(Entscheidungsgrundlage!$E$24=\"x\",Urmatrix!AD104,)","v":0},{"$f":"IF(Entscheidungsgrundlage!$E$24=\"x\",Urmatrix!AE104,)","v":0},{"$f":"IF(Entscheidungsgrundlage!$E$24=\"x\",Urmatrix!AF104,)","v":0},{"$f":"IF(Entscheidungsgrundlage!$E$24=\"x\",Urmatrix!AG104,)","v":0},{"$f":"IF(Entscheidungsgrundlage!$E$24=\"x\",Urmatrix!AH104,)","v":0},{"$f":"IF(Entscheidungsgrundlage!$E$24=\"x\",Urmatrix!AI104,)","v":0},{"$f":"IF(Entscheidungsgrundlage!$E$24=\"x\",Urmatrix!AJ104,)","v":0},{"$f":"IF(Entscheidungsgrundlage!$E$24=\"x\",Urmatrix!AK104,)","v":0},{"$f":"IF(Entscheidungsgrundlage!$E$24=\"x\",Urmatrix!AL104,)","v":0},{"$f":"IF(Entscheidungsgrundlage!$E$24=\"x\",Urmatrix!AM104,)","v":0},{"$f":"IF(Entscheidungsgrundlage!$E$24=\"x\",Urmatrix!AN104,)","v":0},{"$f":"IF(Entscheidungsgrundlage!$E$24=\"x\",Urmatrix!AO104,)","v":0},{"$f":"IF(Entscheidungsgrundlage!$E$24=\"x\",Urmatrix!AP104,)","v":0},{"$f":"IF(Entscheidungsgrundlage!$E$24=\"x\",Urmatrix!AQ104,)","v":0},{"$f":"IF(Entscheidungsgrundlage!$E$24=\"x\",Urmatrix!AR104,)","v":0},{"$f":"IF(Entscheidungsgrundlage!$E$24=\"x\",Urmatrix!AS104,)","v":0},{"$f":"IF(Entscheidungsgrundlage!$E$24=\"x\",Urmatrix!AT104,)","v":0},{"$f":"IF(Entscheidungsgrundlage!$E$24=\"x\",Urmatrix!AU104,)","v":0},{"$f":"IF(Entscheidungsgrundlage!$E$24=\"x\",Urmatrix!AV104,)","v":0},{"$f":"IF(Entscheidungsgrundlage!$E$24=\"x\",Urmatrix!AW104,)","v":0},{"$f":"IF(Entscheidungsgrundlage!$E$24=\"x\",Urmatrix!AX104,)","v":0},{"$f":"IF(Entscheidungsgrundlage!$E$24=\"x\",Urmatrix!AY104,)","v":0},{"$f":"IF(Entscheidungsgrundlage!$E$24=\"x\",Urmatrix!AZ104,)","v":0},{"$f":"IF(Entscheidungsgrundlage!$E$24=\"x\",Urmatrix!BA104,)","v":0},{"$f":"IF(Entscheidungsgrundlage!$E$24=\"x\",Urmatrix!BB104,)","v":0},{"$f":"IF(Entscheidungsgrundlage!$E$24=\"x\",Urmatrix!BC104,)","v":0},{"$f":"IF(Entscheidungsgrundlage!$E$24=\"x\",Urmatrix!BD104,)","v":0},{"$f":"IF(Entscheidungsgrundlage!$E$24=\"x\",Urmatrix!BE104,)","v":0},{"$f":"IF(Entscheidungsgrundlage!$E$24=\"x\",Urmatrix!BF104,)","v":0},{"$f":"IF(Entscheidungsgrundlage!$E$24=\"x\",Urmatrix!BG104,)","v":0}]
[null,null,null,null,null,null,"sensibilisierte Mitarbeiter ",null,{"$f":"IF(Entscheidungsgrundlage!$Y$24=\"x\",Urmatrix!I105,)","v":0},{"$f":"IF(Entscheidungsgrundlage!$Y$24=\"x\",Urmatrix!J105,)","v":0},{"$f":"IF(Entscheidungsgrundlage!$Y$24=\"x\",Urmatrix!K105,)","v":0},{"$f":"IF(Entscheidungsgrundlage!$Y$24=\"x\",Urmatrix!L105,)","v":0},{"$f":"IF(Entscheidungsgrundlage!$Y$24=\"x\",Urmatrix!M105,)","v":0},{"$f":"IF(Entscheidungsgrundlage!$Y$24=\"x\",Urmatrix!N105,)","v":0},{"$f":"IF(Entscheidungsgrundlage!$Y$24=\"x\",Urmatrix!O105,)","v":0},{"$f":"IF(Entscheidungsgrundlage!$Y$24=\"x\",Urmatrix!P105,)","v":0},{"$f":"IF(Entscheidungsgrundlage!$Y$24=\"x\",Urmatrix!Q105,)","v":0},{"$f":"IF(Entscheidungsgrundlage!$Y$24=\"x\",Urmatrix!R105,)","v":0},{"$f":"IF(Entscheidungsgrundlage!$Y$24=\"x\",Urmatrix!S105,)","v":0},{"$f":"IF(Entscheidungsgrundlage!$Y$24=\"x\",Urmatrix!T105,)","v":0},{"$f":"IF(Entscheidungsgrundlage!$Y$24=\"x\",Urmatrix!U105,)","v":0},{"$f":"IF(Entscheidungsgrundlage!$Y$24=\"x\",Urmatrix!V105,)","v":0},{"$f":"IF(Entscheidungsgrundlage!$Y$24=\"x\",Urmatrix!W105,)","v":0},{"$f":"IF(Entscheidungsgrundlage!$Y$24=\"x\",Urmatrix!X105,)","v":0},{"$f":"IF(Entscheidungsgrundlage!$Y$24=\"x\",Urmatrix!Y105,)","v":0},{"$f":"IF(Entscheidungsgrundlage!$Y$24=\"x\",Urmatrix!Z105,)","v":0},{"$f":"IF(Entscheidungsgrundlage!$Y$24=\"x\",Urmatrix!AA105,)","v":0},{"$f":"IF(Entscheidungsgrundlage!$Y$24=\"x\",Urmatrix!AB105,)","v":0},{"$f":"IF(Entscheidungsgrundlage!$Y$24=\"x\",Urmatrix!AC105,)","v":0},{"$f":"IF(Entscheidungsgrundlage!$Y$24=\"x\",Urmatrix!AD105,)","v":0},{"$f":"IF(Entscheidungsgrundlage!$Y$24=\"x\",Urmatrix!AE105,)","v":0},{"$f":"IF(Entscheidungsgrundlage!$Y$24=\"x\",Urmatrix!AF105,)","v":0},{"$f":"IF(Entscheidungsgrundlage!$Y$24=\"x\",Urmatrix!AG105,)","v":0},{"$f":"IF(Entscheidungsgrundlage!$Y$24=\"x\",Urmatrix!AH105,)","v":0},{"$f":"IF(Entscheidungsgrundlage!$Y$24=\"x\",Urmatrix!AI105,)","v":0},{"$f":"IF(Entscheidungsgrundlage!$Y$24=\"x\",Urmatrix!AJ105,)","v":0},{"$f":"IF(Entscheidungsgrundlage!$Y$24=\"x\",Urmatrix!AK105,)","v":0},{"$f":"IF(Entscheidungsgrundlage!$Y$24=\"x\",Urmatrix!AL105,)","v":0},{"$f":"IF(Entscheidungsgrundlage!$Y$24=\"x\",Urmatrix!AM105,)","v":0},{"$f":"IF(Entscheidungsgrundlage!$Y$24=\"x\",Urmatrix!AN105,)","v":0},{"$f":"IF(Entscheidungsgrundlage!$Y$24=\"x\",Urmatrix!AO105,)","v":0},{"$f":"IF(Entscheidungsgrundlage!$Y$24=\"x\",Urmatrix!AP105,)","v":0},{"$f":"IF(Entscheidungsgrundlage!$Y$24=\"x\",Urmatrix!AQ105,)","v":0},{"$f":"IF(Entscheidungsgrundlage!$Y$24=\"x\",Urmatrix!AR105,)","v":0},{"$f":"IF(Entscheidungsgrundlage!$Y$24=\"x\",Urmatrix!AS105,)","v":0},{"$f":"IF(Entscheidungsgrundlage!$Y$24=\"x\",Urmatrix!AT105,)","v":0},{"$f":"IF(Entscheidungsgrundlage!$Y$24=\"x\",Urmatrix!AU105,)","v":0},{"$f":"IF(Entscheidungsgrundlage!$Y$24=\"x\",Urmatrix!AV105,)","v":0},{"$f":"IF(Entscheidungsgrundlage!$Y$24=\"x\",Urmatrix!AW105,)","v":0},{"$f":"IF(Entscheidungsgrundlage!$Y$24=\"x\",Urmatrix!AX105,)","v":0},{"$f":"IF(Entscheidungsgrundlage!$Y$24=\"x\",Urmatrix!AY105,)","v":0},{"$f":"IF(Entscheidungsgrundlage!$Y$24=\"x\",Urmatrix!AZ105,)","v":0},{"$f":"IF(Entscheidungsgrundlage!$Y$24=\"x\",Urmatrix!BA105,)","v":0},{"$f":"IF(Entscheidungsgrundlage!$Y$24=\"x\",Urmatrix!BB105,)","v":0},{"$f":"IF(Entscheidungsgrundlage!$Y$24=\"x\",Urmatrix!BC105,)","v":0},{"$f":"IF(Entscheidungsgrundlage!$Y$24=\"x\",Urmatrix!BD105,)","v":0},{"$f":"IF(Entscheidungsgrundlage!$Y$24=\"x\",Urmatrix!BE105,)","v":0},{"$f":"IF(Entscheidungsgrundlage!$Y$24=\"x\",Urmatrix!BF105,)","v":0},{"$f":"IF(Entscheidungsgrundlage!$Y$24=\"x\",Urmatrix!BG105,)","v":0}]
[null,null,null,null,null,null,"anlauferfahrene Mitarbeiter",null,{"$f":"IF(Entscheidungsgrundlage!$AS$24=\"x\",Urmatrix!I106,)","v":0},{"$f":"IF(Entscheidungsgrundlage!$AS$24=\"x\",Urmatrix!J106,)","v":0},{"$f":"IF(Entscheidungsgrundlage!$AS$24=\"x\",Urmatrix!K106,)","v":0},{"$f":"IF(Entscheidungsgrundlage!$AS$24=\"x\",Urmatrix!L106,)","v":0},{"$f":"IF(Entscheidungsgrundlage!$AS$24=\"x\",Urmatrix!M106,)","v":0},{"$f":"IF(Entscheidungsgrundlage!$AS$24=\"x\",Urmatrix!N106,)","v":0},{"$f":"IF(Entscheidungsgrundlage!$AS$24=\"x\",Urmatrix!O106,)","v":0},{"$f":"IF(Entscheidungsgrundlage!$AS$24=\"x\",Urmatrix!P106,)","v":0},{"$f":"IF(Entscheidungsgrundlage!$AS$24=\"x\",Urmatrix!Q106,)","v":0},{"$f":"IF(Entscheidungsgrundlage!$AS$24=\"x\",Urmatrix!R106,)","v":0},{"$f":"IF(Entscheidungsgrundlage!$AS$24=\"x\",Urmatrix!S106,)","v":0},{"$f":"IF(Entscheidungsgrundlage!$AS$24=\"x\",Urmatrix!T106,)","v":0},{"$f":"IF(Entscheidungsgrundlage!$AS$24=\"x\",Urmatrix!U106,)","v":0},{"$f":"IF(Entscheidungsgrundlage!$AS$24=\"x\",Urmatrix!V106,)","v":0},{"$f":"IF(Entscheidungsgrundlage!$AS$24=\"x\",Urmatrix!W106,)","v":0},{"$f":"IF(Entscheidungsgrundlage!$AS$24=\"x\",Urmatrix!X106,)","v":0},{"$f":"IF(Entscheidungsgrundlage!$AS$24=\"x\",Urmatrix!Y106,)","v":0},{"$f":"IF(Entscheidungsgrundlage!$AS$24=\"x\",Urmatrix!Z106,)","v":0},{"$f":"IF(Entscheidungsgrundlage!$AS$24=\"x\",Urmatrix!AA106,)","v":0},{"$f":"IF(Entscheidungsgrundlage!$AS$24=\"x\",Urmatrix!AB106,)","v":0},{"$f":"IF(Entscheidungsgrundlage!$AS$24=\"x\",Urmatrix!AC106,)","v":0},{"$f":"IF(Entscheidungsgrundlage!$AS$24=\"x\",Urmatrix!AD106,)","v":0},{"$f":"IF(Entscheidungsgrundlage!$AS$24=\"x\",Urmatrix!AE106,)","v":0},{"$f":"IF(Entscheidungsgrundlage!$AS$24=\"x\",Urmatrix!AF106,)","v":0},{"$f":"IF(Entscheidungsgrundlage!$AS$24=\"x\",Urmatrix!AG106,)","v":0},{"$f":"IF(Entscheidungsgrundlage!$AS$24=\"x\",Urmatrix!AH106,)","v":0},{"$f":"IF(Entscheidungsgrundlage!$AS$24=\"x\",Urmatrix!AI106,)","v":0},{"$f":"IF(Entscheidungsgrundlage!$AS$24=\"x\",Urmatrix!AJ106,)","v":0},{"$f":"IF(Entscheidungsgrundlage!$AS$24=\"x\",Urmatrix!AK106,)","v":0},{"$f":"IF(Entscheidungsgrundlage!$AS$24=\"x\",Urmatrix!AL106,)","v":0},{"$f":"IF(Entscheidungsgrundlage!$AS$24=\"x\",Urmatrix!AM106,)","v":0},{"$f":"IF(Entscheidungsgrundlage!$AS$24=\"x\",Urmatrix!AN106,)","v":0},{"$f":"IF(Entscheidungsgrundlage!$AS$24=\"x\",Urmatrix!AO106,)","v":0},{"$f":"IF(Entscheidungsgrundlage!$AS$24=\"x\",Urmatrix!AP106,)","v":0},{"$f":"IF(Entscheidungsgrundlage!$AS$24=\"x\",Urmatrix!AQ106,)","v":0},{"$f":"IF(Entscheidungsgrundlage!$AS$24=\"x\",Urmatrix!AR106,)","v":0},{"$f":"IF(Entscheidungsgrundlage!$AS$24=\"x\",Urmatrix!AS106,)","v":0},{"$f":"IF(Entscheidungsgrundlage!$AS$24=\"x\",Urmatrix!AT106,)","v":0},{"$f":"IF(Entscheidungsgrundlage!$AS$24=\"x\",Urmatrix!AU106,)","v":0},{"$f":"IF(Entscheidungsgrundlage!$AS$24=\"x\",Urmatrix!AV106,)","v":0},{"$f":"IF(Entscheidungsgrundlage!$AS$24=\"x\",Urmatrix!AW106,)","v":0},{"$f":"IF(Entscheidungsgrundlage!$AS$24=\"x\",Urmatrix!AX106,)","v":0},{"$f":"IF(Entscheidungsgrundlage!$AS$24=\"x\",Urmatrix!AY106,)","v":0},{"$f":"IF(Entscheidungsgrundlage!$AS$24=\"x\",Urmatrix!AZ106,)","v":0},{"$f":"IF(Entscheidungsgrundlage!$AS$24=\"x\",Urmatrix!BA106,)","v":0},{"$f":"IF(Entscheidungsgrundlage!$AS$24=\"x\",Urmatrix!BB106,)","v":0},{"$f":"IF(Entscheidungsgrundlage!$AS$24=\"x\",Urmatrix!BC106,)","v":0},{"$f":"IF(Entscheidungsgrundlage!$AS$24=\"x\",Urmatrix!BD106,)","v":0},{"$f":"IF(Entscheidungsgrundlage!$AS$24=\"x\",Urmatrix!BE106,)","v":0},{"$f":"IF(Entscheidungsgrundlage!$AS$24=\"x\",Urmatrix!BF106,)","v":0},{"$f":"IF(Entscheidungsgrundlage!$AS$24=\"x\",Urmatrix!BG106,)","v":0}]
[null,"Nowacki",null,null,null,"Interdisziplinarität","Produktentwicklung",null,{"$f":"IF(Entscheidungsgrundlage!$E$26=\"x\",Urmatrix!I107,)","v":0},{"$f":"IF(Entscheidungsgrundlage!$E$26=\"x\",Urmatrix!J107,)","v":0},{"$f":"IF(Entscheidungsgrundlage!$E$26=\"x\",Urmatrix!K107,)","v":0},{"$f":"IF(Entscheidungsgrundlage!$E$26=\"x\",Urmatrix!L107,)","v":0},{"$f":"IF(Entscheidungsgrundlage!$E$26=\"x\",Urmatrix!M107,)","v":0},{"$f":"IF(Entscheidungsgrundlage!$E$26=\"x\",Urmatrix!N107,)","v":0},{"$f":"IF(Entscheidungsgrundlage!$E$26=\"x\",Urmatrix!O107,)","v":0},{"$f":"IF(Entscheidungsgrundlage!$E$26=\"x\",Urmatrix!P107,)","v":0},{"$f":"IF(Entscheidungsgrundlage!$E$26=\"x\",Urmatrix!Q107,)","v":0},{"$f":"IF(Entscheidungsgrundlage!$E$26=\"x\",Urmatrix!R107,)","v":0},{"$f":"IF(Entscheidungsgrundlage!$E$26=\"x\",Urmatrix!S107,)","v":0},{"$f":"IF(Entscheidungsgrundlage!$E$26=\"x\",Urmatrix!T107,)","v":0},{"$f":"IF(Entscheidungsgrundlage!$E$26=\"x\",Urmatrix!U107,)","v":0},{"$f":"IF(Entscheidungsgrundlage!$E$26=\"x\",Urmatrix!V107,)","v":0},{"$f":"IF(Entscheidungsgrundlage!$E$26=\"x\",Urmatrix!W107,)","v":0},{"$f":"IF(Entscheidungsgrundlage!$E$26=\"x\",Urmatrix!X107,)","v":0},{"$f":"IF(Entscheidungsgrundlage!$E$26=\"x\",Urmatrix!Y107,)","v":0},{"$f":"IF(Entscheidungsgrundlage!$E$26=\"x\",Urmatrix!Z107,)","v":0},{"$f":"IF(Entscheidungsgrundlage!$E$26=\"x\",Urmatrix!AA107,)","v":0},{"$f":"IF(Entscheidungsgrundlage!$E$26=\"x\",Urmatrix!AB107,)","v":0},{"$f":"IF(Entscheidungsgrundlage!$E$26=\"x\",Urmatrix!AC107,)","v":0},{"$f":"IF(Entscheidungsgrundlage!$E$26=\"x\",Urmatrix!AD107,)","v":0},{"$f":"IF(Entscheidungsgrundlage!$E$26=\"x\",Urmatrix!AE107,)","v":0},{"$f":"IF(Entscheidungsgrundlage!$E$26=\"x\",Urmatrix!AF107,)","v":0},{"$f":"IF(Entscheidungsgrundlage!$E$26=\"x\",Urmatrix!AG107,)","v":0},{"$f":"IF(Entscheidungsgrundlage!$E$26=\"x\",Urmatrix!AH107,)","v":0},{"$f":"IF(Entscheidungsgrundlage!$E$26=\"x\",Urmatrix!AI107,)","v":0},{"$f":"IF(Entscheidungsgrundlage!$E$26=\"x\",Urmatrix!AJ107,)","v":0},{"$f":"IF(Entscheidungsgrundlage!$E$26=\"x\",Urmatrix!AK107,)","v":0},{"$f":"IF(Entscheidungsgrundlage!$E$26=\"x\",Urmatrix!AL107,)","v":0},{"$f":"IF(Entscheidungsgrundlage!$E$26=\"x\",Urmatrix!AM107,)","v":0},{"$f":"IF(Entscheidungsgrundlage!$E$26=\"x\",Urmatrix!AN107,)","v":0},{"$f":"IF(Entscheidungsgrundlage!$E$26=\"x\",Urmatrix!AO107,)","v":0},{"$f":"IF(Entscheidungsgrundlage!$E$26=\"x\",Urmatrix!AP107,)","v":0},{"$f":"IF(Entscheidungsgrundlage!$E$26=\"x\",Urmatrix!AQ107,)","v":0},{"$f":"IF(Entscheidungsgrundlage!$E$26=\"x\",Urmatrix!AR107,)","v":0},{"$f":"IF(Entscheidungsgrundlage!$E$26=\"x\",Urmatrix!AS107,)","v":0},{"$f":"IF(Entscheidungsgrundlage!$E$26=\"x\",Urmatrix!AT107,)","v":0},{"$f":"IF(Entscheidungsgrundlage!$E$26=\"x\",Urmatrix!AU107,)","v":0},{"$f":"IF(Entscheidungsgrundlage!$E$26=\"x\",Urmatrix!AV107,)","v":0},{"$f":"IF(Entscheidungsgrundlage!$E$26=\"x\",Urmatrix!AW107,)","v":0},{"$f":"IF(Entscheidungsgrundlage!$E$26=\"x\",Urmatrix!AX107,)","v":0},{"$f":"IF(Entscheidungsgrundlage!$E$26=\"x\",Urmatrix!AY107,)","v":0},{"$f":"IF(Entscheidungsgrundlage!$E$26=\"x\",Urmatrix!AZ107,)","v":0},{"$f":"IF(Entscheidungsgrundlage!$E$26=\"x\",Urmatrix!BA107,)","v":0},{"$f":"IF(Entscheidungsgrundlage!$E$26=\"x\",Urmatrix!BB107,)","v":0},{"$f":"IF(Entscheidungsgrundlage!$E$26=\"x\",Urmatrix!BC107,)","v":0},{"$f":"IF(Entscheidungsgrundlage!$E$26=\"x\",Urmatrix!BD107,)","v":0},{"$f":"IF(Entscheidungsgrundlage!$E$26=\"x\",Urmatrix!BE107,)","v":0},{"$f":"IF(Entscheidungsgrundlage!$E$26=\"x\",Urmatrix!BF107,)","v":0},{"$f":"IF(Entscheidungsgrundlage!$E$26=\"x\",Urmatrix!BG107,)","v":0}]
[null,null,null,null,null,null,"Technologieplanung",null,{"$f":"IF(Entscheidungsgrundlage!$O$26=\"x\",Urmatrix!I108,)","v":0},{"$f":"IF(Entscheidungsgrundlage!$O$26=\"x\",Urmatrix!J108,)","v":0},{"$f":"IF(Entscheidungsgrundlage!$O$26=\"x\",Urmatrix!K108,)","v":0},{"$f":"IF(Entscheidungsgrundlage!$O$26=\"x\",Urmatrix!L108,)","v":0},{"$f":"IF(Entscheidungsgrundlage!$O$26=\"x\",Urmatrix!M108,)","v":0},{"$f":"IF(Entscheidungsgrundlage!$O$26=\"x\",Urmatrix!N108,)","v":0},{"$f":"IF(Entscheidungsgrundlage!$O$26=\"x\",Urmatrix!O108,)","v":0},{"$f":"IF(Entscheidungsgrundlage!$O$26=\"x\",Urmatrix!P108,)","v":0},{"$f":"IF(Entscheidungsgrundlage!$O$26=\"x\",Urmatrix!Q108,)","v":0},{"$f":"IF(Entscheidungsgrundlage!$O$26=\"x\",Urmatrix!R108,)","v":0},{"$f":"IF(Entscheidungsgrundlage!$O$26=\"x\",Urmatrix!S108,)","v":0},{"$f":"IF(Entscheidungsgrundlage!$O$26=\"x\",Urmatrix!T108,)","v":0},{"$f":"IF(Entscheidungsgrundlage!$O$26=\"x\",Urmatrix!U108,)","v":0},{"$f":"IF(Entscheidungsgrundlage!$O$26=\"x\",Urmatrix!V108,)","v":0},{"$f":"IF(Entscheidungsgrundlage!$O$26=\"x\",Urmatrix!W108,)","v":0},{"$f":"IF(Entscheidungsgrundlage!$O$26=\"x\",Urmatrix!X108,)","v":0},{"$f":"IF(Entscheidungsgrundlage!$O$26=\"x\",Urmatrix!Y108,)","v":0},{"$f":"IF(Entscheidungsgrundlage!$O$26=\"x\",Urmatrix!Z108,)","v":0},{"$f":"IF(Entscheidungsgrundlage!$O$26=\"x\",Urmatrix!AA108,)","v":0},{"$f":"IF(Entscheidungsgrundlage!$O$26=\"x\",Urmatrix!AB108,)","v":0},{"$f":"IF(Entscheidungsgrundlage!$O$26=\"x\",Urmatrix!AC108,)","v":0},{"$f":"IF(Entscheidungsgrundlage!$O$26=\"x\",Urmatrix!AD108,)","v":0},{"$f":"IF(Entscheidungsgrundlage!$O$26=\"x\",Urmatrix!AE108,)","v":0},{"$f":"IF(Entscheidungsgrundlage!$O$26=\"x\",Urmatrix!AF108,)","v":0},{"$f":"IF(Entscheidungsgrundlage!$O$26=\"x\",Urmatrix!AG108,)","v":0},{"$f":"IF(Entscheidungsgrundlage!$O$26=\"x\",Urmatrix!AH108,)","v":0},{"$f":"IF(Entscheidungsgrundlage!$O$26=\"x\",Urmatrix!AI108,)","v":0},{"$f":"IF(Entscheidungsgrundlage!$O$26=\"x\",Urmatrix!AJ108,)","v":0},{"$f":"IF(Entscheidungsgrundlage!$O$26=\"x\",Urmatrix!AK108,)","v":0},{"$f":"IF(Entscheidungsgrundlage!$O$26=\"x\",Urmatrix!AL108,)","v":0},{"$f":"IF(Entscheidungsgrundlage!$O$26=\"x\",Urmatrix!AM108,)","v":0},{"$f":"IF(Entscheidungsgrundlage!$O$26=\"x\",Urmatrix!AN108,)","v":0},{"$f":"IF(Entscheidungsgrundlage!$O$26=\"x\",Urmatrix!AO108,)","v":0},{"$f":"IF(Entscheidungsgrundlage!$O$26=\"x\",Urmatrix!AP108,)","v":0},{"$f":"IF(Entscheidungsgrundlage!$O$26=\"x\",Urmatrix!AQ108,)","v":0},{"$f":"IF(Entscheidungsgrundlage!$O$26=\"x\",Urmatrix!AR108,)","v":0},{"$f":"IF(Entscheidungsgrundlage!$O$26=\"x\",Urmatrix!AS108,)","v":0},{"$f":"IF(Entscheidungsgrundlage!$O$26=\"x\",Urmatrix!AT108,)","v":0},{"$f":"IF(Entscheidungsgrundlage!$O$26=\"x\",Urmatrix!AU108,)","v":0},{"$f":"IF(Entscheidungsgrundlage!$O$26=\"x\",Urmatrix!AV108,)","v":0},{"$f":"IF(Entscheidungsgrundlage!$O$26=\"x\",Urmatrix!AW108,)","v":0},{"$f":"IF(Entscheidungsgrundlage!$O$26=\"x\",Urmatrix!AX108,)","v":0},{"$f":"IF(Entscheidungsgrundlage!$O$26=\"x\",Urmatrix!AY108,)","v":0},{"$f":"IF(Entscheidungsgrundlage!$O$26=\"x\",Urmatrix!AZ108,)","v":0},{"$f":"IF(Entscheidungsgrundlage!$O$26=\"x\",Urmatrix!BA108,)","v":0},{"$f":"IF(Entscheidungsgrundlage!$O$26=\"x\",Urmatrix!BB108,)","v":0},{"$f":"IF(Entscheidungsgrundlage!$O$26=\"x\",Urmatrix!BC108,)","v":0},{"$f":"IF(Entscheidungsgrundlage!$O$26=\"x\",Urmatrix!BD108,)","v":0},{"$f":"IF(Entscheidungsgrundlage!$O$26=\"x\",Urmatrix!BE108,)","v":0},{"$f":"IF(Entscheidungsgrundlage!$O$26=\"x\",Urmatrix!BF108,)","v":0},{"$f":"IF(Entscheidungsgrundlage!$O$26=\"x\",Urmatrix!BG108,)","v":0}]
[null,null,null,null,null,null,"Logistik",null,{"$f":"IF(Entscheidungsgrundlage!$Y$26=\"x\",Urmatrix!I109,)","v":0},{"$f":"IF(Entscheidungsgrundlage!$Y$26=\"x\",Urmatrix!J109,)","v":0},{"$f":"IF(Entscheidungsgrundlage!$Y$26=\"x\",Urmatrix!K109,)","v":0},{"$f":"IF(Entscheidungsgrundlage!$Y$26=\"x\",Urmatrix!L109,)","v":0},{"$f":"IF(Entscheidungsgrundlage!$Y$26=\"x\",Urmatrix!M109,)","v":0},{"$f":"IF(Entscheidungsgrundlage!$Y$26=\"x\",Urmatrix!N109,)","v":0},{"$f":"IF(Entscheidungsgrundlage!$Y$26=\"x\",Urmatrix!O109,)","v":0},{"$f":"IF(Entscheidungsgrundlage!$Y$26=\"x\",Urmatrix!P109,)","v":0},{"$f":"IF(Entscheidungsgrundlage!$Y$26=\"x\",Urmatrix!Q109,)","v":0},{"$f":"IF(Entscheidungsgrundlage!$Y$26=\"x\",Urmatrix!R109,)","v":0},{"$f":"IF(Entscheidungsgrundlage!$Y$26=\"x\",Urmatrix!S109,)","v":0},{"$f":"IF(Entscheidungsgrundlage!$Y$26=\"x\",Urmatrix!T109,)","v":0},{"$f":"IF(Entscheidungsgrundlage!$Y$26=\"x\",Urmatrix!U109,)","v":0},{"$f":"IF(Entscheidungsgrundlage!$Y$26=\"x\",Urmatrix!V109,)","v":0},{"$f":"IF(Entscheidungsgrundlage!$Y$26=\"x\",Urmatrix!W109,)","v":0},{"$f":"IF(Entscheidungsgrundlage!$Y$26=\"x\",Urmatrix!X109,)","v":0},{"$f":"IF(Entscheidungsgrundlage!$Y$26=\"x\",Urmatrix!Y109,)","v":0},{"$f":"IF(Entscheidungsgrundlage!$Y$26=\"x\",Urmatrix!Z109,)","v":0},{"$f":"IF(Entscheidungsgrundlage!$Y$26=\"x\",Urmatrix!AA109,)","v":0},{"$f":"IF(Entscheidungsgrundlage!$Y$26=\"x\",Urmatrix!AB109,)","v":0},{"$f":"IF(Entscheidungsgrundlage!$Y$26=\"x\",Urmatrix!AC109,)","v":0},{"$f":"IF(Entscheidungsgrundlage!$Y$26=\"x\",Urmatrix!AD109,)","v":0},{"$f":"IF(Entscheidungsgrundlage!$Y$26=\"x\",Urmatrix!AE109,)","v":0},{"$f":"IF(Entscheidungsgrundlage!$Y$26=\"x\",Urmatrix!AF109,)","v":0},{"$f":"IF(Entscheidungsgrundlage!$Y$26=\"x\",Urmatrix!AG109,)","v":0},{"$f":"IF(Entscheidungsgrundlage!$Y$26=\"x\",Urmatrix!AH109,)","v":0},{"$f":"IF(Entscheidungsgrundlage!$Y$26=\"x\",Urmatrix!AI109,)","v":0},{"$f":"IF(Entscheidungsgrundlage!$Y$26=\"x\",Urmatrix!AJ109,)","v":0},{"$f":"IF(Entscheidungsgrundlage!$Y$26=\"x\",Urmatrix!AK109,)","v":0},{"$f":"IF(Entscheidungsgrundlage!$Y$26=\"x\",Urmatrix!AL109,)","v":0},{"$f":"IF(Entscheidungsgrundlage!$Y$26=\"x\",Urmatrix!AM109,)","v":0},{"$f":"IF(Entscheidungsgrundlage!$Y$26=\"x\",Urmatrix!AN109,)","v":0},{"$f":"IF(Entscheidungsgrundlage!$Y$26=\"x\",Urmatrix!AO109,)","v":0},{"$f":"IF(Entscheidungsgrundlage!$Y$26=\"x\",Urmatrix!AP109,)","v":0},{"$f":"IF(Entscheidungsgrundlage!$Y$26=\"x\",Urmatrix!AQ109,)","v":0},{"$f":"IF(Entscheidungsgrundlage!$Y$26=\"x\",Urmatrix!AR109,)","v":0},{"$f":"IF(Entscheidungsgrundlage!$Y$26=\"x\",Urmatrix!AS109,)","v":0},{"$f":"IF(Entscheidungsgrundlage!$Y$26=\"x\",Urmatrix!AT109,)","v":0},{"$f":"IF(Entscheidungsgrundlage!$Y$26=\"x\",Urmatrix!AU109,)","v":0},{"$f":"IF(Entscheidungsgrundlage!$Y$26=\"x\",Urmatrix!AV109,)","v":0},{"$f":"IF(Entscheidungsgrundlage!$Y$26=\"x\",Urmatrix!AW109,)","v":0},{"$f":"IF(Entscheidungsgrundlage!$Y$26=\"x\",Urmatrix!AX109,)","v":0},{"$f":"IF(Entscheidungsgrundlage!$Y$26=\"x\",Urmatrix!AY109,)","v":0},{"$f":"IF(Entscheidungsgrundlage!$Y$26=\"x\",Urmatrix!AZ109,)","v":0},{"$f":"IF(Entscheidungsgrundlage!$Y$26=\"x\",Urmatrix!BA109,)","v":0},{"$f":"IF(Entscheidungsgrundlage!$Y$26=\"x\",Urmatrix!BB109,)","v":0},{"$f":"IF(Entscheidungsgrundlage!$Y$26=\"x\",Urmatrix!BC109,)","v":0},{"$f":"IF(Entscheidungsgrundlage!$Y$26=\"x\",Urmatrix!BD109,)","v":0},{"$f":"IF(Entscheidungsgrundlage!$Y$26=\"x\",Urmatrix!BE109,)","v":0},{"$f":"IF(Entscheidungsgrundlage!$Y$26=\"x\",Urmatrix!BF109,)","v":0},{"$f":"IF(Entscheidungsgrundlage!$Y$26=\"x\",Urmatrix!BG109,)","v":0}]
[null,null,null,null,null,null,"Qualität",null,{"$f":"IF(Entscheidungsgrundlage!$AI$26=\"x\",Urmatrix!I110,)","v":0},{"$f":"IF(Entscheidungsgrundlage!$AI$26=\"x\",Urmatrix!J110,)","v":0},{"$f":"IF(Entscheidungsgrundlage!$AI$26=\"x\",Urmatrix!K110,)","v":0},{"$f":"IF(Entscheidungsgrundlage!$AI$26=\"x\",Urmatrix!L110,)","v":0},{"$f":"IF(Entscheidungsgrundlage!$AI$26=\"x\",Urmatrix!M110,)","v":0},{"$f":"IF(Entscheidungsgrundlage!$AI$26=\"x\",Urmatrix!N110,)","v":0},{"$f":"IF(Entscheidungsgrundlage!$AI$26=\"x\",Urmatrix!O110,)","v":0},{"$f":"IF(Entscheidungsgrundlage!$AI$26=\"x\",Urmatrix!P110,)","v":0},{"$f":"IF(Entscheidungsgrundlage!$AI$26=\"x\",Urmatrix!Q110,)","v":0},{"$f":"IF(Entscheidungsgrundlage!$AI$26=\"x\",Urmatrix!R110,)","v":0},{"$f":"IF(Entscheidungsgrundlage!$AI$26=\"x\",Urmatrix!S110,)","v":0},{"$f":"IF(Entscheidungsgrundlage!$AI$26=\"x\",Urmatrix!T110,)","v":0},{"$f":"IF(Entscheidungsgrundlage!$AI$26=\"x\",Urmatrix!U110,)","v":0},{"$f":"IF(Entscheidungsgrundlage!$AI$26=\"x\",Urmatrix!V110,)","v":0},{"$f":"IF(Entscheidungsgrundlage!$AI$26=\"x\",Urmatrix!W110,)","v":0},{"$f":"IF(Entscheidungsgrundlage!$AI$26=\"x\",Urmatrix!X110,)","v":0},{"$f":"IF(Entscheidungsgrundlage!$AI$26=\"x\",Urmatrix!Y110,)","v":0},{"$f":"IF(Entscheidungsgrundlage!$AI$26=\"x\",Urmatrix!Z110,)","v":0},{"$f":"IF(Entscheidungsgrundlage!$AI$26=\"x\",Urmatrix!AA110,)","v":0},{"$f":"IF(Entscheidungsgrundlage!$AI$26=\"x\",Urmatrix!AB110,)","v":0},{"$f":"IF(Entscheidungsgrundlage!$AI$26=\"x\",Urmatrix!AC110,)","v":0},{"$f":"IF(Entscheidungsgrundlage!$AI$26=\"x\",Urmatrix!AD110,)","v":0},{"$f":"IF(Entscheidungsgrundlage!$AI$26=\"x\",Urmatrix!AE110,)","v":0},{"$f":"IF(Entscheidungsgrundlage!$AI$26=\"x\",Urmatrix!AF110,)","v":0},{"$f":"IF(Entscheidungsgrundlage!$AI$26=\"x\",Urmatrix!AG110,)","v":0},{"$f":"IF(Entscheidungsgrundlage!$AI$26=\"x\",Urmatrix!AH110,)","v":0},{"$f":"IF(Entscheidungsgrundlage!$AI$26=\"x\",Urmatrix!AI110,)","v":0},{"$f":"IF(Entscheidungsgrundlage!$AI$26=\"x\",Urmatrix!AJ110,)","v":0},{"$f":"IF(Entscheidungsgrundlage!$AI$26=\"x\",Urmatrix!AK110,)","v":0},{"$f":"IF(Entscheidungsgrundlage!$AI$26=\"x\",Urmatrix!AL110,)","v":0},{"$f":"IF(Entscheidungsgrundlage!$AI$26=\"x\",Urmatrix!AM110,)","v":0},{"$f":"IF(Entscheidungsgrundlage!$AI$26=\"x\",Urmatrix!AN110,)","v":0},{"$f":"IF(Entscheidungsgrundlage!$AI$26=\"x\",Urmatrix!AO110,)","v":0},{"$f":"IF(Entscheidungsgrundlage!$AI$26=\"x\",Urmatrix!AP110,)","v":0},{"$f":"IF(Entscheidungsgrundlage!$AI$26=\"x\",Urmatrix!AQ110,)","v":0},{"$f":"IF(Entscheidungsgrundlage!$AI$26=\"x\",Urmatrix!AR110,)","v":0},{"$f":"IF(Entscheidungsgrundlage!$AI$26=\"x\",Urmatrix!AS110,)","v":0},{"$f":"IF(Entscheidungsgrundlage!$AI$26=\"x\",Urmatrix!AT110,)","v":0},{"$f":"IF(Entscheidungsgrundlage!$AI$26=\"x\",Urmatrix!AU110,)","v":0},{"$f":"IF(Entscheidungsgrundlage!$AI$26=\"x\",Urmatrix!AV110,)","v":0},{"$f":"IF(Entscheidungsgrundlage!$AI$26=\"x\",Urmatrix!AW110,)","v":0},{"$f":"IF(Entscheidungsgrundlage!$AI$26=\"x\",Urmatrix!AX110,)","v":0},{"$f":"IF(Entscheidungsgrundlage!$AI$26=\"x\",Urmatrix!AY110,)","v":0},{"$f":"IF(Entscheidungsgrundlage!$AI$26=\"x\",Urmatrix!AZ110,)","v":0},{"$f":"IF(Entscheidungsgrundlage!$AI$26=\"x\",Urmatrix!BA110,)","v":0},{"$f":"IF(Entscheidungsgrundlage!$AI$26=\"x\",Urmatrix!BB110,)","v":0},{"$f":"IF(Entscheidungsgrundlage!$AI$26=\"x\",Urmatrix!BC110,)","v":0},{"$f":"IF(Entscheidungsgrundlage!$AI$26=\"x\",Urmatrix!BD110,)","v":0},{"$f":"IF(Entscheidungsgrundlage!$AI$26=\"x\",Urmatrix!BE110,)","v":0},{"$f":"IF(Entscheidungsgrundlage!$AI$26=\"x\",Urmatrix!BF110,)","v":0},{"$f":"IF(Entscheidungsgrundlage!$AI$26=\"x\",Urmatrix!BG110,)","v":0}]
[null,null,null,null,null,null,"Fabikplanung",null,{"$f":"IF(Entscheidungsgrundlage!$AS$26=\"x\",Urmatrix!I111,)","v":0},{"$f":"IF(Entscheidungsgrundlage!$AS$26=\"x\",Urmatrix!J111,)","v":0},{"$f":"IF(Entscheidungsgrundlage!$AS$26=\"x\",Urmatrix!K111,)","v":0},{"$f":"IF(Entscheidungsgrundlage!$AS$26=\"x\",Urmatrix!L111,)","v":0},{"$f":"IF(Entscheidungsgrundlage!$AS$26=\"x\",Urmatrix!M111,)","v":0},{"$f":"IF(Entscheidungsgrundlage!$AS$26=\"x\",Urmatrix!N111,)","v":0},{"$f":"IF(Entscheidungsgrundlage!$AS$26=\"x\",Urmatrix!O111,)","v":0},{"$f":"IF(Entscheidungsgrundlage!$AS$26=\"x\",Urmatrix!P111,)","v":0},{"$f":"IF(Entscheidungsgrundlage!$AS$26=\"x\",Urmatrix!Q111,)","v":0},{"$f":"IF(Entscheidungsgrundlage!$AS$26=\"x\",Urmatrix!R111,)","v":0},{"$f":"IF(Entscheidungsgrundlage!$AS$26=\"x\",Urmatrix!S111,)","v":0},{"$f":"IF(Entscheidungsgrundlage!$AS$26=\"x\",Urmatrix!T111,)","v":0},{"$f":"IF(Entscheidungsgrundlage!$AS$26=\"x\",Urmatrix!U111,)","v":0},{"$f":"IF(Entscheidungsgrundlage!$AS$26=\"x\",Urmatrix!V111,)","v":0},{"$f":"IF(Entscheidungsgrundlage!$AS$26=\"x\",Urmatrix!W111,)","v":0},{"$f":"IF(Entscheidungsgrundlage!$AS$26=\"x\",Urmatrix!X111,)","v":0},{"$f":"IF(Entscheidungsgrundlage!$AS$26=\"x\",Urmatrix!Y111,)","v":0},{"$f":"IF(Entscheidungsgrundlage!$AS$26=\"x\",Urmatrix!Z111,)","v":0},{"$f":"IF(Entscheidungsgrundlage!$AS$26=\"x\",Urmatrix!AA111,)","v":0},{"$f":"IF(Entscheidungsgrundlage!$AS$26=\"x\",Urmatrix!AB111,)","v":0},{"$f":"IF(Entscheidungsgrundlage!$AS$26=\"x\",Urmatrix!AC111,)","v":0},{"$f":"IF(Entscheidungsgrundlage!$AS$26=\"x\",Urmatrix!AD111,)","v":0},{"$f":"IF(Entscheidungsgrundlage!$AS$26=\"x\",Urmatrix!AE111,)","v":0},{"$f":"IF(Entscheidungsgrundlage!$AS$26=\"x\",Urmatrix!AF111,)","v":0},{"$f":"IF(Entscheidungsgrundlage!$AS$26=\"x\",Urmatrix!AG111,)","v":0},{"$f":"IF(Entscheidungsgrundlage!$AS$26=\"x\",Urmatrix!AH111,)","v":0},{"$f":"IF(Entscheidungsgrundlage!$AS$26=\"x\",Urmatrix!AI111,)","v":0},{"$f":"IF(Entscheidungsgrundlage!$AS$26=\"x\",Urmatrix!AJ111,)","v":0},{"$f":"IF(Entscheidungsgrundlage!$AS$26=\"x\",Urmatrix!AK111,)","v":0},{"$f":"IF(Entscheidungsgrundlage!$AS$26=\"x\",Urmatrix!AL111,)","v":0},{"$f":"IF(Entscheidungsgrundlage!$AS$26=\"x\",Urmatrix!AM111,)","v":0},{"$f":"IF(Entscheidungsgrundlage!$AS$26=\"x\",Urmatrix!AN111,)","v":0},{"$f":"IF(Entscheidungsgrundlage!$AS$26=\"x\",Urmatrix!AO111,)","v":0},{"$f":"IF(Entscheidungsgrundlage!$AS$26=\"x\",Urmatrix!AP111,)","v":0},{"$f":"IF(Entscheidungsgrundlage!$AS$26=\"x\",Urmatrix!AQ111,)","v":0},{"$f":"IF(Entscheidungsgrundlage!$AS$26=\"x\",Urmatrix!AR111,)","v":0},{"$f":"IF(Entscheidungsgrundlage!$AS$26=\"x\",Urmatrix!AS111,)","v":0},{"$f":"IF(Entscheidungsgrundlage!$AS$26=\"x\",Urmatrix!AT111,)","v":0},{"$f":"IF(Entscheidungsgrundlage!$AS$26=\"x\",Urmatrix!AU111,)","v":0},{"$f":"IF(Entscheidungsgrundlage!$AS$26=\"x\",Urmatrix!AV111,)","v":0},{"$f":"IF(Entscheidungsgrundlage!$AS$26=\"x\",Urmatrix!AW111,)","v":0},{"$f":"IF(Entscheidungsgrundlage!$AS$26=\"x\",Urmatrix!AX111,)","v":0},{"$f":"IF(Entscheidungsgrundlage!$AS$26=\"x\",Urmatrix!AY111,)","v":0},{"$f":"IF(Entscheidungsgrundlage!$AS$26=\"x\",Urmatrix!AZ111,)","v":0},{"$f":"IF(Entscheidungsgrundlage!$AS$26=\"x\",Urmatrix!BA111,)","v":0},{"$f":"IF(Entscheidungsgrundlage!$AS$26=\"x\",Urmatrix!BB111,)","v":0},{"$f":"IF(Entscheidungsgrundlage!$AS$26=\"x\",Urmatrix!BC111,)","v":0},{"$f":"IF(Entscheidungsgrundlage!$AS$26=\"x\",Urmatrix!BD111,)","v":0},{"$f":"IF(Entscheidungsgrundlage!$AS$26=\"x\",Urmatrix!BE111,)","v":0},{"$f":"IF(Entscheidungsgrundlage!$AS$26=\"x\",Urmatrix!BF111,)","v":0},{"$f":"IF(Entscheidungsgrundlage!$AS$26=\"x\",Urmatrix!BG111,)","v":0}]
[null,null,null,null,null,null,"Serienproduktion",null,{"$f":"IF(Entscheidungsgrundlage!$BC$26=\"x\",Urmatrix!I112,)","v":0},{"$f":"IF(Entscheidungsgrundlage!$BC$26=\"x\",Urmatrix!J112,)","v":0},{"$f":"IF(Entscheidungsgrundlage!$BC$26=\"x\",Urmatrix!K112,)","v":0},{"$f":"IF(Entscheidungsgrundlage!$BC$26=\"x\",Urmatrix!L112,)","v":0},{"$f":"IF(Entscheidungsgrundlage!$BC$26=\"x\",Urmatrix!M112,)","v":0},{"$f":"IF(Entscheidungsgrundlage!$BC$26=\"x\",Urmatrix!N112,)","v":0},{"$f":"IF(Entscheidungsgrundlage!$BC$26=\"x\",Urmatrix!O112,)","v":0},{"$f":"IF(Entscheidungsgrundlage!$BC$26=\"x\",Urmatrix!P112,)","v":0},{"$f":"IF(Entscheidungsgrundlage!$BC$26=\"x\",Urmatrix!Q112,)","v":0},{"$f":"IF(Entscheidungsgrundlage!$BC$26=\"x\",Urmatrix!R112,)","v":0},{"$f":"IF(Entscheidungsgrundlage!$BC$26=\"x\",Urmatrix!S112,)","v":0},{"$f":"IF(Entscheidungsgrundlage!$BC$26=\"x\",Urmatrix!T112,)","v":0},{"$f":"IF(Entscheidungsgrundlage!$BC$26=\"x\",Urmatrix!U112,)","v":0},{"$f":"IF(Entscheidungsgrundlage!$BC$26=\"x\",Urmatrix!V112,)","v":0},{"$f":"IF(Entscheidungsgrundlage!$BC$26=\"x\",Urmatrix!W112,)","v":0},{"$f":"IF(Entscheidungsgrundlage!$BC$26=\"x\",Urmatrix!X112,)","v":0},{"$f":"IF(Entscheidungsgrundlage!$BC$26=\"x\",Urmatrix!Y112,)","v":0},{"$f":"IF(Entscheidungsgrundlage!$BC$26=\"x\",Urmatrix!Z112,)","v":0},{"$f":"IF(Entscheidungsgrundlage!$BC$26=\"x\",Urmatrix!AA112,)","v":0},{"$f":"IF(Entscheidungsgrundlage!$BC$26=\"x\",Urmatrix!AB112,)","v":0},{"$f":"IF(Entscheidungsgrundlage!$BC$26=\"x\",Urmatrix!AC112,)","v":0},{"$f":"IF(Entscheidungsgrundlage!$BC$26=\"x\",Urmatrix!AD112,)","v":0},{"$f":"IF(Entscheidungsgrundlage!$BC$26=\"x\",Urmatrix!AE112,)","v":0},{"$f":"IF(Entscheidungsgrundlage!$BC$26=\"x\",Urmatrix!AF112,)","v":0},{"$f":"IF(Entscheidungsgrundlage!$BC$26=\"x\",Urmatrix!AG112,)","v":0},{"$f":"IF(Entscheidungsgrundlage!$BC$26=\"x\",Urmatrix!AH112,)","v":0},{"$f":"IF(Entscheidungsgrundlage!$BC$26=\"x\",Urmatrix!AI112,)","v":0},{"$f":"IF(Entscheidungsgrundlage!$BC$26=\"x\",Urmatrix!AJ112,)","v":0},{"$f":"IF(Entscheidungsgrundlage!$BC$26=\"x\",Urmatrix!AK112,)","v":0},{"$f":"IF(Entscheidungsgrundlage!$BC$26=\"x\",Urmatrix!AL112,)","v":0},{"$f":"IF(Entscheidungsgrundlage!$BC$26=\"x\",Urmatrix!AM112,)","v":0},{"$f":"IF(Entscheidungsgrundlage!$BC$26=\"x\",Urmatrix!AN112,)","v":0},{"$f":"IF(Entscheidungsgrundlage!$BC$26=\"x\",Urmatrix!AO112,)","v":0},{"$f":"IF(Entscheidungsgrundlage!$BC$26=\"x\",Urmatrix!AP112,)","v":0},{"$f":"IF(Entscheidungsgrundlage!$BC$26=\"x\",Urmatrix!AQ112,)","v":0},{"$f":"IF(Entscheidungsgrundlage!$BC$26=\"x\",Urmatrix!AR112,)","v":0},{"$f":"IF(Entscheidungsgrundlage!$BC$26=\"x\",Urmatrix!AS112,)","v":0},{"$f":"IF(Entscheidungsgrundlage!$BC$26=\"x\",Urmatrix!AT112,)","v":0},{"$f":"IF(Entscheidungsgrundlage!$BC$26=\"x\",Urmatrix!AU112,)","v":0},{"$f":"IF(Entscheidungsgrundlage!$BC$26=\"x\",Urmatrix!AV112,)","v":0},{"$f":"IF(Entscheidungsgrundlage!$BC$26=\"x\",Urmatrix!AW112,)","v":0},{"$f":"IF(Entscheidungsgrundlage!$BC$26=\"x\",Urmatrix!AX112,)","v":0},{"$f":"IF(Entscheidungsgrundlage!$BC$26=\"x\",Urmatrix!AY112,)","v":0},{"$f":"IF(Entscheidungsgrundlage!$BC$26=\"x\",Urmatrix!AZ112,)","v":0},{"$f":"IF(Entscheidungsgrundlage!$BC$26=\"x\",Urmatrix!BA112,)","v":0},{"$f":"IF(Entscheidungsgrundlage!$BC$26=\"x\",Urmatrix!BB112,)","v":0},{"$f":"IF(Entscheidungsgrundlage!$BC$26=\"x\",Urmatrix!BC112,)","v":0},{"$f":"IF(Entscheidungsgrundlage!$BC$26=\"x\",Urmatrix!BD112,)","v":0},{"$f":"IF(Entscheidungsgrundlage!$BC$26=\"x\",Urmatrix!BE112,)","v":0},{"$f":"IF(Entscheidungsgrundlage!$BC$26=\"x\",Urmatrix!BF112,)","v":0},{"$f":"IF(Entscheidungsgrundlage!$BC$26=\"x\",Urmatrix!BG112,)","v":0}]
[null,null,null,null,null,null,"Einkauf",null,{"$f":"IF(Entscheidungsgrundlage!$E$28=\"x\",Urmatrix!I113,)","v":0},{"$f":"IF(Entscheidungsgrundlage!$E$28=\"x\",Urmatrix!J113,)","v":0},{"$f":"IF(Entscheidungsgrundlage!$E$28=\"x\",Urmatrix!K113,)","v":0},{"$f":"IF(Entscheidungsgrundlage!$E$28=\"x\",Urmatrix!L113,)","v":0},{"$f":"IF(Entscheidungsgrundlage!$E$28=\"x\",Urmatrix!M113,)","v":0},{"$f":"IF(Entscheidungsgrundlage!$E$28=\"x\",Urmatrix!N113,)","v":0},{"$f":"IF(Entscheidungsgrundlage!$E$28=\"x\",Urmatrix!O113,)","v":0},{"$f":"IF(Entscheidungsgrundlage!$E$28=\"x\",Urmatrix!P113,)","v":0},{"$f":"IF(Entscheidungsgrundlage!$E$28=\"x\",Urmatrix!Q113,)","v":0},{"$f":"IF(Entscheidungsgrundlage!$E$28=\"x\",Urmatrix!R113,)","v":0},{"$f":"IF(Entscheidungsgrundlage!$E$28=\"x\",Urmatrix!S113,)","v":0},{"$f":"IF(Entscheidungsgrundlage!$E$28=\"x\",Urmatrix!T113,)","v":0},{"$f":"IF(Entscheidungsgrundlage!$E$28=\"x\",Urmatrix!U113,)","v":0},{"$f":"IF(Entscheidungsgrundlage!$E$28=\"x\",Urmatrix!V113,)","v":0},{"$f":"IF(Entscheidungsgrundlage!$E$28=\"x\",Urmatrix!W113,)","v":0},{"$f":"IF(Entscheidungsgrundlage!$E$28=\"x\",Urmatrix!X113,)","v":0},{"$f":"IF(Entscheidungsgrundlage!$E$28=\"x\",Urmatrix!Y113,)","v":0},{"$f":"IF(Entscheidungsgrundlage!$E$28=\"x\",Urmatrix!Z113,)","v":0},{"$f":"IF(Entscheidungsgrundlage!$E$28=\"x\",Urmatrix!AA113,)","v":0},{"$f":"IF(Entscheidungsgrundlage!$E$28=\"x\",Urmatrix!AB113,)","v":0},{"$f":"IF(Entscheidungsgrundlage!$E$28=\"x\",Urmatrix!AC113,)","v":0},{"$f":"IF(Entscheidungsgrundlage!$E$28=\"x\",Urmatrix!AD113,)","v":0},{"$f":"IF(Entscheidungsgrundlage!$E$28=\"x\",Urmatrix!AE113,)","v":0},{"$f":"IF(Entscheidungsgrundlage!$E$28=\"x\",Urmatrix!AF113,)","v":0},{"$f":"IF(Entscheidungsgrundlage!$E$28=\"x\",Urmatrix!AG113,)","v":0},{"$f":"IF(Entscheidungsgrundlage!$E$28=\"x\",Urmatrix!AH113,)","v":0},{"$f":"IF(Entscheidungsgrundlage!$E$28=\"x\",Urmatrix!AI113,)","v":0},{"$f":"IF(Entscheidungsgrundlage!$E$28=\"x\",Urmatrix!AJ113,)","v":0},{"$f":"IF(Entscheidungsgrundlage!$E$28=\"x\",Urmatrix!AK113,)","v":0},{"$f":"IF(Entscheidungsgrundlage!$E$28=\"x\",Urmatrix!AL113,)","v":0},{"$f":"IF(Entscheidungsgrundlage!$E$28=\"x\",Urmatrix!AM113,)","v":0},{"$f":"IF(Entscheidungsgrundlage!$E$28=\"x\",Urmatrix!AN113,)","v":0},{"$f":"IF(Entscheidungsgrundlage!$E$28=\"x\",Urmatrix!AO113,)","v":0},{"$f":"IF(Entscheidungsgrundlage!$E$28=\"x\",Urmatrix!AP113,)","v":0},{"$f":"IF(Entscheidungsgrundlage!$E$28=\"x\",Urmatrix!AQ113,)","v":0},{"$f":"IF(Entscheidungsgrundlage!$E$28=\"x\",Urmatrix!AR113,)","v":0},{"$f":"IF(Entscheidungsgrundlage!$E$28=\"x\",Urmatrix!AS113,)","v":0},{"$f":"IF(Entscheidungsgrundlage!$E$28=\"x\",Urmatrix!AT113,)","v":0},{"$f":"IF(Entscheidungsgrundlage!$E$28=\"x\",Urmatrix!AU113,)","v":0},{"$f":"IF(Entscheidungsgrundlage!$E$28=\"x\",Urmatrix!AV113,)","v":0},{"$f":"IF(Entscheidungsgrundlage!$E$28=\"x\",Urmatrix!AW113,)","v":0},{"$f":"IF(Entscheidungsgrundlage!$E$28=\"x\",Urmatrix!AX113,)","v":0},{"$f":"IF(Entscheidungsgrundlage!$E$28=\"x\",Urmatrix!AY113,)","v":0},{"$f":"IF(Entscheidungsgrundlage!$E$28=\"x\",Urmatrix!AZ113,)","v":0},{"$f":"IF(Entscheidungsgrundlage!$E$28=\"x\",Urmatrix!BA113,)","v":0},{"$f":"IF(Entscheidungsgrundlage!$E$28=\"x\",Urmatrix!BB113,)","v":0},{"$f":"IF(Entscheidungsgrundlage!$E$28=\"x\",Urmatrix!BC113,)","v":0},{"$f":"IF(Entscheidungsgrundlage!$E$28=\"x\",Urmatrix!BD113,)","v":0},{"$f":"IF(Entscheidungsgrundlage!$E$28=\"x\",Urmatrix!BE113,)","v":0},{"$f":"IF(Entscheidungsgrundlage!$E$28=\"x\",Urmatrix!BF113,)","v":0},{"$f":"IF(Entscheidungsgrundlage!$E$28=\"x\",Urmatrix!BG113,)","v":0}]
[null,null,null,null,null,null,"Vertrieb/ Produktmanagement",null,{"$f":"IF(Entscheidungsgrundlage!$O$28=\"x\",Urmatrix!I114,)","v":0},{"$f":"IF(Entscheidungsgrundlage!$O$28=\"x\",Urmatrix!J114,)","v":0},{"$f":"IF(Entscheidungsgrundlage!$O$28=\"x\",Urmatrix!K114,)","v":0},{"$f":"IF(Entscheidungsgrundlage!$O$28=\"x\",Urmatrix!L114,)","v":0},{"$f":"IF(Entscheidungsgrundlage!$O$28=\"x\",Urmatrix!M114,)","v":0},{"$f":"IF(Entscheidungsgrundlage!$O$28=\"x\",Urmatrix!N114,)","v":0},{"$f":"IF(Entscheidungsgrundlage!$O$28=\"x\",Urmatrix!O114,)","v":0},{"$f":"IF(Entscheidungsgrundlage!$O$28=\"x\",Urmatrix!P114,)","v":0},{"$f":"IF(Entscheidungsgrundlage!$O$28=\"x\",Urmatrix!Q114,)","v":0},{"$f":"IF(Entscheidungsgrundlage!$O$28=\"x\",Urmatrix!R114,)","v":0},{"$f":"IF(Entscheidungsgrundlage!$O$28=\"x\",Urmatrix!S114,)","v":0},{"$f":"IF(Entscheidungsgrundlage!$O$28=\"x\",Urmatrix!T114,)","v":0},{"$f":"IF(Entscheidungsgrundlage!$O$28=\"x\",Urmatrix!U114,)","v":0},{"$f":"IF(Entscheidungsgrundlage!$O$28=\"x\",Urmatrix!V114,)","v":0},{"$f":"IF(Entscheidungsgrundlage!$O$28=\"x\",Urmatrix!W114,)","v":0},{"$f":"IF(Entscheidungsgrundlage!$O$28=\"x\",Urmatrix!X114,)","v":0},{"$f":"IF(Entscheidungsgrundlage!$O$28=\"x\",Urmatrix!Y114,)","v":0},{"$f":"IF(Entscheidungsgrundlage!$O$28=\"x\",Urmatrix!Z114,)","v":0},{"$f":"IF(Entscheidungsgrundlage!$O$28=\"x\",Urmatrix!AA114,)","v":0},{"$f":"IF(Entscheidungsgrundlage!$O$28=\"x\",Urmatrix!AB114,)","v":0},{"$f":"IF(Entscheidungsgrundlage!$O$28=\"x\",Urmatrix!AC114,)","v":0},{"$f":"IF(Entscheidungsgrundlage!$O$28=\"x\",Urmatrix!AD114,)","v":0},{"$f":"IF(Entscheidungsgrundlage!$O$28=\"x\",Urmatrix!AE114,)","v":0},{"$f":"IF(Entscheidungsgrundlage!$O$28=\"x\",Urmatrix!AF114,)","v":0},{"$f":"IF(Entscheidungsgrundlage!$O$28=\"x\",Urmatrix!AG114,)","v":0},{"$f":"IF(Entscheidungsgrundlage!$O$28=\"x\",Urmatrix!AH114,)","v":0},{"$f":"IF(Entscheidungsgrundlage!$O$28=\"x\",Urmatrix!AI114,)","v":0},{"$f":"IF(Entscheidungsgrundlage!$O$28=\"x\",Urmatrix!AJ114,)","v":0},{"$f":"IF(Entscheidungsgrundlage!$O$28=\"x\",Urmatrix!AK114,)","v":0},{"$f":"IF(Entscheidungsgrundlage!$O$28=\"x\",Urmatrix!AL114,)","v":0},{"$f":"IF(Entscheidungsgrundlage!$O$28=\"x\",Urmatrix!AM114,)","v":0},{"$f":"IF(Entscheidungsgrundlage!$O$28=\"x\",Urmatrix!AN114,)","v":0},{"$f":"IF(Entscheidungsgrundlage!$O$28=\"x\",Urmatrix!AO114,)","v":0},{"$f":"IF(Entscheidungsgrundlage!$O$28=\"x\",Urmatrix!AP114,)","v":0},{"$f":"IF(Entscheidungsgrundlage!$O$28=\"x\",Urmatrix!AQ114,)","v":0},{"$f":"IF(Entscheidungsgrundlage!$O$28=\"x\",Urmatrix!AR114,)","v":0},{"$f":"IF(Entscheidungsgrundlage!$O$28=\"x\",Urmatrix!AS114,)","v":0},{"$f":"IF(Entscheidungsgrundlage!$O$28=\"x\",Urmatrix!AT114,)","v":0},{"$f":"IF(Entscheidungsgrundlage!$O$28=\"x\",Urmatrix!AU114,)","v":0},{"$f":"IF(Entscheidungsgrundlage!$O$28=\"x\",Urmatrix!AV114,)","v":0},{"$f":"IF(Entscheidungsgrundlage!$O$28=\"x\",Urmatrix!AW114,)","v":0},{"$f":"IF(Entscheidungsgrundlage!$O$28=\"x\",Urmatrix!AX114,)","v":0},{"$f":"IF(Entscheidungsgrundlage!$O$28=\"x\",Urmatrix!AY114,)","v":0},{"$f":"IF(Entscheidungsgrundlage!$O$28=\"x\",Urmatrix!AZ114,)","v":0},{"$f":"IF(Entscheidungsgrundlage!$O$28=\"x\",Urmatrix!BA114,)","v":0},{"$f":"IF(Entscheidungsgrundlage!$O$28=\"x\",Urmatrix!BB114,)","v":0},{"$f":"IF(Entscheidungsgrundlage!$O$28=\"x\",Urmatrix!BC114,)","v":0},{"$f":"IF(Entscheidungsgrundlage!$O$28=\"x\",Urmatrix!BD114,)","v":0},{"$f":"IF(Entscheidungsgrundlage!$O$28=\"x\",Urmatrix!BE114,)","v":0},{"$f":"IF(Entscheidungsgrundlage!$O$28=\"x\",Urmatrix!BF114,)","v":0},{"$f":"IF(Entscheidungsgrundlage!$O$28=\"x\",Urmatrix!BG114,)","v":0}]
[null,null,null,null,null,null,"Geschäftsführung",null,{"$f":"IF(Entscheidungsgrundlage!$Y$28=\"x\",Urmatrix!I115,)","v":0},{"$f":"IF(Entscheidungsgrundlage!$Y$28=\"x\",Urmatrix!J115,)","v":0},{"$f":"IF(Entscheidungsgrundlage!$Y$28=\"x\",Urmatrix!K115,)","v":0},{"$f":"IF(Entscheidungsgrundlage!$Y$28=\"x\",Urmatrix!L115,)","v":0},{"$f":"IF(Entscheidungsgrundlage!$Y$28=\"x\",Urmatrix!M115,)","v":0},{"$f":"IF(Entscheidungsgrundlage!$Y$28=\"x\",Urmatrix!N115,)","v":0},{"$f":"IF(Entscheidungsgrundlage!$Y$28=\"x\",Urmatrix!O115,)","v":0},{"$f":"IF(Entscheidungsgrundlage!$Y$28=\"x\",Urmatrix!P115,)","v":0},{"$f":"IF(Entscheidungsgrundlage!$Y$28=\"x\",Urmatrix!Q115,)","v":0},{"$f":"IF(Entscheidungsgrundlage!$Y$28=\"x\",Urmatrix!R115,)","v":0},{"$f":"IF(Entscheidungsgrundlage!$Y$28=\"x\",Urmatrix!S115,)","v":0},{"$f":"IF(Entscheidungsgrundlage!$Y$28=\"x\",Urmatrix!T115,)","v":0},{"$f":"IF(Entscheidungsgrundlage!$Y$28=\"x\",Urmatrix!U115,)","v":0},{"$f":"IF(Entscheidungsgrundlage!$Y$28=\"x\",Urmatrix!V115,)","v":0},{"$f":"IF(Entscheidungsgrundlage!$Y$28=\"x\",Urmatrix!W115,)","v":0},{"$f":"IF(Entscheidungsgrundlage!$Y$28=\"x\",Urmatrix!X115,)","v":0},{"$f":"IF(Entscheidungsgrundlage!$Y$28=\"x\",Urmatrix!Y115,)","v":0},{"$f":"IF(Entscheidungsgrundlage!$Y$28=\"x\",Urmatrix!Z115,)","v":0},{"$f":"IF(Entscheidungsgrundlage!$Y$28=\"x\",Urmatrix!AA115,)","v":0},{"$f":"IF(Entscheidungsgrundlage!$Y$28=\"x\",Urmatrix!AB115,)","v":0},{"$f":"IF(Entscheidungsgrundlage!$Y$28=\"x\",Urmatrix!AC115,)","v":0},{"$f":"IF(Entscheidungsgrundlage!$Y$28=\"x\",Urmatrix!AD115,)","v":0},{"$f":"IF(Entscheidungsgrundlage!$Y$28=\"x\",Urmatrix!AE115,)","v":0},{"$f":"IF(Entscheidungsgrundlage!$Y$28=\"x\",Urmatrix!AF115,)","v":0},{"$f":"IF(Entscheidungsgrundlage!$Y$28=\"x\",Urmatrix!AG115,)","v":0},{"$f":"IF(Entscheidungsgrundlage!$Y$28=\"x\",Urmatrix!AH115,)","v":0},{"$f":"IF(Entscheidungsgrundlage!$Y$28=\"x\",Urmatrix!AI115,)","v":0},{"$f":"IF(Entscheidungsgrundlage!$Y$28=\"x\",Urmatrix!AJ115,)","v":0},{"$f":"IF(Entscheidungsgrundlage!$Y$28=\"x\",Urmatrix!AK115,)","v":0},{"$f":"IF(Entscheidungsgrundlage!$Y$28=\"x\",Urmatrix!AL115,)","v":0},{"$f":"IF(Entscheidungsgrundlage!$Y$28=\"x\",Urmatrix!AM115,)","v":0},{"$f":"IF(Entscheidungsgrundlage!$Y$28=\"x\",Urmatrix!AN115,)","v":0},{"$f":"IF(Entscheidungsgrundlage!$Y$28=\"x\",Urmatrix!AO115,)","v":0},{"$f":"IF(Entscheidungsgrundlage!$Y$28=\"x\",Urmatrix!AP115,)","v":0},{"$f":"IF(Entscheidungsgrundlage!$Y$28=\"x\",Urmatrix!AQ115,)","v":0},{"$f":"IF(Entscheidungsgrundlage!$Y$28=\"x\",Urmatrix!AR115,)","v":0},{"$f":"IF(Entscheidungsgrundlage!$Y$28=\"x\",Urmatrix!AS115,)","v":0},{"$f":"IF(Entscheidungsgrundlage!$Y$28=\"x\",Urmatrix!AT115,)","v":0},{"$f":"IF(Entscheidungsgrundlage!$Y$28=\"x\",Urmatrix!AU115,)","v":0},{"$f":"IF(Entscheidungsgrundlage!$Y$28=\"x\",Urmatrix!AV115,)","v":0},{"$f":"IF(Entscheidungsgrundlage!$Y$28=\"x\",Urmatrix!AW115,)","v":0},{"$f":"IF(Entscheidungsgrundlage!$Y$28=\"x\",Urmatrix!AX115,)","v":0},{"$f":"IF(Entscheidungsgrundlage!$Y$28=\"x\",Urmatrix!AY115,)","v":0},{"$f":"IF(Entscheidungsgrundlage!$Y$28=\"x\",Urmatrix!AZ115,)","v":0},{"$f":"IF(Entscheidungsgrundlage!$Y$28=\"x\",Urmatrix!BA115,)","v":0},{"$f":"IF(Entscheidungsgrundlage!$Y$28=\"x\",Urmatrix!BB115,)","v":0},{"$f":"IF(Entscheidungsgrundlage!$Y$28=\"x\",Urmatrix!BC115,)","v":0},{"$f":"IF(Entscheidungsgrundlage!$Y$28=\"x\",Urmatrix!BD115,)","v":0},{"$f":"IF(Entscheidungsgrundlage!$Y$28=\"x\",Urmatrix!BE115,)","v":0},{"$f":"IF(Entscheidungsgrundlage!$Y$28=\"x\",Urmatrix!BF115,)","v":0},{"$f":"IF(Entscheidungsgrundlage!$Y$28=\"x\",Urmatrix!BG115,)","v":0}]
[null,null,null,null,null,null,"Lieferkette/ Zulieferer",null,{"$f":"IF(Entscheidungsgrundlage!$AI$28=\"x\",Urmatrix!I116,)","v":0},{"$f":"IF(Entscheidungsgrundlage!$AI$28=\"x\",Urmatrix!J116,)","v":0},{"$f":"IF(Entscheidungsgrundlage!$AI$28=\"x\",Urmatrix!K116,)","v":0},{"$f":"IF(Entscheidungsgrundlage!$AI$28=\"x\",Urmatrix!L116,)","v":0},{"$f":"IF(Entscheidungsgrundlage!$AI$28=\"x\",Urmatrix!M116,)","v":0},{"$f":"IF(Entscheidungsgrundlage!$AI$28=\"x\",Urmatrix!N116,)","v":0},{"$f":"IF(Entscheidungsgrundlage!$AI$28=\"x\",Urmatrix!O116,)","v":0},{"$f":"IF(Entscheidungsgrundlage!$AI$28=\"x\",Urmatrix!P116,)","v":0},{"$f":"IF(Entscheidungsgrundlage!$AI$28=\"x\",Urmatrix!Q116,)","v":0},{"$f":"IF(Entscheidungsgrundlage!$AI$28=\"x\",Urmatrix!R116,)","v":0},{"$f":"IF(Entscheidungsgrundlage!$AI$28=\"x\",Urmatrix!S116,)","v":0},{"$f":"IF(Entscheidungsgrundlage!$AI$28=\"x\",Urmatrix!T116,)","v":0},{"$f":"IF(Entscheidungsgrundlage!$AI$28=\"x\",Urmatrix!U116,)","v":0},{"$f":"IF(Entscheidungsgrundlage!$AI$28=\"x\",Urmatrix!V116,)","v":0},{"$f":"IF(Entscheidungsgrundlage!$AI$28=\"x\",Urmatrix!W116,)","v":0},{"$f":"IF(Entscheidungsgrundlage!$AI$28=\"x\",Urmatrix!X116,)","v":0},{"$f":"IF(Entscheidungsgrundlage!$AI$28=\"x\",Urmatrix!Y116,)","v":0},{"$f":"IF(Entscheidungsgrundlage!$AI$28=\"x\",Urmatrix!Z116,)","v":0},{"$f":"IF(Entscheidungsgrundlage!$AI$28=\"x\",Urmatrix!AA116,)","v":0},{"$f":"IF(Entscheidungsgrundlage!$AI$28=\"x\",Urmatrix!AB116,)","v":0},{"$f":"IF(Entscheidungsgrundlage!$AI$28=\"x\",Urmatrix!AC116,)","v":0},{"$f":"IF(Entscheidungsgrundlage!$AI$28=\"x\",Urmatrix!AD116,)","v":0},{"$f":"IF(Entscheidungsgrundlage!$AI$28=\"x\",Urmatrix!AE116,)","v":0},{"$f":"IF(Entscheidungsgrundlage!$AI$28=\"x\",Urmatrix!AF116,)","v":0},{"$f":"IF(Entscheidungsgrundlage!$AI$28=\"x\",Urmatrix!AG116,)","v":0},{"$f":"IF(Entscheidungsgrundlage!$AI$28=\"x\",Urmatrix!AH116,)","v":0},{"$f":"IF(Entscheidungsgrundlage!$AI$28=\"x\",Urmatrix!AI116,)","v":0},{"$f":"IF(Entscheidungsgrundlage!$AI$28=\"x\",Urmatrix!AJ116,)","v":0},{"$f":"IF(Entscheidungsgrundlage!$AI$28=\"x\",Urmatrix!AK116,)","v":0},{"$f":"IF(Entscheidungsgrundlage!$AI$28=\"x\",Urmatrix!AL116,)","v":0},{"$f":"IF(Entscheidungsgrundlage!$AI$28=\"x\",Urmatrix!AM116,)","v":0},{"$f":"IF(Entscheidungsgrundlage!$AI$28=\"x\",Urmatrix!AN116,)","v":0},{"$f":"IF(Entscheidungsgrundlage!$AI$28=\"x\",Urmatrix!AO116,)","v":0},{"$f":"IF(Entscheidungsgrundlage!$AI$28=\"x\",Urmatrix!AP116,)","v":0},{"$f":"IF(Entscheidungsgrundlage!$AI$28=\"x\",Urmatrix!AQ116,)","v":0},{"$f":"IF(Entscheidungsgrundlage!$AI$28=\"x\",Urmatrix!AR116,)","v":0},{"$f":"IF(Entscheidungsgrundlage!$AI$28=\"x\",Urmatrix!AS116,)","v":0},{"$f":"IF(Entscheidungsgrundlage!$AI$28=\"x\",Urmatrix!AT116,)","v":0},{"$f":"IF(Entscheidungsgrundlage!$AI$28=\"x\",Urmatrix!AU116,)","v":0},{"$f":"IF(Entscheidungsgrundlage!$AI$28=\"x\",Urmatrix!AV116,)","v":0},{"$f":"IF(Entscheidungsgrundlage!$AI$28=\"x\",Urmatrix!AW116,)","v":0},{"$f":"IF(Entscheidungsgrundlage!$AI$28=\"x\",Urmatrix!AX116,)","v":0},{"$f":"IF(Entscheidungsgrundlage!$AI$28=\"x\",Urmatrix!AY116,)","v":0},{"$f":"IF(Entscheidungsgrundlage!$AI$28=\"x\",Urmatrix!AZ116,)","v":0},{"$f":"IF(Entscheidungsgrundlage!$AI$28=\"x\",Urmatrix!BA116,)","v":0},{"$f":"IF(Entscheidungsgrundlage!$AI$28=\"x\",Urmatrix!BB116,)","v":0},{"$f":"IF(Entscheidungsgrundlage!$AI$28=\"x\",Urmatrix!BC116,)","v":0},{"$f":"IF(Entscheidungsgrundlage!$AI$28=\"x\",Urmatrix!BD116,)","v":0},{"$f":"IF(Entscheidungsgrundlage!$AI$28=\"x\",Urmatrix!BE116,)","v":0},{"$f":"IF(Entscheidungsgrundlage!$AI$28=\"x\",Urmatrix!BF116,)","v":0},{"$f":"IF(Entscheidungsgrundlage!$AI$28=\"x\",Urmatrix!BG116,)","v":0}]
[null,null,null,null,null,null,"weitere Standorte",null,{"$f":"IF(Entscheidungsgrundlage!$AS$28=\"x\",Urmatrix!I117,)","v":0},{"$f":"IF(Entscheidungsgrundlage!$AS$28=\"x\",Urmatrix!J117,)","v":0},{"$f":"IF(Entscheidungsgrundlage!$AS$28=\"x\",Urmatrix!K117,)","v":0},{"$f":"IF(Entscheidungsgrundlage!$AS$28=\"x\",Urmatrix!L117,)","v":0},{"$f":"IF(Entscheidungsgrundlage!$AS$28=\"x\",Urmatrix!M117,)","v":0},{"$f":"IF(Entscheidungsgrundlage!$AS$28=\"x\",Urmatrix!N117,)","v":0},{"$f":"IF(Entscheidungsgrundlage!$AS$28=\"x\",Urmatrix!O117,)","v":0},{"$f":"IF(Entscheidungsgrundlage!$AS$28=\"x\",Urmatrix!P117,)","v":0},{"$f":"IF(Entscheidungsgrundlage!$AS$28=\"x\",Urmatrix!Q117,)","v":0},{"$f":"IF(Entscheidungsgrundlage!$AS$28=\"x\",Urmatrix!R117,)","v":0},{"$f":"IF(Entscheidungsgrundlage!$AS$28=\"x\",Urmatrix!S117,)","v":0},{"$f":"IF(Entscheidungsgrundlage!$AS$28=\"x\",Urmatrix!T117,)","v":0},{"$f":"IF(Entscheidungsgrundlage!$AS$28=\"x\",Urmatrix!U117,)","v":0},{"$f":"IF(Entscheidungsgrundlage!$AS$28=\"x\",Urmatrix!V117,)","v":0},{"$f":"IF(Entscheidungsgrundlage!$AS$28=\"x\",Urmatrix!W117,)","v":0},{"$f":"IF(Entscheidungsgrundlage!$AS$28=\"x\",Urmatrix!X117,)","v":0},{"$f":"IF(Entscheidungsgrundlage!$AS$28=\"x\",Urmatrix!Y117,)","v":0},{"$f":"IF(Entscheidungsgrundlage!$AS$28=\"x\",Urmatrix!Z117,)","v":0},{"$f":"IF(Entscheidungsgrundlage!$AS$28=\"x\",Urmatrix!AA117,)","v":0},{"$f":"IF(Entscheidungsgrundlage!$AS$28=\"x\",Urmatrix!AB117,)","v":0},{"$f":"IF(Entscheidungsgrundlage!$AS$28=\"x\",Urmatrix!AC117,)","v":0},{"$f":"IF(Entscheidungsgrundlage!$AS$28=\"x\",Urmatrix!AD117,)","v":0},{"$f":"IF(Entscheidungsgrundlage!$AS$28=\"x\",Urmatrix!AE117,)","v":0},{"$f":"IF(Entscheidungsgrundlage!$AS$28=\"x\",Urmatrix!AF117,)","v":0},{"$f":"IF(Entscheidungsgrundlage!$AS$28=\"x\",Urmatrix!AG117,)","v":0},{"$f":"IF(Entscheidungsgrundlage!$AS$28=\"x\",Urmatrix!AH117,)","v":0},{"$f":"IF(Entscheidungsgrundlage!$AS$28=\"x\",Urmatrix!AI117,)","v":0},{"$f":"IF(Entscheidungsgrundlage!$AS$28=\"x\",Urmatrix!AJ117,)","v":0},{"$f":"IF(Entscheidungsgrundlage!$AS$28=\"x\",Urmatrix!AK117,)","v":0},{"$f":"IF(Entscheidungsgrundlage!$AS$28=\"x\",Urmatrix!AL117,)","v":0},{"$f":"IF(Entscheidungsgrundlage!$AS$28=\"x\",Urmatrix!AM117,)","v":0},{"$f":"IF(Entscheidungsgrundlage!$AS$28=\"x\",Urmatrix!AN117,)","v":0},{"$f":"IF(Entscheidungsgrundlage!$AS$28=\"x\",Urmatrix!AO117,)","v":0},{"$f":"IF(Entscheidungsgrundlage!$AS$28=\"x\",Urmatrix!AP117,)","v":0},{"$f":"IF(Entscheidungsgrundlage!$AS$28=\"x\",Urmatrix!AQ117,)","v":0},{"$f":"IF(Entscheidungsgrundlage!$AS$28=\"x\",Urmatrix!AR117,)","v":0},{"$f":"IF(Entscheidungsgrundlage!$AS$28=\"x\",Urmatrix!AS117,)","v":0},{"$f":"IF(Entscheidungsgrundlage!$AS$28=\"x\",Urmatrix!AT117,)","v":0},{"$f":"IF(Entscheidungsgrundlage!$AS$28=\"x\",Urmatrix!AU117,)","v":0},{"$f":"IF(Entscheidungsgrundlage!$AS$28=\"x\",Urmatrix!AV117,)","v":0},{"$f":"IF(Entscheidungsgrundlage!$AS$28=\"x\",Urmatrix!AW117,)","v":0},{"$f":"IF(Entscheidungsgrundlage!$AS$28=\"x\",Urmatrix!AX117,)","v":0},{"$f":"IF(Entscheidungsgrundlage!$AS$28=\"x\",Urmatrix!AY117,)","v":0},{"$f":"IF(Entscheidungsgrundlage!$AS$28=\"x\",Urmatrix!AZ117,)","v":0},{"$f":"IF(Entscheidungsgrundlage!$AS$28=\"x\",Urmatrix!BA117,)","v":0},{"$f":"IF(Entscheidungsgrundlage!$AS$28=\"x\",Urmatrix!BB117,)","v":0},{"$f":"IF(Entscheidungsgrundlage!$AS$28=\"x\",Urmatrix!BC117,)","v":0},{"$f":"IF(Entscheidungsgrundlage!$AS$28=\"x\",Urmatrix!BD117,)","v":0},{"$f":"IF(Entscheidungsgrundlage!$AS$28=\"x\",Urmatrix!BE117,)","v":0},{"$f":"IF(Entscheidungsgrundlage!$AS$28=\"x\",Urmatrix!BF117,)","v":0},{"$f":"IF(Entscheidungsgrundlage!$AS$28=\"x\",Urmatrix!BG117,)","v":0}]
[null,null,null,null,null,null,"Andere",null,{"$f":"IF(Entscheidungsgrundlage!$BC$28=\"x\",Urmatrix!I118,)","v":0},{"$f":"IF(Entscheidungsgrundlage!$BC$28=\"x\",Urmatrix!J118,)","v":0},{"$f":"IF(Entscheidungsgrundlage!$BC$28=\"x\",Urmatrix!K118,)","v":0},{"$f":"IF(Entscheidungsgrundlage!$BC$28=\"x\",Urmatrix!L118,)","v":0},{"$f":"IF(Entscheidungsgrundlage!$BC$28=\"x\",Urmatrix!M118,)","v":0},{"$f":"IF(Entscheidungsgrundlage!$BC$28=\"x\",Urmatrix!N118,)","v":0},{"$f":"IF(Entscheidungsgrundlage!$BC$28=\"x\",Urmatrix!O118,)","v":0},{"$f":"IF(Entscheidungsgrundlage!$BC$28=\"x\",Urmatrix!P118,)","v":0},{"$f":"IF(Entscheidungsgrundlage!$BC$28=\"x\",Urmatrix!Q118,)","v":0},{"$f":"IF(Entscheidungsgrundlage!$BC$28=\"x\",Urmatrix!R118,)","v":0},{"$f":"IF(Entscheidungsgrundlage!$BC$28=\"x\",Urmatrix!S118,)","v":0},{"$f":"IF(Entscheidungsgrundlage!$BC$28=\"x\",Urmatrix!T118,)","v":0},{"$f":"IF(Entscheidungsgrundlage!$BC$28=\"x\",Urmatrix!U118,)","v":0},{"$f":"IF(Entscheidungsgrundlage!$BC$28=\"x\",Urmatrix!V118,)","v":0},{"$f":"IF(Entscheidungsgrundlage!$BC$28=\"x\",Urmatrix!W118,)","v":0},{"$f":"IF(Entscheidungsgrundlage!$BC$28=\"x\",Urmatrix!X118,)","v":0},{"$f":"IF(Entscheidungsgrundlage!$BC$28=\"x\",Urmatrix!Y118,)","v":0},{"$f":"IF(Entscheidungsgrundlage!$BC$28=\"x\",Urmatrix!Z118,)","v":0},{"$f":"IF(Entscheidungsgrundlage!$BC$28=\"x\",Urmatrix!AA118,)","v":0},{"$f":"IF(Entscheidungsgrundlage!$BC$28=\"x\",Urmatrix!AB118,)","v":0},{"$f":"IF(Entscheidungsgrundlage!$BC$28=\"x\",Urmatrix!AC118,)","v":0},{"$f":"IF(Entscheidungsgrundlage!$BC$28=\"x\",Urmatrix!AD118,)","v":0},{"$f":"IF(Entscheidungsgrundlage!$BC$28=\"x\",Urmatrix!AE118,)","v":0},{"$f":"IF(Entscheidungsgrundlage!$BC$28=\"x\",Urmatrix!AF118,)","v":0},{"$f":"IF(Entscheidungsgrundlage!$BC$28=\"x\",Urmatrix!AG118,)","v":0},{"$f":"IF(Entscheidungsgrundlage!$BC$28=\"x\",Urmatrix!AH118,)","v":0},{"$f":"IF(Entscheidungsgrundlage!$BC$28=\"x\",Urmatrix!AI118,)","v":0},{"$f":"IF(Entscheidungsgrundlage!$BC$28=\"x\",Urmatrix!AJ118,)","v":0},{"$f":"IF(Entscheidungsgrundlage!$BC$28=\"x\",Urmatrix!AK118,)","v":0},{"$f":"IF(Entscheidungsgrundlage!$BC$28=\"x\",Urmatrix!AL118,)","v":0},{"$f":"IF(Entscheidungsgrundlage!$BC$28=\"x\",Urmatrix!AM118,)","v":0},{"$f":"IF(Entscheidungsgrundlage!$BC$28=\"x\",Urmatrix!AN118,)","v":0},{"$f":"IF(Entscheidungsgrundlage!$BC$28=\"x\",Urmatrix!AO118,)","v":0},{"$f":"IF(Entscheidungsgrundlage!$BC$28=\"x\",Urmatrix!AP118,)","v":0},{"$f":"IF(Entscheidungsgrundlage!$BC$28=\"x\",Urmatrix!AQ118,)","v":0},{"$f":"IF(Entscheidungsgrundlage!$BC$28=\"x\",Urmatrix!AR118,)","v":0},{"$f":"IF(Entscheidungsgrundlage!$BC$28=\"x\",Urmatrix!AS118,)","v":0},{"$f":"IF(Entscheidungsgrundlage!$BC$28=\"x\",Urmatrix!AT118,)","v":0},{"$f":"IF(Entscheidungsgrundlage!$BC$28=\"x\",Urmatrix!AU118,)","v":0},{"$f":"IF(Entscheidungsgrundlage!$BC$28=\"x\",Urmatrix!AV118,)","v":0},{"$f":"IF(Entscheidungsgrundlage!$BC$28=\"x\",Urmatrix!AW118,)","v":0},{"$f":"IF(Entscheidungsgrundlage!$BC$28=\"x\",Urmatrix!AX118,)","v":0},{"$f":"IF(Entscheidungsgrundlage!$BC$28=\"x\",Urmatrix!AY118,)","v":0},{"$f":"IF(Entscheidungsgrundlage!$BC$28=\"x\",Urmatrix!AZ118,)","v":0},{"$f":"IF(Entscheidungsgrundlage!$BC$28=\"x\",Urmatrix!BA118,)","v":0},{"$f":"IF(Entscheidungsgrundlage!$BC$28=\"x\",Urmatrix!BB118,)","v":0},{"$f":"IF(Entscheidungsgrundlage!$BC$28=\"x\",Urmatrix!BC118,)","v":0},{"$f":"IF(Entscheidungsgrundlage!$BC$28=\"x\",Urmatrix!BD118,)","v":0},{"$f":"IF(Entscheidungsgrundlage!$BC$28=\"x\",Urmatrix!BE118,)","v":0},{"$f":"IF(Entscheidungsgrundlage!$BC$28=\"x\",Urmatrix!BF118,)","v":0},{"$f":"IF(Entscheidungsgrundlage!$BC$28=\"x\",Urmatrix!BG118,)","v":0}]
[null,null,null,null,null,"Räumliche Verteilung","stationär",null,{"$f":"IF(Entscheidungsgrundlage!$E$30=\"x\",Urmatrix!I119,)","v":0},{"$f":"IF(Entscheidungsgrundlage!$E$30=\"x\",Urmatrix!J119,)","v":0},{"$f":"IF(Entscheidungsgrundlage!$E$30=\"x\",Urmatrix!K119,)","v":0},{"$f":"IF(Entscheidungsgrundlage!$E$30=\"x\",Urmatrix!L119,)","v":0},{"$f":"IF(Entscheidungsgrundlage!$E$30=\"x\",Urmatrix!M119,)","v":0},{"$f":"IF(Entscheidungsgrundlage!$E$30=\"x\",Urmatrix!N119,)","v":0},{"$f":"IF(Entscheidungsgrundlage!$E$30=\"x\",Urmatrix!O119,)","v":0},{"$f":"IF(Entscheidungsgrundlage!$E$30=\"x\",Urmatrix!P119,)","v":0},{"$f":"IF(Entscheidungsgrundlage!$E$30=\"x\",Urmatrix!Q119,)","v":0},{"$f":"IF(Entscheidungsgrundlage!$E$30=\"x\",Urmatrix!R119,)","v":0},{"$f":"IF(Entscheidungsgrundlage!$E$30=\"x\",Urmatrix!S119,)","v":0},{"$f":"IF(Entscheidungsgrundlage!$E$30=\"x\",Urmatrix!T119,)","v":0},{"$f":"IF(Entscheidungsgrundlage!$E$30=\"x\",Urmatrix!U119,)","v":0},{"$f":"IF(Entscheidungsgrundlage!$E$30=\"x\",Urmatrix!V119,)","v":0},{"$f":"IF(Entscheidungsgrundlage!$E$30=\"x\",Urmatrix!W119,)","v":0},{"$f":"IF(Entscheidungsgrundlage!$E$30=\"x\",Urmatrix!X119,)","v":0},{"$f":"IF(Entscheidungsgrundlage!$E$30=\"x\",Urmatrix!Y119,)","v":0},{"$f":"IF(Entscheidungsgrundlage!$E$30=\"x\",Urmatrix!Z119,)","v":0},{"$f":"IF(Entscheidungsgrundlage!$E$30=\"x\",Urmatrix!AA119,)","v":0},{"$f":"IF(Entscheidungsgrundlage!$E$30=\"x\",Urmatrix!AB119,)","v":0},{"$f":"IF(Entscheidungsgrundlage!$E$30=\"x\",Urmatrix!AC119,)","v":0},{"$f":"IF(Entscheidungsgrundlage!$E$30=\"x\",Urmatrix!AD119,)","v":0},{"$f":"IF(Entscheidungsgrundlage!$E$30=\"x\",Urmatrix!AE119,)","v":0},{"$f":"IF(Entscheidungsgrundlage!$E$30=\"x\",Urmatrix!AF119,)","v":0},{"$f":"IF(Entscheidungsgrundlage!$E$30=\"x\",Urmatrix!AG119,)","v":0},{"$f":"IF(Entscheidungsgrundlage!$E$30=\"x\",Urmatrix!AH119,)","v":0},{"$f":"IF(Entscheidungsgrundlage!$E$30=\"x\",Urmatrix!AI119,)","v":0},{"$f":"IF(Entscheidungsgrundlage!$E$30=\"x\",Urmatrix!AJ119,)","v":0},{"$f":"IF(Entscheidungsgrundlage!$E$30=\"x\",Urmatrix!AK119,)","v":0},{"$f":"IF(Entscheidungsgrundlage!$E$30=\"x\",Urmatrix!AL119,)","v":0},{"$f":"IF(Entscheidungsgrundlage!$E$30=\"x\",Urmatrix!AM119,)","v":0},{"$f":"IF(Entscheidungsgrundlage!$E$30=\"x\",Urmatrix!AN119,)","v":0},{"$f":"IF(Entscheidungsgrundlage!$E$30=\"x\",Urmatrix!AO119,)","v":0},{"$f":"IF(Entscheidungsgrundlage!$E$30=\"x\",Urmatrix!AP119,)","v":0},{"$f":"IF(Entscheidungsgrundlage!$E$30=\"x\",Urmatrix!AQ119,)","v":0},{"$f":"IF(Entscheidungsgrundlage!$E$30=\"x\",Urmatrix!AR119,)","v":0},{"$f":"IF(Entscheidungsgrundlage!$E$30=\"x\",Urmatrix!AS119,)","v":0},{"$f":"IF(Entscheidungsgrundlage!$E$30=\"x\",Urmatrix!AT119,)","v":0},{"$f":"IF(Entscheidungsgrundlage!$E$30=\"x\",Urmatrix!AU119,)","v":0},{"$f":"IF(Entscheidungsgrundlage!$E$30=\"x\",Urmatrix!AV119,)","v":0},{"$f":"IF(Entscheidungsgrundlage!$E$30=\"x\",Urmatrix!AW119,)","v":0},{"$f":"IF(Entscheidungsgrundlage!$E$30=\"x\",Urmatrix!AX119,)","v":0},{"$f":"IF(Entscheidungsgrundlage!$E$30=\"x\",Urmatrix!AY119,)","v":0},{"$f":"IF(Entscheidungsgrundlage!$E$30=\"x\",Urmatrix!AZ119,)","v":0},{"$f":"IF(Entscheidungsgrundlage!$E$30=\"x\",Urmatrix!BA119,)","v":0},{"$f":"IF(Entscheidungsgrundlage!$E$30=\"x\",Urmatrix!BB119,)","v":0},{"$f":"IF(Entscheidungsgrundlage!$E$30=\"x\",Urmatrix!BC119,)","v":0},{"$f":"IF(Entscheidungsgrundlage!$E$30=\"x\",Urmatrix!BD119,)","v":0},{"$f":"IF(Entscheidungsgrundlage!$E$30=\"x\",Urmatrix!BE119,)","v":0},{"$f":"IF(Entscheidungsgrundlage!$E$30=\"x\",Urmatrix!BF119,)","v":0},{"$f":"IF(Entscheidungsgrundlage!$E$30=\"x\",Urmatrix!BG119,)","v":0}]
[null,null,null,null,null,null,"regional",null,{"$f":"IF(Entscheidungsgrundlage!$Y$30=\"x\",Urmatrix!I120,)","v":0},{"$f":"IF(Entscheidungsgrundlage!$Y$30=\"x\",Urmatrix!J120,)","v":0},{"$f":"IF(Entscheidungsgrundlage!$Y$30=\"x\",Urmatrix!K120,)","v":0},{"$f":"IF(Entscheidungsgrundlage!$Y$30=\"x\",Urmatrix!L120,)","v":0},{"$f":"IF(Entscheidungsgrundlage!$Y$30=\"x\",Urmatrix!M120,)","v":0},{"$f":"IF(Entscheidungsgrundlage!$Y$30=\"x\",Urmatrix!N120,)","v":0},{"$f":"IF(Entscheidungsgrundlage!$Y$30=\"x\",Urmatrix!O120,)","v":0},{"$f":"IF(Entscheidungsgrundlage!$Y$30=\"x\",Urmatrix!P120,)","v":0},{"$f":"IF(Entscheidungsgrundlage!$Y$30=\"x\",Urmatrix!Q120,)","v":0},{"$f":"IF(Entscheidungsgrundlage!$Y$30=\"x\",Urmatrix!R120,)","v":0},{"$f":"IF(Entscheidungsgrundlage!$Y$30=\"x\",Urmatrix!S120,)","v":0},{"$f":"IF(Entscheidungsgrundlage!$Y$30=\"x\",Urmatrix!T120,)","v":0},{"$f":"IF(Entscheidungsgrundlage!$Y$30=\"x\",Urmatrix!U120,)","v":0},{"$f":"IF(Entscheidungsgrundlage!$Y$30=\"x\",Urmatrix!V120,)","v":0},{"$f":"IF(Entscheidungsgrundlage!$Y$30=\"x\",Urmatrix!W120,)","v":0},{"$f":"IF(Entscheidungsgrundlage!$Y$30=\"x\",Urmatrix!X120,)","v":0},{"$f":"IF(Entscheidungsgrundlage!$Y$30=\"x\",Urmatrix!Y120,)","v":0},{"$f":"IF(Entscheidungsgrundlage!$Y$30=\"x\",Urmatrix!Z120,)","v":0},{"$f":"IF(Entscheidungsgrundlage!$Y$30=\"x\",Urmatrix!AA120,)","v":0},{"$f":"IF(Entscheidungsgrundlage!$Y$30=\"x\",Urmatrix!AB120,)","v":0},{"$f":"IF(Entscheidungsgrundlage!$Y$30=\"x\",Urmatrix!AC120,)","v":0},{"$f":"IF(Entscheidungsgrundlage!$Y$30=\"x\",Urmatrix!AD120,)","v":0},{"$f":"IF(Entscheidungsgrundlage!$Y$30=\"x\",Urmatrix!AE120,)","v":0},{"$f":"IF(Entscheidungsgrundlage!$Y$30=\"x\",Urmatrix!AF120,)","v":0},{"$f":"IF(Entscheidungsgrundlage!$Y$30=\"x\",Urmatrix!AG120,)","v":0},{"$f":"IF(Entscheidungsgrundlage!$Y$30=\"x\",Urmatrix!AH120,)","v":0},{"$f":"IF(Entscheidungsgrundlage!$Y$30=\"x\",Urmatrix!AI120,)","v":0},{"$f":"IF(Entscheidungsgrundlage!$Y$30=\"x\",Urmatrix!AJ120,)","v":0},{"$f":"IF(Entscheidungsgrundlage!$Y$30=\"x\",Urmatrix!AK120,)","v":0},{"$f":"IF(Entscheidungsgrundlage!$Y$30=\"x\",Urmatrix!AL120,)","v":0},{"$f":"IF(Entscheidungsgrundlage!$Y$30=\"x\",Urmatrix!AM120,)","v":0},{"$f":"IF(Entscheidungsgrundlage!$Y$30=\"x\",Urmatrix!AN120,)","v":0},{"$f":"IF(Entscheidungsgrundlage!$Y$30=\"x\",Urmatrix!AO120,)","v":0},{"$f":"IF(Entscheidungsgrundlage!$Y$30=\"x\",Urmatrix!AP120,)","v":0},{"$f":"IF(Entscheidungsgrundlage!$Y$30=\"x\",Urmatrix!AQ120,)","v":0},{"$f":"IF(Entscheidungsgrundlage!$Y$30=\"x\",Urmatrix!AR120,)","v":0},{"$f":"IF(Entscheidungsgrundlage!$Y$30=\"x\",Urmatrix!AS120,)","v":0},{"$f":"IF(Entscheidungsgrundlage!$Y$30=\"x\",Urmatrix!AT120,)","v":0},{"$f":"IF(Entscheidungsgrundlage!$Y$30=\"x\",Urmatrix!AU120,)","v":0},{"$f":"IF(Entscheidungsgrundlage!$Y$30=\"x\",Urmatrix!AV120,)","v":0},{"$f":"IF(Entscheidungsgrundlage!$Y$30=\"x\",Urmatrix!AW120,)","v":0},{"$f":"IF(Entscheidungsgrundlage!$Y$30=\"x\",Urmatrix!AX120,)","v":0},{"$f":"IF(Entscheidungsgrundlage!$Y$30=\"x\",Urmatrix!AY120,)","v":0},{"$f":"IF(Entscheidungsgrundlage!$Y$30=\"x\",Urmatrix!AZ120,)","v":0},{"$f":"IF(Entscheidungsgrundlage!$Y$30=\"x\",Urmatrix!BA120,)","v":0},{"$f":"IF(Entscheidungsgrundlage!$Y$30=\"x\",Urmatrix!BB120,)","v":0},{"$f":"IF(Entscheidungsgrundlage!$Y$30=\"x\",Urmatrix!BC120,)","v":0},{"$f":"IF(Entscheidungsgrundlage!$Y$30=\"x\",Urmatrix!BD120,)","v":0},{"$f":"IF(Entscheidungsgrundlage!$Y$30=\"x\",Urmatrix!BE120,)","v":0},{"$f":"IF(Entscheidungsgrundlage!$Y$30=\"x\",Urmatrix!BF120,)","v":0},{"$f":"IF(Entscheidungsgrundlage!$Y$30=\"x\",Urmatrix!BG120,)","v":0}]
[null,null,null,null,null,null,"überregional",null,{"$f":"IF(Entscheidungsgrundlage!$AS$30=\"x\",Urmatrix!I121,)","v":0},{"$f":"IF(Entscheidungsgrundlage!$AS$30=\"x\",Urmatrix!J121,)","v":0},{"$f":"IF(Entscheidungsgrundlage!$AS$30=\"x\",Urmatrix!K121,)","v":0},{"$f":"IF(Entscheidungsgrundlage!$AS$30=\"x\",Urmatrix!L121,)","v":0},{"$f":"IF(Entscheidungsgrundlage!$AS$30=\"x\",Urmatrix!M121,)","v":0},{"$f":"IF(Entscheidungsgrundlage!$AS$30=\"x\",Urmatrix!N121,)","v":0},{"$f":"IF(Entscheidungsgrundlage!$AS$30=\"x\",Urmatrix!O121,)","v":0},{"$f":"IF(Entscheidungsgrundlage!$AS$30=\"x\",Urmatrix!P121,)","v":0},{"$f":"IF(Entscheidungsgrundlage!$AS$30=\"x\",Urmatrix!Q121,)","v":0},{"$f":"IF(Entscheidungsgrundlage!$AS$30=\"x\",Urmatrix!R121,)","v":0},{"$f":"IF(Entscheidungsgrundlage!$AS$30=\"x\",Urmatrix!S121,)","v":0},{"$f":"IF(Entscheidungsgrundlage!$AS$30=\"x\",Urmatrix!T121,)","v":0},{"$f":"IF(Entscheidungsgrundlage!$AS$30=\"x\",Urmatrix!U121,)","v":0},{"$f":"IF(Entscheidungsgrundlage!$AS$30=\"x\",Urmatrix!V121,)","v":0},{"$f":"IF(Entscheidungsgrundlage!$AS$30=\"x\",Urmatrix!W121,)","v":0},{"$f":"IF(Entscheidungsgrundlage!$AS$30=\"x\",Urmatrix!X121,)","v":0},{"$f":"IF(Entscheidungsgrundlage!$AS$30=\"x\",Urmatrix!Y121,)","v":0},{"$f":"IF(Entscheidungsgrundlage!$AS$30=\"x\",Urmatrix!Z121,)","v":0},{"$f":"IF(Entscheidungsgrundlage!$AS$30=\"x\",Urmatrix!AA121,)","v":0},{"$f":"IF(Entscheidungsgrundlage!$AS$30=\"x\",Urmatrix!AB121,)","v":0},{"$f":"IF(Entscheidungsgrundlage!$AS$30=\"x\",Urmatrix!AC121,)","v":0},{"$f":"IF(Entscheidungsgrundlage!$AS$30=\"x\",Urmatrix!AD121,)","v":0},{"$f":"IF(Entscheidungsgrundlage!$AS$30=\"x\",Urmatrix!AE121,)","v":0},{"$f":"IF(Entscheidungsgrundlage!$AS$30=\"x\",Urmatrix!AF121,)","v":0},{"$f":"IF(Entscheidungsgrundlage!$AS$30=\"x\",Urmatrix!AG121,)","v":0},{"$f":"IF(Entscheidungsgrundlage!$AS$30=\"x\",Urmatrix!AH121,)","v":0},{"$f":"IF(Entscheidungsgrundlage!$AS$30=\"x\",Urmatrix!AI121,)","v":0},{"$f":"IF(Entscheidungsgrundlage!$AS$30=\"x\",Urmatrix!AJ121,)","v":0},{"$f":"IF(Entscheidungsgrundlage!$AS$30=\"x\",Urmatrix!AK121,)","v":0},{"$f":"IF(Entscheidungsgrundlage!$AS$30=\"x\",Urmatrix!AL121,)","v":0},{"$f":"IF(Entscheidungsgrundlage!$AS$30=\"x\",Urmatrix!AM121,)","v":0},{"$f":"IF(Entscheidungsgrundlage!$AS$30=\"x\",Urmatrix!AN121,)","v":0},{"$f":"IF(Entscheidungsgrundlage!$AS$30=\"x\",Urmatrix!AO121,)","v":0},{"$f":"IF(Entscheidungsgrundlage!$AS$30=\"x\",Urmatrix!AP121,)","v":0},{"$f":"IF(Entscheidungsgrundlage!$AS$30=\"x\",Urmatrix!AQ121,)","v":0},{"$f":"IF(Entscheidungsgrundlage!$AS$30=\"x\",Urmatrix!AR121,)","v":0},{"$f":"IF(Entscheidungsgrundlage!$AS$30=\"x\",Urmatrix!AS121,)","v":0},{"$f":"IF(Entscheidungsgrundlage!$AS$30=\"x\",Urmatrix!AT121,)","v":0},{"$f":"IF(Entscheidungsgrundlage!$AS$30=\"x\",Urmatrix!AU121,)","v":0},{"$f":"IF(Entscheidungsgrundlage!$AS$30=\"x\",Urmatrix!AV121,)","v":0},{"$f":"IF(Entscheidungsgrundlage!$AS$30=\"x\",Urmatrix!AW121,)","v":0},{"$f":"IF(Entscheidungsgrundlage!$AS$30=\"x\",Urmatrix!AX121,)","v":0},{"$f":"IF(Entscheidungsgrundlage!$AS$30=\"x\",Urmatrix!AY121,)","v":0},{"$f":"IF(Entscheidungsgrundlage!$AS$30=\"x\",Urmatrix!AZ121,)","v":0},{"$f":"IF(Entscheidungsgrundlage!$AS$30=\"x\",Urmatrix!BA121,)","v":0},{"$f":"IF(Entscheidungsgrundlage!$AS$30=\"x\",Urmatrix!BB121,)","v":0},{"$f":"IF(Entscheidungsgrundlage!$AS$30=\"x\",Urmatrix!BC121,)","v":0},{"$f":"IF(Entscheidungsgrundlage!$AS$30=\"x\",Urmatrix!BD121,)","v":0},{"$f":"IF(Entscheidungsgrundlage!$AS$30=\"x\",Urmatrix!BE121,)","v":0},{"$f":"IF(Entscheidungsgrundlage!$AS$30=\"x\",Urmatrix!BF121,)","v":0},{"$f":"IF(Entscheidungsgrundlage!$AS$30=\"x\",Urmatrix!BG121,)","v":0}]
[null,null,null,null,null,"Internationalität der Mitarbeiter","national",null,{"$f":"IF(Entscheidungsgrundlage!$E$32=\"x\",Urmatrix!I122,)","v":0},{"$f":"IF(Entscheidungsgrundlage!$E$32=\"x\",Urmatrix!J122,)","v":0},{"$f":"IF(Entscheidungsgrundlage!$E$32=\"x\",Urmatrix!K122,)","v":0},{"$f":"IF(Entscheidungsgrundlage!$E$32=\"x\",Urmatrix!L122,)","v":0},{"$f":"IF(Entscheidungsgrundlage!$E$32=\"x\",Urmatrix!M122,)","v":0},{"$f":"IF(Entscheidungsgrundlage!$E$32=\"x\",Urmatrix!N122,)","v":0},{"$f":"IF(Entscheidungsgrundlage!$E$32=\"x\",Urmatrix!O122,)","v":0},{"$f":"IF(Entscheidungsgrundlage!$E$32=\"x\",Urmatrix!P122,)","v":0},{"$f":"IF(Entscheidungsgrundlage!$E$32=\"x\",Urmatrix!Q122,)","v":0},{"$f":"IF(Entscheidungsgrundlage!$E$32=\"x\",Urmatrix!R122,)","v":0},{"$f":"IF(Entscheidungsgrundlage!$E$32=\"x\",Urmatrix!S122,)","v":0},{"$f":"IF(Entscheidungsgrundlage!$E$32=\"x\",Urmatrix!T122,)","v":0},{"$f":"IF(Entscheidungsgrundlage!$E$32=\"x\",Urmatrix!U122,)","v":0},{"$f":"IF(Entscheidungsgrundlage!$E$32=\"x\",Urmatrix!V122,)","v":0},{"$f":"IF(Entscheidungsgrundlage!$E$32=\"x\",Urmatrix!W122,)","v":0},{"$f":"IF(Entscheidungsgrundlage!$E$32=\"x\",Urmatrix!X122,)","v":0},{"$f":"IF(Entscheidungsgrundlage!$E$32=\"x\",Urmatrix!Y122,)","v":0},{"$f":"IF(Entscheidungsgrundlage!$E$32=\"x\",Urmatrix!Z122,)","v":0},{"$f":"IF(Entscheidungsgrundlage!$E$32=\"x\",Urmatrix!AA122,)","v":0},{"$f":"IF(Entscheidungsgrundlage!$E$32=\"x\",Urmatrix!AB122,)","v":0},{"$f":"IF(Entscheidungsgrundlage!$E$32=\"x\",Urmatrix!AC122,)","v":0},{"$f":"IF(Entscheidungsgrundlage!$E$32=\"x\",Urmatrix!AD122,)","v":0},{"$f":"IF(Entscheidungsgrundlage!$E$32=\"x\",Urmatrix!AE122,)","v":0},{"$f":"IF(Entscheidungsgrundlage!$E$32=\"x\",Urmatrix!AF122,)","v":0},{"$f":"IF(Entscheidungsgrundlage!$E$32=\"x\",Urmatrix!AG122,)","v":0},{"$f":"IF(Entscheidungsgrundlage!$E$32=\"x\",Urmatrix!AH122,)","v":0},{"$f":"IF(Entscheidungsgrundlage!$E$32=\"x\",Urmatrix!AI122,)","v":0},{"$f":"IF(Entscheidungsgrundlage!$E$32=\"x\",Urmatrix!AJ122,)","v":0},{"$f":"IF(Entscheidungsgrundlage!$E$32=\"x\",Urmatrix!AK122,)","v":0},{"$f":"IF(Entscheidungsgrundlage!$E$32=\"x\",Urmatrix!AL122,)","v":0},{"$f":"IF(Entscheidungsgrundlage!$E$32=\"x\",Urmatrix!AM122,)","v":0},{"$f":"IF(Entscheidungsgrundlage!$E$32=\"x\",Urmatrix!AN122,)","v":0},{"$f":"IF(Entscheidungsgrundlage!$E$32=\"x\",Urmatrix!AO122,)","v":0},{"$f":"IF(Entscheidungsgrundlage!$E$32=\"x\",Urmatrix!AP122,)","v":0},{"$f":"IF(Entscheidungsgrundlage!$E$32=\"x\",Urmatrix!AQ122,)","v":0},{"$f":"IF(Entscheidungsgrundlage!$E$32=\"x\",Urmatrix!AR122,)","v":0},{"$f":"IF(Entscheidungsgrundlage!$E$32=\"x\",Urmatrix!AS122,)","v":0},{"$f":"IF(Entscheidungsgrundlage!$E$32=\"x\",Urmatrix!AT122,)","v":0},{"$f":"IF(Entscheidungsgrundlage!$E$32=\"x\",Urmatrix!AU122,)","v":0},{"$f":"IF(Entscheidungsgrundlage!$E$32=\"x\",Urmatrix!AV122,)","v":0},{"$f":"IF(Entscheidungsgrundlage!$E$32=\"x\",Urmatrix!AW122,)","v":0},{"$f":"IF(Entscheidungsgrundlage!$E$32=\"x\",Urmatrix!AX122,)","v":0},{"$f":"IF(Entscheidungsgrundlage!$E$32=\"x\",Urmatrix!AY122,)","v":0},{"$f":"IF(Entscheidungsgrundlage!$E$32=\"x\",Urmatrix!AZ122,)","v":0},{"$f":"IF(Entscheidungsgrundlage!$E$32=\"x\",Urmatrix!BA122,)","v":0},{"$f":"IF(Entscheidungsgrundlage!$E$32=\"x\",Urmatrix!BB122,)","v":0},{"$f":"IF(Entscheidungsgrundlage!$E$32=\"x\",Urmatrix!BC122,)","v":0},{"$f":"IF(Entscheidungsgrundlage!$E$32=\"x\",Urmatrix!BD122,)","v":0},{"$f":"IF(Entscheidungsgrundlage!$E$32=\"x\",Urmatrix!BE122,)","v":0},{"$f":"IF(Entscheidungsgrundlage!$E$32=\"x\",Urmatrix!BF122,)","v":0},{"$f":"IF(Entscheidungsgrundlage!$E$32=\"x\",Urmatrix!BG122,)","v":0}]
[null,null,null,null,null,null,"international",null,{"$f":"IF(Entscheidungsgrundlage!$AI$32=\"x\",Urmatrix!I123,)","v":0},{"$f":"IF(Entscheidungsgrundlage!$AI$32=\"x\",Urmatrix!J123,)","v":0},{"$f":"IF(Entscheidungsgrundlage!$AI$32=\"x\",Urmatrix!K123,)","v":0},{"$f":"IF(Entscheidungsgrundlage!$AI$32=\"x\",Urmatrix!L123,)","v":0},{"$f":"IF(Entscheidungsgrundlage!$AI$32=\"x\",Urmatrix!M123,)","v":0},{"$f":"IF(Entscheidungsgrundlage!$AI$32=\"x\",Urmatrix!N123,)","v":0},{"$f":"IF(Entscheidungsgrundlage!$AI$32=\"x\",Urmatrix!O123,)","v":0},{"$f":"IF(Entscheidungsgrundlage!$AI$32=\"x\",Urmatrix!P123,)","v":0},{"$f":"IF(Entscheidungsgrundlage!$AI$32=\"x\",Urmatrix!Q123,)","v":0},{"$f":"IF(Entscheidungsgrundlage!$AI$32=\"x\",Urmatrix!R123,)","v":0},{"$f":"IF(Entscheidungsgrundlage!$AI$32=\"x\",Urmatrix!S123,)","v":0},{"$f":"IF(Entscheidungsgrundlage!$AI$32=\"x\",Urmatrix!T123,)","v":0},{"$f":"IF(Entscheidungsgrundlage!$AI$32=\"x\",Urmatrix!U123,)","v":0},{"$f":"IF(Entscheidungsgrundlage!$AI$32=\"x\",Urmatrix!V123,)","v":0},{"$f":"IF(Entscheidungsgrundlage!$AI$32=\"x\",Urmatrix!W123,)","v":0},{"$f":"IF(Entscheidungsgrundlage!$AI$32=\"x\",Urmatrix!X123,)","v":0},{"$f":"IF(Entscheidungsgrundlage!$AI$32=\"x\",Urmatrix!Y123,)","v":0},{"$f":"IF(Entscheidungsgrundlage!$AI$32=\"x\",Urmatrix!Z123,)","v":0},{"$f":"IF(Entscheidungsgrundlage!$AI$32=\"x\",Urmatrix!AA123,)","v":0},{"$f":"IF(Entscheidungsgrundlage!$AI$32=\"x\",Urmatrix!AB123,)","v":0},{"$f":"IF(Entscheidungsgrundlage!$AI$32=\"x\",Urmatrix!AC123,)","v":0},{"$f":"IF(Entscheidungsgrundlage!$AI$32=\"x\",Urmatrix!AD123,)","v":0},{"$f":"IF(Entscheidungsgrundlage!$AI$32=\"x\",Urmatrix!AE123,)","v":0},{"$f":"IF(Entscheidungsgrundlage!$AI$32=\"x\",Urmatrix!AF123,)","v":0},{"$f":"IF(Entscheidungsgrundlage!$AI$32=\"x\",Urmatrix!AG123,)","v":0},{"$f":"IF(Entscheidungsgrundlage!$AI$32=\"x\",Urmatrix!AH123,)","v":0},{"$f":"IF(Entscheidungsgrundlage!$AI$32=\"x\",Urmatrix!AI123,)","v":0},{"$f":"IF(Entscheidungsgrundlage!$AI$32=\"x\",Urmatrix!AJ123,)","v":0},{"$f":"IF(Entscheidungsgrundlage!$AI$32=\"x\",Urmatrix!AK123,)","v":0},{"$f":"IF(Entscheidungsgrundlage!$AI$32=\"x\",Urmatrix!AL123,)","v":0},{"$f":"IF(Entscheidungsgrundlage!$AI$32=\"x\",Urmatrix!AM123,)","v":0},{"$f":"IF(Entscheidungsgrundlage!$AI$32=\"x\",Urmatrix!AN123,)","v":0},{"$f":"IF(Entscheidungsgrundlage!$AI$32=\"x\",Urmatrix!AO123,)","v":0},{"$f":"IF(Entscheidungsgrundlage!$AI$32=\"x\",Urmatrix!AP123,)","v":0},{"$f":"IF(Entscheidungsgrundlage!$AI$32=\"x\",Urmatrix!AQ123,)","v":0},{"$f":"IF(Entscheidungsgrundlage!$AI$32=\"x\",Urmatrix!AR123,)","v":0},{"$f":"IF(Entscheidungsgrundlage!$AI$32=\"x\",Urmatrix!AS123,)","v":0},{"$f":"IF(Entscheidungsgrundlage!$AI$32=\"x\",Urmatrix!AT123,)","v":0},{"$f":"IF(Entscheidungsgrundlage!$AI$32=\"x\",Urmatrix!AU123,)","v":0},{"$f":"IF(Entscheidungsgrundlage!$AI$32=\"x\",Urmatrix!AV123,)","v":0},{"$f":"IF(Entscheidungsgrundlage!$AI$32=\"x\",Urmatrix!AW123,)","v":0},{"$f":"IF(Entscheidungsgrundlage!$AI$32=\"x\",Urmatrix!AX123,)","v":0},{"$f":"IF(Entscheidungsgrundlage!$AI$32=\"x\",Urmatrix!AY123,)","v":0},{"$f":"IF(Entscheidungsgrundlage!$AI$32=\"x\",Urmatrix!AZ123,)","v":0},{"$f":"IF(Entscheidungsgrundlage!$AI$32=\"x\",Urmatrix!BA123,)","v":0},{"$f":"IF(Entscheidungsgrundlage!$AI$32=\"x\",Urmatrix!BB123,)","v":0},{"$f":"IF(Entscheidungsgrundlage!$AI$32=\"x\",Urmatrix!BC123,)","v":0},{"$f":"IF(Entscheidungsgrundlage!$AI$32=\"x\",Urmatrix!BD123,)","v":0},{"$f":"IF(Entscheidungsgrundlage!$AI$32=\"x\",Urmatrix!BE123,)","v":0},{"$f":"IF(Entscheidungsgrundlage!$AI$32=\"x\",Urmatrix!BF123,)","v":0},{"$f":"IF(Entscheidungsgrundlage!$AI$32=\"x\",Urmatrix!BG123,)","v":0}]
[null,"Reuter",null,null,null,"Zielhomogenität","Zielneutralität",null,{"$f":"IF(Entscheidungsgrundlage!$E$34=\"x\",Urmatrix!I124,)","v":0},{"$f":"IF(Entscheidungsgrundlage!$E$34=\"x\",Urmatrix!J124,)","v":0},{"$f":"IF(Entscheidungsgrundlage!$E$34=\"x\",Urmatrix!K124,)","v":0},{"$f":"IF(Entscheidungsgrundlage!$E$34=\"x\",Urmatrix!L124,)","v":0},{"$f":"IF(Entscheidungsgrundlage!$E$34=\"x\",Urmatrix!M124,)","v":0},{"$f":"IF(Entscheidungsgrundlage!$E$34=\"x\",Urmatrix!N124,)","v":0},{"$f":"IF(Entscheidungsgrundlage!$E$34=\"x\",Urmatrix!O124,)","v":0},{"$f":"IF(Entscheidungsgrundlage!$E$34=\"x\",Urmatrix!P124,)","v":0},{"$f":"IF(Entscheidungsgrundlage!$E$34=\"x\",Urmatrix!Q124,)","v":0},{"$f":"IF(Entscheidungsgrundlage!$E$34=\"x\",Urmatrix!R124,)","v":0},{"$f":"IF(Entscheidungsgrundlage!$E$34=\"x\",Urmatrix!S124,)","v":0},{"$f":"IF(Entscheidungsgrundlage!$E$34=\"x\",Urmatrix!T124,)","v":0},{"$f":"IF(Entscheidungsgrundlage!$E$34=\"x\",Urmatrix!U124,)","v":0},{"$f":"IF(Entscheidungsgrundlage!$E$34=\"x\",Urmatrix!V124,)","v":0},{"$f":"IF(Entscheidungsgrundlage!$E$34=\"x\",Urmatrix!W124,)","v":0},{"$f":"IF(Entscheidungsgrundlage!$E$34=\"x\",Urmatrix!X124,)","v":0},{"$f":"IF(Entscheidungsgrundlage!$E$34=\"x\",Urmatrix!Y124,)","v":0},{"$f":"IF(Entscheidungsgrundlage!$E$34=\"x\",Urmatrix!Z124,)","v":0},{"$f":"IF(Entscheidungsgrundlage!$E$34=\"x\",Urmatrix!AA124,)","v":0},{"$f":"IF(Entscheidungsgrundlage!$E$34=\"x\",Urmatrix!AB124,)","v":0},{"$f":"IF(Entscheidungsgrundlage!$E$34=\"x\",Urmatrix!AC124,)","v":0},{"$f":"IF(Entscheidungsgrundlage!$E$34=\"x\",Urmatrix!AD124,)","v":0},{"$f":"IF(Entscheidungsgrundlage!$E$34=\"x\",Urmatrix!AE124,)","v":0},{"$f":"IF(Entscheidungsgrundlage!$E$34=\"x\",Urmatrix!AF124,)","v":0},{"$f":"IF(Entscheidungsgrundlage!$E$34=\"x\",Urmatrix!AG124,)","v":0},{"$f":"IF(Entscheidungsgrundlage!$E$34=\"x\",Urmatrix!AH124,)","v":0},{"$f":"IF(Entscheidungsgrundlage!$E$34=\"x\",Urmatrix!AI124,)","v":0},{"$f":"IF(Entscheidungsgrundlage!$E$34=\"x\",Urmatrix!AJ124,)","v":0},{"$f":"IF(Entscheidungsgrundlage!$E$34=\"x\",Urmatrix!AK124,)","v":0},{"$f":"IF(Entscheidungsgrundlage!$E$34=\"x\",Urmatrix!AL124,)","v":0},{"$f":"IF(Entscheidungsgrundlage!$E$34=\"x\",Urmatrix!AM124,)","v":0},{"$f":"IF(Entscheidungsgrundlage!$E$34=\"x\",Urmatrix!AN124,)","v":0},{"$f":"IF(Entscheidungsgrundlage!$E$34=\"x\",Urmatrix!AO124,)","v":0},{"$f":"IF(Entscheidungsgrundlage!$E$34=\"x\",Urmatrix!AP124,)","v":0},{"$f":"IF(Entscheidungsgrundlage!$E$34=\"x\",Urmatrix!AQ124,)","v":0},{"$f":"IF(Entscheidungsgrundlage!$E$34=\"x\",Urmatrix!AR124,)","v":0},{"$f":"IF(Entscheidungsgrundlage!$E$34=\"x\",Urmatrix!AS124,)","v":0},{"$f":"IF(Entscheidungsgrundlage!$E$34=\"x\",Urmatrix!AT124,)","v":0},{"$f":"IF(Entscheidungsgrundlage!$E$34=\"x\",Urmatrix!AU124,)","v":0},{"$f":"IF(Entscheidungsgrundlage!$E$34=\"x\",Urmatrix!AV124,)","v":0},{"$f":"IF(Entscheidungsgrundlage!$E$34=\"x\",Urmatrix!AW124,)","v":0},{"$f":"IF(Entscheidungsgrundlage!$E$34=\"x\",Urmatrix!AX124,)","v":0},{"$f":"IF(Entscheidungsgrundlage!$E$34=\"x\",Urmatrix!AY124,)","v":0},{"$f":"IF(Entscheidungsgrundlage!$E$34=\"x\",Urmatrix!AZ124,)","v":0},{"$f":"IF(Entscheidungsgrundlage!$E$34=\"x\",Urmatrix!BA124,)","v":0},{"$f":"IF(Entscheidungsgrundlage!$E$34=\"x\",Urmatrix!BB124,)","v":0},{"$f":"IF(Entscheidungsgrundlage!$E$34=\"x\",Urmatrix!BC124,)","v":0},{"$f":"IF(Entscheidungsgrundlage!$E$34=\"x\",Urmatrix!BD124,)","v":0},{"$f":"IF(Entscheidungsgrundlage!$E$34=\"x\",Urmatrix!BE124,)","v":0},{"$f":"IF(Entscheidungsgrundlage!$E$34=\"x\",Urmatrix!BF124,)","v":0},{"$f":"IF(Entscheidungsgrundlage!$E$34=\"x\",Urmatrix!BG124,)","v":0}]
[null,null,null,null,null,null,"Zielkomplementarität ",null,{"$f":"IF(Entscheidungsgrundlage!$Y$34=\"x\",Urmatrix!I125,)","v":0},{"$f":"IF(Entscheidungsgrundlage!$Y$34=\"x\",Urmatrix!J125,)","v":0},{"$f":"IF(Entscheidungsgrundlage!$Y$34=\"x\",Urmatrix!K125,)","v":0},{"$f":"IF(Entscheidungsgrundlage!$Y$34=\"x\",Urmatrix!L125,)","v":0},{"$f":"IF(Entscheidungsgrundlage!$Y$34=\"x\",Urmatrix!M125,)","v":0},{"$f":"IF(Entscheidungsgrundlage!$Y$34=\"x\",Urmatrix!N125,)","v":0},{"$f":"IF(Entscheidungsgrundlage!$Y$34=\"x\",Urmatrix!O125,)","v":0},{"$f":"IF(Entscheidungsgrundlage!$Y$34=\"x\",Urmatrix!P125,)","v":0},{"$f":"IF(Entscheidungsgrundlage!$Y$34=\"x\",Urmatrix!Q125,)","v":0},{"$f":"IF(Entscheidungsgrundlage!$Y$34=\"x\",Urmatrix!R125,)","v":0},{"$f":"IF(Entscheidungsgrundlage!$Y$34=\"x\",Urmatrix!S125,)","v":0},{"$f":"IF(Entscheidungsgrundlage!$Y$34=\"x\",Urmatrix!T125,)","v":0},{"$f":"IF(Entscheidungsgrundlage!$Y$34=\"x\",Urmatrix!U125,)","v":0},{"$f":"IF(Entscheidungsgrundlage!$Y$34=\"x\",Urmatrix!V125,)","v":0},{"$f":"IF(Entscheidungsgrundlage!$Y$34=\"x\",Urmatrix!W125,)","v":0},{"$f":"IF(Entscheidungsgrundlage!$Y$34=\"x\",Urmatrix!X125,)","v":0},{"$f":"IF(Entscheidungsgrundlage!$Y$34=\"x\",Urmatrix!Y125,)","v":0},{"$f":"IF(Entscheidungsgrundlage!$Y$34=\"x\",Urmatrix!Z125,)","v":0},{"$f":"IF(Entscheidungsgrundlage!$Y$34=\"x\",Urmatrix!AA125,)","v":0},{"$f":"IF(Entscheidungsgrundlage!$Y$34=\"x\",Urmatrix!AB125,)","v":0},{"$f":"IF(Entscheidungsgrundlage!$Y$34=\"x\",Urmatrix!AC125,)","v":0},{"$f":"IF(Entscheidungsgrundlage!$Y$34=\"x\",Urmatrix!AD125,)","v":0},{"$f":"IF(Entscheidungsgrundlage!$Y$34=\"x\",Urmatrix!AE125,)","v":0},{"$f":"IF(Entscheidungsgrundlage!$Y$34=\"x\",Urmatrix!AF125,)","v":0},{"$f":"IF(Entscheidungsgrundlage!$Y$34=\"x\",Urmatrix!AG125,)","v":0},{"$f":"IF(Entscheidungsgrundlage!$Y$34=\"x\",Urmatrix!AH125,)","v":0},{"$f":"IF(Entscheidungsgrundlage!$Y$34=\"x\",Urmatrix!AI125,)","v":0},{"$f":"IF(Entscheidungsgrundlage!$Y$34=\"x\",Urmatrix!AJ125,)","v":0},{"$f":"IF(Entscheidungsgrundlage!$Y$34=\"x\",Urmatrix!AK125,)","v":0},{"$f":"IF(Entscheidungsgrundlage!$Y$34=\"x\",Urmatrix!AL125,)","v":0},{"$f":"IF(Entscheidungsgrundlage!$Y$34=\"x\",Urmatrix!AM125,)","v":0},{"$f":"IF(Entscheidungsgrundlage!$Y$34=\"x\",Urmatrix!AN125,)","v":0},{"$f":"IF(Entscheidungsgrundlage!$Y$34=\"x\",Urmatrix!AO125,)","v":0},{"$f":"IF(Entscheidungsgrundlage!$Y$34=\"x\",Urmatrix!AP125,)","v":0},{"$f":"IF(Entscheidungsgrundlage!$Y$34=\"x\",Urmatrix!AQ125,)","v":0},{"$f":"IF(Entscheidungsgrundlage!$Y$34=\"x\",Urmatrix!AR125,)","v":0},{"$f":"IF(Entscheidungsgrundlage!$Y$34=\"x\",Urmatrix!AS125,)","v":0},{"$f":"IF(Entscheidungsgrundlage!$Y$34=\"x\",Urmatrix!AT125,)","v":0},{"$f":"IF(Entscheidungsgrundlage!$Y$34=\"x\",Urmatrix!AU125,)","v":0},{"$f":"IF(Entscheidungsgrundlage!$Y$34=\"x\",Urmatrix!AV125,)","v":0},{"$f":"IF(Entscheidungsgrundlage!$Y$34=\"x\",Urmatrix!AW125,)","v":0},{"$f":"IF(Entscheidungsgrundlage!$Y$34=\"x\",Urmatrix!AX125,)","v":0},{"$f":"IF(Entscheidungsgrundlage!$Y$34=\"x\",Urmatrix!AY125,)","v":0},{"$f":"IF(Entscheidungsgrundlage!$Y$34=\"x\",Urmatrix!AZ125,)","v":0},{"$f":"IF(Entscheidungsgrundlage!$Y$34=\"x\",Urmatrix!BA125,)","v":0},{"$f":"IF(Entscheidungsgrundlage!$Y$34=\"x\",Urmatrix!BB125,)","v":0},{"$f":"IF(Entscheidungsgrundlage!$Y$34=\"x\",Urmatrix!BC125,)","v":0},{"$f":"IF(Entscheidungsgrundlage!$Y$34=\"x\",Urmatrix!BD125,)","v":0},{"$f":"IF(Entscheidungsgrundlage!$Y$34=\"x\",Urmatrix!BE125,)","v":0},{"$f":"IF(Entscheidungsgrundlage!$Y$34=\"x\",Urmatrix!BF125,)","v":0},{"$f":"IF(Entscheidungsgrundlage!$Y$34=\"x\",Urmatrix!BG125,)","v":0}]
[null,null,null,null,null,null,"Zielkonkurrenz ",null,{"$f":"IF(Entscheidungsgrundlage!$AS$34=\"x\",Urmatrix!I126,)","v":0},{"$f":"IF(Entscheidungsgrundlage!$AS$34=\"x\",Urmatrix!J126,)","v":0},{"$f":"IF(Entscheidungsgrundlage!$AS$34=\"x\",Urmatrix!K126,)","v":0},{"$f":"IF(Entscheidungsgrundlage!$AS$34=\"x\",Urmatrix!L126,)","v":0},{"$f":"IF(Entscheidungsgrundlage!$AS$34=\"x\",Urmatrix!M126,)","v":0},{"$f":"IF(Entscheidungsgrundlage!$AS$34=\"x\",Urmatrix!N126,)","v":0},{"$f":"IF(Entscheidungsgrundlage!$AS$34=\"x\",Urmatrix!O126,)","v":0},{"$f":"IF(Entscheidungsgrundlage!$AS$34=\"x\",Urmatrix!P126,)","v":0},{"$f":"IF(Entscheidungsgrundlage!$AS$34=\"x\",Urmatrix!Q126,)","v":0},{"$f":"IF(Entscheidungsgrundlage!$AS$34=\"x\",Urmatrix!R126,)","v":0},{"$f":"IF(Entscheidungsgrundlage!$AS$34=\"x\",Urmatrix!S126,)","v":0},{"$f":"IF(Entscheidungsgrundlage!$AS$34=\"x\",Urmatrix!T126,)","v":0},{"$f":"IF(Entscheidungsgrundlage!$AS$34=\"x\",Urmatrix!U126,)","v":0},{"$f":"IF(Entscheidungsgrundlage!$AS$34=\"x\",Urmatrix!V126,)","v":0},{"$f":"IF(Entscheidungsgrundlage!$AS$34=\"x\",Urmatrix!W126,)","v":0},{"$f":"IF(Entscheidungsgrundlage!$AS$34=\"x\",Urmatrix!X126,)","v":0},{"$f":"IF(Entscheidungsgrundlage!$AS$34=\"x\",Urmatrix!Y126,)","v":0},{"$f":"IF(Entscheidungsgrundlage!$AS$34=\"x\",Urmatrix!Z126,)","v":0},{"$f":"IF(Entscheidungsgrundlage!$AS$34=\"x\",Urmatrix!AA126,)","v":0},{"$f":"IF(Entscheidungsgrundlage!$AS$34=\"x\",Urmatrix!AB126,)","v":0},{"$f":"IF(Entscheidungsgrundlage!$AS$34=\"x\",Urmatrix!AC126,)","v":0},{"$f":"IF(Entscheidungsgrundlage!$AS$34=\"x\",Urmatrix!AD126,)","v":0},{"$f":"IF(Entscheidungsgrundlage!$AS$34=\"x\",Urmatrix!AE126,)","v":0},{"$f":"IF(Entscheidungsgrundlage!$AS$34=\"x\",Urmatrix!AF126,)","v":0},{"$f":"IF(Entscheidungsgrundlage!$AS$34=\"x\",Urmatrix!AG126,)","v":0},{"$f":"IF(Entscheidungsgrundlage!$AS$34=\"x\",Urmatrix!AH126,)","v":0},{"$f":"IF(Entscheidungsgrundlage!$AS$34=\"x\",Urmatrix!AI126,)","v":0},{"$f":"IF(Entscheidungsgrundlage!$AS$34=\"x\",Urmatrix!AJ126,)","v":0},{"$f":"IF(Entscheidungsgrundlage!$AS$34=\"x\",Urmatrix!AK126,)","v":0},{"$f":"IF(Entscheidungsgrundlage!$AS$34=\"x\",Urmatrix!AL126,)","v":0},{"$f":"IF(Entscheidungsgrundlage!$AS$34=\"x\",Urmatrix!AM126,)","v":0},{"$f":"IF(Entscheidungsgrundlage!$AS$34=\"x\",Urmatrix!AN126,)","v":0},{"$f":"IF(Entscheidungsgrundlage!$AS$34=\"x\",Urmatrix!AO126,)","v":0},{"$f":"IF(Entscheidungsgrundlage!$AS$34=\"x\",Urmatrix!AP126,)","v":0},{"$f":"IF(Entscheidungsgrundlage!$AS$34=\"x\",Urmatrix!AQ126,)","v":0},{"$f":"IF(Entscheidungsgrundlage!$AS$34=\"x\",Urmatrix!AR126,)","v":0},{"$f":"IF(Entscheidungsgrundlage!$AS$34=\"x\",Urmatrix!AS126,)","v":0},{"$f":"IF(Entscheidungsgrundlage!$AS$34=\"x\",Urmatrix!AT126,)","v":0},{"$f":"IF(Entscheidungsgrundlage!$AS$34=\"x\",Urmatrix!AU126,)","v":0},{"$f":"IF(Entscheidungsgrundlage!$AS$34=\"x\",Urmatrix!AV126,)","v":0},{"$f":"IF(Entscheidungsgrundlage!$AS$34=\"x\",Urmatrix!AW126,)","v":0},{"$f":"IF(Entscheidungsgrundlage!$AS$34=\"x\",Urmatrix!AX126,)","v":0},{"$f":"IF(Entscheidungsgrundlage!$AS$34=\"x\",Urmatrix!AY126,)","v":0},{"$f":"IF(Entscheidungsgrundlage!$AS$34=\"x\",Urmatrix!AZ126,)","v":0},{"$f":"IF(Entscheidungsgrundlage!$AS$34=\"x\",Urmatrix!BA126,)","v":0},{"$f":"IF(Entscheidungsgrundlage!$AS$34=\"x\",Urmatrix!BB126,)","v":0},{"$f":"IF(Entscheidungsgrundlage!$AS$34=\"x\",Urmatrix!BC126,)","v":0},{"$f":"IF(Entscheidungsgrundlage!$AS$34=\"x\",Urmatrix!BD126,)","v":0},{"$f":"IF(Entscheidungsgrundlage!$AS$34=\"x\",Urmatrix!BE126,)","v":0},{"$f":"IF(Entscheidungsgrundlage!$AS$34=\"x\",Urmatrix!BF126,)","v":0},{"$f":"IF(Entscheidungsgrundlage!$AS$34=\"x\",Urmatrix!BG126,)","v":0}]
[null,"Basse",null,null,null," Häufikeit von Änderungen","gering",null,{"$f":"IF(Entscheidungsgrundlage!$E$36=\"x\",Urmatrix!I127,)","v":0},{"$f":"IF(Entscheidungsgrundlage!$E$36=\"x\",Urmatrix!J127,)","v":0},{"$f":"IF(Entscheidungsgrundlage!$E$36=\"x\",Urmatrix!K127,)","v":0},{"$f":"IF(Entscheidungsgrundlage!$E$36=\"x\",Urmatrix!L127,)","v":0},{"$f":"IF(Entscheidungsgrundlage!$E$36=\"x\",Urmatrix!M127,)","v":0},{"$f":"IF(Entscheidungsgrundlage!$E$36=\"x\",Urmatrix!N127,)","v":0},{"$f":"IF(Entscheidungsgrundlage!$E$36=\"x\",Urmatrix!O127,)","v":0},{"$f":"IF(Entscheidungsgrundlage!$E$36=\"x\",Urmatrix!P127,)","v":0},{"$f":"IF(Entscheidungsgrundlage!$E$36=\"x\",Urmatrix!Q127,)","v":0},{"$f":"IF(Entscheidungsgrundlage!$E$36=\"x\",Urmatrix!R127,)","v":0},{"$f":"IF(Entscheidungsgrundlage!$E$36=\"x\",Urmatrix!S127,)","v":0},{"$f":"IF(Entscheidungsgrundlage!$E$36=\"x\",Urmatrix!T127,)","v":0},{"$f":"IF(Entscheidungsgrundlage!$E$36=\"x\",Urmatrix!U127,)","v":0},{"$f":"IF(Entscheidungsgrundlage!$E$36=\"x\",Urmatrix!V127,)","v":0},{"$f":"IF(Entscheidungsgrundlage!$E$36=\"x\",Urmatrix!W127,)","v":0},{"$f":"IF(Entscheidungsgrundlage!$E$36=\"x\",Urmatrix!X127,)","v":0},{"$f":"IF(Entscheidungsgrundlage!$E$36=\"x\",Urmatrix!Y127,)","v":0},{"$f":"IF(Entscheidungsgrundlage!$E$36=\"x\",Urmatrix!Z127,)","v":0},{"$f":"IF(Entscheidungsgrundlage!$E$36=\"x\",Urmatrix!AA127,)","v":0},{"$f":"IF(Entscheidungsgrundlage!$E$36=\"x\",Urmatrix!AB127,)","v":0},{"$f":"IF(Entscheidungsgrundlage!$E$36=\"x\",Urmatrix!AC127,)","v":0},{"$f":"IF(Entscheidungsgrundlage!$E$36=\"x\",Urmatrix!AD127,)","v":0},{"$f":"IF(Entscheidungsgrundlage!$E$36=\"x\",Urmatrix!AE127,)","v":0},{"$f":"IF(Entscheidungsgrundlage!$E$36=\"x\",Urmatrix!AF127,)","v":0},{"$f":"IF(Entscheidungsgrundlage!$E$36=\"x\",Urmatrix!AG127,)","v":0},{"$f":"IF(Entscheidungsgrundlage!$E$36=\"x\",Urmatrix!AH127,)","v":0},{"$f":"IF(Entscheidungsgrundlage!$E$36=\"x\",Urmatrix!AI127,)","v":0},{"$f":"IF(Entscheidungsgrundlage!$E$36=\"x\",Urmatrix!AJ127,)","v":0},{"$f":"IF(Entscheidungsgrundlage!$E$36=\"x\",Urmatrix!AK127,)","v":0},{"$f":"IF(Entscheidungsgrundlage!$E$36=\"x\",Urmatrix!AL127,)","v":0},{"$f":"IF(Entscheidungsgrundlage!$E$36=\"x\",Urmatrix!AM127,)","v":0},{"$f":"IF(Entscheidungsgrundlage!$E$36=\"x\",Urmatrix!AN127,)","v":0},{"$f":"IF(Entscheidungsgrundlage!$E$36=\"x\",Urmatrix!AO127,)","v":0},{"$f":"IF(Entscheidungsgrundlage!$E$36=\"x\",Urmatrix!AP127,)","v":0},{"$f":"IF(Entscheidungsgrundlage!$E$36=\"x\",Urmatrix!AQ127,)","v":0},{"$f":"IF(Entscheidungsgrundlage!$E$36=\"x\",Urmatrix!AR127,)","v":0},{"$f":"IF(Entscheidungsgrundlage!$E$36=\"x\",Urmatrix!AS127,)","v":0},{"$f":"IF(Entscheidungsgrundlage!$E$36=\"x\",Urmatrix!AT127,)","v":0},{"$f":"IF(Entscheidungsgrundlage!$E$36=\"x\",Urmatrix!AU127,)","v":0},{"$f":"IF(Entscheidungsgrundlage!$E$36=\"x\",Urmatrix!AV127,)","v":0},{"$f":"IF(Entscheidungsgrundlage!$E$36=\"x\",Urmatrix!AW127,)","v":0},{"$f":"IF(Entscheidungsgrundlage!$E$36=\"x\",Urmatrix!AX127,)","v":0},{"$f":"IF(Entscheidungsgrundlage!$E$36=\"x\",Urmatrix!AY127,)","v":0},{"$f":"IF(Entscheidungsgrundlage!$E$36=\"x\",Urmatrix!AZ127,)","v":0},{"$f":"IF(Entscheidungsgrundlage!$E$36=\"x\",Urmatrix!BA127,)","v":0},{"$f":"IF(Entscheidungsgrundlage!$E$36=\"x\",Urmatrix!BB127,)","v":0},{"$f":"IF(Entscheidungsgrundlage!$E$36=\"x\",Urmatrix!BC127,)","v":0},{"$f":"IF(Entscheidungsgrundlage!$E$36=\"x\",Urmatrix!BD127,)","v":0},{"$f":"IF(Entscheidungsgrundlage!$E$36=\"x\",Urmatrix!BE127,)","v":0},{"$f":"IF(Entscheidungsgrundlage!$E$36=\"x\",Urmatrix!BF127,)","v":0},{"$f":"IF(Entscheidungsgrundlage!$E$36=\"x\",Urmatrix!BG127,)","v":0}]
[null,null,null,null,null,null,"mittel",null,{"$f":"IF(Entscheidungsgrundlage!$Y$36=\"x\",Urmatrix!I128,)","v":0},{"$f":"IF(Entscheidungsgrundlage!$Y$36=\"x\",Urmatrix!J128,)","v":0},{"$f":"IF(Entscheidungsgrundlage!$Y$36=\"x\",Urmatrix!K128,)","v":0},{"$f":"IF(Entscheidungsgrundlage!$Y$36=\"x\",Urmatrix!L128,)","v":0},{"$f":"IF(Entscheidungsgrundlage!$Y$36=\"x\",Urmatrix!M128,)","v":0},{"$f":"IF(Entscheidungsgrundlage!$Y$36=\"x\",Urmatrix!N128,)","v":0},{"$f":"IF(Entscheidungsgrundlage!$Y$36=\"x\",Urmatrix!O128,)","v":0},{"$f":"IF(Entscheidungsgrundlage!$Y$36=\"x\",Urmatrix!P128,)","v":0},{"$f":"IF(Entscheidungsgrundlage!$Y$36=\"x\",Urmatrix!Q128,)","v":0},{"$f":"IF(Entscheidungsgrundlage!$Y$36=\"x\",Urmatrix!R128,)","v":0},{"$f":"IF(Entscheidungsgrundlage!$Y$36=\"x\",Urmatrix!S128,)","v":0},{"$f":"IF(Entscheidungsgrundlage!$Y$36=\"x\",Urmatrix!T128,)","v":0},{"$f":"IF(Entscheidungsgrundlage!$Y$36=\"x\",Urmatrix!U128,)","v":0},{"$f":"IF(Entscheidungsgrundlage!$Y$36=\"x\",Urmatrix!V128,)","v":0},{"$f":"IF(Entscheidungsgrundlage!$Y$36=\"x\",Urmatrix!W128,)","v":0},{"$f":"IF(Entscheidungsgrundlage!$Y$36=\"x\",Urmatrix!X128,)","v":0},{"$f":"IF(Entscheidungsgrundlage!$Y$36=\"x\",Urmatrix!Y128,)","v":0},{"$f":"IF(Entscheidungsgrundlage!$Y$36=\"x\",Urmatrix!Z128,)","v":0},{"$f":"IF(Entscheidungsgrundlage!$Y$36=\"x\",Urmatrix!AA128,)","v":0},{"$f":"IF(Entscheidungsgrundlage!$Y$36=\"x\",Urmatrix!AB128,)","v":0},{"$f":"IF(Entscheidungsgrundlage!$Y$36=\"x\",Urmatrix!AC128,)","v":0},{"$f":"IF(Entscheidungsgrundlage!$Y$36=\"x\",Urmatrix!AD128,)","v":0},{"$f":"IF(Entscheidungsgrundlage!$Y$36=\"x\",Urmatrix!AE128,)","v":0},{"$f":"IF(Entscheidungsgrundlage!$Y$36=\"x\",Urmatrix!AF128,)","v":0},{"$f":"IF(Entscheidungsgrundlage!$Y$36=\"x\",Urmatrix!AG128,)","v":0},{"$f":"IF(Entscheidungsgrundlage!$Y$36=\"x\",Urmatrix!AH128,)","v":0},{"$f":"IF(Entscheidungsgrundlage!$Y$36=\"x\",Urmatrix!AI128,)","v":0},{"$f":"IF(Entscheidungsgrundlage!$Y$36=\"x\",Urmatrix!AJ128,)","v":0},{"$f":"IF(Entscheidungsgrundlage!$Y$36=\"x\",Urmatrix!AK128,)","v":0},{"$f":"IF(Entscheidungsgrundlage!$Y$36=\"x\",Urmatrix!AL128,)","v":0},{"$f":"IF(Entscheidungsgrundlage!$Y$36=\"x\",Urmatrix!AM128,)","v":0},{"$f":"IF(Entscheidungsgrundlage!$Y$36=\"x\",Urmatrix!AN128,)","v":0},{"$f":"IF(Entscheidungsgrundlage!$Y$36=\"x\",Urmatrix!AO128,)","v":0},{"$f":"IF(Entscheidungsgrundlage!$Y$36=\"x\",Urmatrix!AP128,)","v":0},{"$f":"IF(Entscheidungsgrundlage!$Y$36=\"x\",Urmatrix!AQ128,)","v":0},{"$f":"IF(Entscheidungsgrundlage!$Y$36=\"x\",Urmatrix!AR128,)","v":0},{"$f":"IF(Entscheidungsgrundlage!$Y$36=\"x\",Urmatrix!AS128,)","v":0},{"$f":"IF(Entscheidungsgrundlage!$Y$36=\"x\",Urmatrix!AT128,)","v":0},{"$f":"IF(Entscheidungsgrundlage!$Y$36=\"x\",Urmatrix!AU128,)","v":0},{"$f":"IF(Entscheidungsgrundlage!$Y$36=\"x\",Urmatrix!AV128,)","v":0},{"$f":"IF(Entscheidungsgrundlage!$Y$36=\"x\",Urmatrix!AW128,)","v":0},{"$f":"IF(Entscheidungsgrundlage!$Y$36=\"x\",Urmatrix!AX128,)","v":0},{"$f":"IF(Entscheidungsgrundlage!$Y$36=\"x\",Urmatrix!AY128,)","v":0},{"$f":"IF(Entscheidungsgrundlage!$Y$36=\"x\",Urmatrix!AZ128,)","v":0},{"$f":"IF(Entscheidungsgrundlage!$Y$36=\"x\",Urmatrix!BA128,)","v":0},{"$f":"IF(Entscheidungsgrundlage!$Y$36=\"x\",Urmatrix!BB128,)","v":0},{"$f":"IF(Entscheidungsgrundlage!$Y$36=\"x\",Urmatrix!BC128,)","v":0},{"$f":"IF(Entscheidungsgrundlage!$Y$36=\"x\",Urmatrix!BD128,)","v":0},{"$f":"IF(Entscheidungsgrundlage!$Y$36=\"x\",Urmatrix!BE128,)","v":0},{"$f":"IF(Entscheidungsgrundlage!$Y$36=\"x\",Urmatrix!BF128,)","v":0},{"$f":"IF(Entscheidungsgrundlage!$Y$36=\"x\",Urmatrix!BG128,)","v":0}]
[null,null,null,null,null,null,"hoch",null,{"$f":"IF(Entscheidungsgrundlage!$AS$36=\"x\",Urmatrix!I129,)","v":0},{"$f":"IF(Entscheidungsgrundlage!$AS$36=\"x\",Urmatrix!J129,)","v":0},{"$f":"IF(Entscheidungsgrundlage!$AS$36=\"x\",Urmatrix!K129,)","v":0},{"$f":"IF(Entscheidungsgrundlage!$AS$36=\"x\",Urmatrix!L129,)","v":0},{"$f":"IF(Entscheidungsgrundlage!$AS$36=\"x\",Urmatrix!M129,)","v":0},{"$f":"IF(Entscheidungsgrundlage!$AS$36=\"x\",Urmatrix!N129,)","v":0},{"$f":"IF(Entscheidungsgrundlage!$AS$36=\"x\",Urmatrix!O129,)","v":0},{"$f":"IF(Entscheidungsgrundlage!$AS$36=\"x\",Urmatrix!P129,)","v":0},{"$f":"IF(Entscheidungsgrundlage!$AS$36=\"x\",Urmatrix!Q129,)","v":0},{"$f":"IF(Entscheidungsgrundlage!$AS$36=\"x\",Urmatrix!R129,)","v":0},{"$f":"IF(Entscheidungsgrundlage!$AS$36=\"x\",Urmatrix!S129,)","v":0},{"$f":"IF(Entscheidungsgrundlage!$AS$36=\"x\",Urmatrix!T129,)","v":0},{"$f":"IF(Entscheidungsgrundlage!$AS$36=\"x\",Urmatrix!U129,)","v":0},{"$f":"IF(Entscheidungsgrundlage!$AS$36=\"x\",Urmatrix!V129,)","v":0},{"$f":"IF(Entscheidungsgrundlage!$AS$36=\"x\",Urmatrix!W129,)","v":0},{"$f":"IF(Entscheidungsgrundlage!$AS$36=\"x\",Urmatrix!X129,)","v":0},{"$f":"IF(Entscheidungsgrundlage!$AS$36=\"x\",Urmatrix!Y129,)","v":0},{"$f":"IF(Entscheidungsgrundlage!$AS$36=\"x\",Urmatrix!Z129,)","v":0},{"$f":"IF(Entscheidungsgrundlage!$AS$36=\"x\",Urmatrix!AA129,)","v":0},{"$f":"IF(Entscheidungsgrundlage!$AS$36=\"x\",Urmatrix!AB129,)","v":0},{"$f":"IF(Entscheidungsgrundlage!$AS$36=\"x\",Urmatrix!AC129,)","v":0},{"$f":"IF(Entscheidungsgrundlage!$AS$36=\"x\",Urmatrix!AD129,)","v":0},{"$f":"IF(Entscheidungsgrundlage!$AS$36=\"x\",Urmatrix!AE129,)","v":0},{"$f":"IF(Entscheidungsgrundlage!$AS$36=\"x\",Urmatrix!AF129,)","v":0},{"$f":"IF(Entscheidungsgrundlage!$AS$36=\"x\",Urmatrix!AG129,)","v":0},{"$f":"IF(Entscheidungsgrundlage!$AS$36=\"x\",Urmatrix!AH129,)","v":0},{"$f":"IF(Entscheidungsgrundlage!$AS$36=\"x\",Urmatrix!AI129,)","v":0},{"$f":"IF(Entscheidungsgrundlage!$AS$36=\"x\",Urmatrix!AJ129,)","v":0},{"$f":"IF(Entscheidungsgrundlage!$AS$36=\"x\",Urmatrix!AK129,)","v":0},{"$f":"IF(Entscheidungsgrundlage!$AS$36=\"x\",Urmatrix!AL129,)","v":0},{"$f":"IF(Entscheidungsgrundlage!$AS$36=\"x\",Urmatrix!AM129,)","v":0},{"$f":"IF(Entscheidungsgrundlage!$AS$36=\"x\",Urmatrix!AN129,)","v":0},{"$f":"IF(Entscheidungsgrundlage!$AS$36=\"x\",Urmatrix!AO129,)","v":0},{"$f":"IF(Entscheidungsgrundlage!$AS$36=\"x\",Urmatrix!AP129,)","v":0},{"$f":"IF(Entscheidungsgrundlage!$AS$36=\"x\",Urmatrix!AQ129,)","v":0},{"$f":"IF(Entscheidungsgrundlage!$AS$36=\"x\",Urmatrix!AR129,)","v":0},{"$f":"IF(Entscheidungsgrundlage!$AS$36=\"x\",Urmatrix!AS129,)","v":0},{"$f":"IF(Entscheidungsgrundlage!$AS$36=\"x\",Urmatrix!AT129,)","v":0},{"$f":"IF(Entscheidungsgrundlage!$AS$36=\"x\",Urmatrix!AU129,)","v":0},{"$f":"IF(Entscheidungsgrundlage!$AS$36=\"x\",Urmatrix!AV129,)","v":0},{"$f":"IF(Entscheidungsgrundlage!$AS$36=\"x\",Urmatrix!AW129,)","v":0},{"$f":"IF(Entscheidungsgrundlage!$AS$36=\"x\",Urmatrix!AX129,)","v":0},{"$f":"IF(Entscheidungsgrundlage!$AS$36=\"x\",Urmatrix!AY129,)","v":0},{"$f":"IF(Entscheidungsgrundlage!$AS$36=\"x\",Urmatrix!AZ129,)","v":0},{"$f":"IF(Entscheidungsgrundlage!$AS$36=\"x\",Urmatrix!BA129,)","v":0},{"$f":"IF(Entscheidungsgrundlage!$AS$36=\"x\",Urmatrix!BB129,)","v":0},{"$f":"IF(Entscheidungsgrundlage!$AS$36=\"x\",Urmatrix!BC129,)","v":0},{"$f":"IF(Entscheidungsgrundlage!$AS$36=\"x\",Urmatrix!BD129,)","v":0},{"$f":"IF(Entscheidungsgrundlage!$AS$36=\"x\",Urmatrix!BE129,)","v":0},{"$f":"IF(Entscheidungsgrundlage!$AS$36=\"x\",Urmatrix!BF129,)","v":0},{"$f":"IF(Entscheidungsgrundlage!$AS$36=\"x\",Urmatrix!BG129,)","v":0}]
[null,"Stiller",null,null,null,"Ändeurngsaufwand i.V. z. Entwicklungsaufwand","gering",null,{"$f":"IF(Entscheidungsgrundlage!$E$38=\"x\",Urmatrix!I130,)","v":0},{"$f":"IF(Entscheidungsgrundlage!$E$38=\"x\",Urmatrix!J130,)","v":0},{"$f":"IF(Entscheidungsgrundlage!$E$38=\"x\",Urmatrix!K130,)","v":0},{"$f":"IF(Entscheidungsgrundlage!$E$38=\"x\",Urmatrix!L130,)","v":0},{"$f":"IF(Entscheidungsgrundlage!$E$38=\"x\",Urmatrix!M130,)","v":0},{"$f":"IF(Entscheidungsgrundlage!$E$38=\"x\",Urmatrix!N130,)","v":0},{"$f":"IF(Entscheidungsgrundlage!$E$38=\"x\",Urmatrix!O130,)","v":0},{"$f":"IF(Entscheidungsgrundlage!$E$38=\"x\",Urmatrix!P130,)","v":0},{"$f":"IF(Entscheidungsgrundlage!$E$38=\"x\",Urmatrix!Q130,)","v":0},{"$f":"IF(Entscheidungsgrundlage!$E$38=\"x\",Urmatrix!R130,)","v":0},{"$f":"IF(Entscheidungsgrundlage!$E$38=\"x\",Urmatrix!S130,)","v":0},{"$f":"IF(Entscheidungsgrundlage!$E$38=\"x\",Urmatrix!T130,)","v":0},{"$f":"IF(Entscheidungsgrundlage!$E$38=\"x\",Urmatrix!U130,)","v":0},{"$f":"IF(Entscheidungsgrundlage!$E$38=\"x\",Urmatrix!V130,)","v":0},{"$f":"IF(Entscheidungsgrundlage!$E$38=\"x\",Urmatrix!W130,)","v":0},{"$f":"IF(Entscheidungsgrundlage!$E$38=\"x\",Urmatrix!X130,)","v":0},{"$f":"IF(Entscheidungsgrundlage!$E$38=\"x\",Urmatrix!Y130,)","v":0},{"$f":"IF(Entscheidungsgrundlage!$E$38=\"x\",Urmatrix!Z130,)","v":0},{"$f":"IF(Entscheidungsgrundlage!$E$38=\"x\",Urmatrix!AA130,)","v":0},{"$f":"IF(Entscheidungsgrundlage!$E$38=\"x\",Urmatrix!AB130,)","v":0},{"$f":"IF(Entscheidungsgrundlage!$E$38=\"x\",Urmatrix!AC130,)","v":0},{"$f":"IF(Entscheidungsgrundlage!$E$38=\"x\",Urmatrix!AD130,)","v":0},{"$f":"IF(Entscheidungsgrundlage!$E$38=\"x\",Urmatrix!AE130,)","v":0},{"$f":"IF(Entscheidungsgrundlage!$E$38=\"x\",Urmatrix!AF130,)","v":0},{"$f":"IF(Entscheidungsgrundlage!$E$38=\"x\",Urmatrix!AG130,)","v":0},{"$f":"IF(Entscheidungsgrundlage!$E$38=\"x\",Urmatrix!AH130,)","v":0},{"$f":"IF(Entscheidungsgrundlage!$E$38=\"x\",Urmatrix!AI130,)","v":0},{"$f":"IF(Entscheidungsgrundlage!$E$38=\"x\",Urmatrix!AJ130,)","v":0},{"$f":"IF(Entscheidungsgrundlage!$E$38=\"x\",Urmatrix!AK130,)","v":0},{"$f":"IF(Entscheidungsgrundlage!$E$38=\"x\",Urmatrix!AL130,)","v":0},{"$f":"IF(Entscheidungsgrundlage!$E$38=\"x\",Urmatrix!AM130,)","v":0},{"$f":"IF(Entscheidungsgrundlage!$E$38=\"x\",Urmatrix!AN130,)","v":0},{"$f":"IF(Entscheidungsgrundlage!$E$38=\"x\",Urmatrix!AO130,)","v":0},{"$f":"IF(Entscheidungsgrundlage!$E$38=\"x\",Urmatrix!AP130,)","v":0},{"$f":"IF(Entscheidungsgrundlage!$E$38=\"x\",Urmatrix!AQ130,)","v":0},{"$f":"IF(Entscheidungsgrundlage!$E$38=\"x\",Urmatrix!AR130,)","v":0},{"$f":"IF(Entscheidungsgrundlage!$E$38=\"x\",Urmatrix!AS130,)","v":0},{"$f":"IF(Entscheidungsgrundlage!$E$38=\"x\",Urmatrix!AT130,)","v":0},{"$f":"IF(Entscheidungsgrundlage!$E$38=\"x\",Urmatrix!AU130,)","v":0},{"$f":"IF(Entscheidungsgrundlage!$E$38=\"x\",Urmatrix!AV130,)","v":0},{"$f":"IF(Entscheidungsgrundlage!$E$38=\"x\",Urmatrix!AW130,)","v":0},{"$f":"IF(Entscheidungsgrundlage!$E$38=\"x\",Urmatrix!AX130,)","v":0},{"$f":"IF(Entscheidungsgrundlage!$E$38=\"x\",Urmatrix!AY130,)","v":0},{"$f":"IF(Entscheidungsgrundlage!$E$38=\"x\",Urmatrix!AZ130,)","v":0},{"$f":"IF(Entscheidungsgrundlage!$E$38=\"x\",Urmatrix!BA130,)","v":0},{"$f":"IF(Entscheidungsgrundlage!$E$38=\"x\",Urmatrix!BB130,)","v":0},{"$f":"IF(Entscheidungsgrundlage!$E$38=\"x\",Urmatrix!BC130,)","v":0},{"$f":"IF(Entscheidungsgrundlage!$E$38=\"x\",Urmatrix!BD130,)","v":0},{"$f":"IF(Entscheidungsgrundlage!$E$38=\"x\",Urmatrix!BE130,)","v":0},{"$f":"IF(Entscheidungsgrundlage!$E$38=\"x\",Urmatrix!BF130,)","v":0},{"$f":"IF(Entscheidungsgrundlage!$E$38=\"x\",Urmatrix!BG130,)","v":0}]
[null,null,null,null,null,null,"mittel",null,{"$f":"IF(Entscheidungsgrundlage!$Y$38=\"x\",Urmatrix!I131,)","v":0},{"$f":"IF(Entscheidungsgrundlage!$Y$38=\"x\",Urmatrix!J131,)","v":0},{"$f":"IF(Entscheidungsgrundlage!$Y$38=\"x\",Urmatrix!K131,)","v":0},{"$f":"IF(Entscheidungsgrundlage!$Y$38=\"x\",Urmatrix!L131,)","v":0},{"$f":"IF(Entscheidungsgrundlage!$Y$38=\"x\",Urmatrix!M131,)","v":0},{"$f":"IF(Entscheidungsgrundlage!$Y$38=\"x\",Urmatrix!N131,)","v":0},{"$f":"IF(Entscheidungsgrundlage!$Y$38=\"x\",Urmatrix!O131,)","v":0},{"$f":"IF(Entscheidungsgrundlage!$Y$38=\"x\",Urmatrix!P131,)","v":0},{"$f":"IF(Entscheidungsgrundlage!$Y$38=\"x\",Urmatrix!Q131,)","v":0},{"$f":"IF(Entscheidungsgrundlage!$Y$38=\"x\",Urmatrix!R131,)","v":0},{"$f":"IF(Entscheidungsgrundlage!$Y$38=\"x\",Urmatrix!S131,)","v":0},{"$f":"IF(Entscheidungsgrundlage!$Y$38=\"x\",Urmatrix!T131,)","v":0},{"$f":"IF(Entscheidungsgrundlage!$Y$38=\"x\",Urmatrix!U131,)","v":0},{"$f":"IF(Entscheidungsgrundlage!$Y$38=\"x\",Urmatrix!V131,)","v":0},{"$f":"IF(Entscheidungsgrundlage!$Y$38=\"x\",Urmatrix!W131,)","v":0},{"$f":"IF(Entscheidungsgrundlage!$Y$38=\"x\",Urmatrix!X131,)","v":0},{"$f":"IF(Entscheidungsgrundlage!$Y$38=\"x\",Urmatrix!Y131,)","v":0},{"$f":"IF(Entscheidungsgrundlage!$Y$38=\"x\",Urmatrix!Z131,)","v":0},{"$f":"IF(Entscheidungsgrundlage!$Y$38=\"x\",Urmatrix!AA131,)","v":0},{"$f":"IF(Entscheidungsgrundlage!$Y$38=\"x\",Urmatrix!AB131,)","v":0},{"$f":"IF(Entscheidungsgrundlage!$Y$38=\"x\",Urmatrix!AC131,)","v":0},{"$f":"IF(Entscheidungsgrundlage!$Y$38=\"x\",Urmatrix!AD131,)","v":0},{"$f":"IF(Entscheidungsgrundlage!$Y$38=\"x\",Urmatrix!AE131,)","v":0},{"$f":"IF(Entscheidungsgrundlage!$Y$38=\"x\",Urmatrix!AF131,)","v":0},{"$f":"IF(Entscheidungsgrundlage!$Y$38=\"x\",Urmatrix!AG131,)","v":0},{"$f":"IF(Entscheidungsgrundlage!$Y$38=\"x\",Urmatrix!AH131,)","v":0},{"$f":"IF(Entscheidungsgrundlage!$Y$38=\"x\",Urmatrix!AI131,)","v":0},{"$f":"IF(Entscheidungsgrundlage!$Y$38=\"x\",Urmatrix!AJ131,)","v":0},{"$f":"IF(Entscheidungsgrundlage!$Y$38=\"x\",Urmatrix!AK131,)","v":0},{"$f":"IF(Entscheidungsgrundlage!$Y$38=\"x\",Urmatrix!AL131,)","v":0},{"$f":"IF(Entscheidungsgrundlage!$Y$38=\"x\",Urmatrix!AM131,)","v":0},{"$f":"IF(Entscheidungsgrundlage!$Y$38=\"x\",Urmatrix!AN131,)","v":0},{"$f":"IF(Entscheidungsgrundlage!$Y$38=\"x\",Urmatrix!AO131,)","v":0},{"$f":"IF(Entscheidungsgrundlage!$Y$38=\"x\",Urmatrix!AP131,)","v":0},{"$f":"IF(Entscheidungsgrundlage!$Y$38=\"x\",Urmatrix!AQ131,)","v":0},{"$f":"IF(Entscheidungsgrundlage!$Y$38=\"x\",Urmatrix!AR131,)","v":0},{"$f":"IF(Entscheidungsgrundlage!$Y$38=\"x\",Urmatrix!AS131,)","v":0},{"$f":"IF(Entscheidungsgrundlage!$Y$38=\"x\",Urmatrix!AT131,)","v":0},{"$f":"IF(Entscheidungsgrundlage!$Y$38=\"x\",Urmatrix!AU131,)","v":0},{"$f":"IF(Entscheidungsgrundlage!$Y$38=\"x\",Urmatrix!AV131,)","v":0},{"$f":"IF(Entscheidungsgrundlage!$Y$38=\"x\",Urmatrix!AW131,)","v":0},{"$f":"IF(Entscheidungsgrundlage!$Y$38=\"x\",Urmatrix!AX131,)","v":0},{"$f":"IF(Entscheidungsgrundlage!$Y$38=\"x\",Urmatrix!AY131,)","v":0},{"$f":"IF(Entscheidungsgrundlage!$Y$38=\"x\",Urmatrix!AZ131,)","v":0},{"$f":"IF(Entscheidungsgrundlage!$Y$38=\"x\",Urmatrix!BA131,)","v":0},{"$f":"IF(Entscheidungsgrundlage!$Y$38=\"x\",Urmatrix!BB131,)","v":0},{"$f":"IF(Entscheidungsgrundlage!$Y$38=\"x\",Urmatrix!BC131,)","v":0},{"$f":"IF(Entscheidungsgrundlage!$Y$38=\"x\",Urmatrix!BD131,)","v":0},{"$f":"IF(Entscheidungsgrundlage!$Y$38=\"x\",Urmatrix!BE131,)","v":0},{"$f":"IF(Entscheidungsgrundlage!$Y$38=\"x\",Urmatrix!BF131,)","v":0},{"$f":"IF(Entscheidungsgrundlage!$Y$38=\"x\",Urmatrix!BG131,)","v":0}]
[null,null,null,null,null,null,"hoch",null,{"$f":"IF(Entscheidungsgrundlage!$AS$38=\"x\",Urmatrix!I132,)","v":0},{"$f":"IF(Entscheidungsgrundlage!$AS$38=\"x\",Urmatrix!J132,)","v":0},{"$f":"IF(Entscheidungsgrundlage!$AS$38=\"x\",Urmatrix!K132,)","v":0},{"$f":"IF(Entscheidungsgrundlage!$AS$38=\"x\",Urmatrix!L132,)","v":0},{"$f":"IF(Entscheidungsgrundlage!$AS$38=\"x\",Urmatrix!M132,)","v":0},{"$f":"IF(Entscheidungsgrundlage!$AS$38=\"x\",Urmatrix!N132,)","v":0},{"$f":"IF(Entscheidungsgrundlage!$AS$38=\"x\",Urmatrix!O132,)","v":0},{"$f":"IF(Entscheidungsgrundlage!$AS$38=\"x\",Urmatrix!P132,)","v":0},{"$f":"IF(Entscheidungsgrundlage!$AS$38=\"x\",Urmatrix!Q132,)","v":0},{"$f":"IF(Entscheidungsgrundlage!$AS$38=\"x\",Urmatrix!R132,)","v":0},{"$f":"IF(Entscheidungsgrundlage!$AS$38=\"x\",Urmatrix!S132,)","v":0},{"$f":"IF(Entscheidungsgrundlage!$AS$38=\"x\",Urmatrix!T132,)","v":0},{"$f":"IF(Entscheidungsgrundlage!$AS$38=\"x\",Urmatrix!U132,)","v":0},{"$f":"IF(Entscheidungsgrundlage!$AS$38=\"x\",Urmatrix!V132,)","v":0},{"$f":"IF(Entscheidungsgrundlage!$AS$38=\"x\",Urmatrix!W132,)","v":0},{"$f":"IF(Entscheidungsgrundlage!$AS$38=\"x\",Urmatrix!X132,)","v":0},{"$f":"IF(Entscheidungsgrundlage!$AS$38=\"x\",Urmatrix!Y132,)","v":0},{"$f":"IF(Entscheidungsgrundlage!$AS$38=\"x\",Urmatrix!Z132,)","v":0},{"$f":"IF(Entscheidungsgrundlage!$AS$38=\"x\",Urmatrix!AA132,)","v":0},{"$f":"IF(Entscheidungsgrundlage!$AS$38=\"x\",Urmatrix!AB132,)","v":0},{"$f":"IF(Entscheidungsgrundlage!$AS$38=\"x\",Urmatrix!AC132,)","v":0},{"$f":"IF(Entscheidungsgrundlage!$AS$38=\"x\",Urmatrix!AD132,)","v":0},{"$f":"IF(Entscheidungsgrundlage!$AS$38=\"x\",Urmatrix!AE132,)","v":0},{"$f":"IF(Entscheidungsgrundlage!$AS$38=\"x\",Urmatrix!AF132,)","v":0},{"$f":"IF(Entscheidungsgrundlage!$AS$38=\"x\",Urmatrix!AG132,)","v":0},{"$f":"IF(Entscheidungsgrundlage!$AS$38=\"x\",Urmatrix!AH132,)","v":0},{"$f":"IF(Entscheidungsgrundlage!$AS$38=\"x\",Urmatrix!AI132,)","v":0},{"$f":"IF(Entscheidungsgrundlage!$AS$38=\"x\",Urmatrix!AJ132,)","v":0},{"$f":"IF(Entscheidungsgrundlage!$AS$38=\"x\",Urmatrix!AK132,)","v":0},{"$f":"IF(Entscheidungsgrundlage!$AS$38=\"x\",Urmatrix!AL132,)","v":0},{"$f":"IF(Entscheidungsgrundlage!$AS$38=\"x\",Urmatrix!AM132,)","v":0},{"$f":"IF(Entscheidungsgrundlage!$AS$38=\"x\",Urmatrix!AN132,)","v":0},{"$f":"IF(Entscheidungsgrundlage!$AS$38=\"x\",Urmatrix!AO132,)","v":0},{"$f":"IF(Entscheidungsgrundlage!$AS$38=\"x\",Urmatrix!AP132,)","v":0},{"$f":"IF(Entscheidungsgrundlage!$AS$38=\"x\",Urmatrix!AQ132,)","v":0},{"$f":"IF(Entscheidungsgrundlage!$AS$38=\"x\",Urmatrix!AR132,)","v":0},{"$f":"IF(Entscheidungsgrundlage!$AS$38=\"x\",Urmatrix!AS132,)","v":0},{"$f":"IF(Entscheidungsgrundlage!$AS$38=\"x\",Urmatrix!AT132,)","v":0},{"$f":"IF(Entscheidungsgrundlage!$AS$38=\"x\",Urmatrix!AU132,)","v":0},{"$f":"IF(Entscheidungsgrundlage!$AS$38=\"x\",Urmatrix!AV132,)","v":0},{"$f":"IF(Entscheidungsgrundlage!$AS$38=\"x\",Urmatrix!AW132,)","v":0},{"$f":"IF(Entscheidungsgrundlage!$AS$38=\"x\",Urmatrix!AX132,)","v":0},{"$f":"IF(Entscheidungsgrundlage!$AS$38=\"x\",Urmatrix!AY132,)","v":0},{"$f":"IF(Entscheidungsgrundlage!$AS$38=\"x\",Urmatrix!AZ132,)","v":0},{"$f":"IF(Entscheidungsgrundlage!$AS$38=\"x\",Urmatrix!BA132,)","v":0},{"$f":"IF(Entscheidungsgrundlage!$AS$38=\"x\",Urmatrix!BB132,)","v":0},{"$f":"IF(Entscheidungsgrundlage!$AS$38=\"x\",Urmatrix!BC132,)","v":0},{"$f":"IF(Entscheidungsgrundlage!$AS$38=\"x\",Urmatrix!BD132,)","v":0},{"$f":"IF(Entscheidungsgrundlage!$AS$38=\"x\",Urmatrix!BE132,)","v":0},{"$f":"IF(Entscheidungsgrundlage!$AS$38=\"x\",Urmatrix!BF132,)","v":0},{"$f":"IF(Entscheidungsgrundlage!$AS$38=\"x\",Urmatrix!BG132,)","v":0}]
[null,null,null,null,null,"Projektkosten/ -umfang","<10k",null,{"$f":"IF(Entscheidungsgrundlage!$E$40=\"x\",Urmatrix!I133,)","v":0},{"$f":"IF(Entscheidungsgrundlage!$E$40=\"x\",Urmatrix!J133,)","v":0},{"$f":"IF(Entscheidungsgrundlage!$E$40=\"x\",Urmatrix!K133,)","v":0},{"$f":"IF(Entscheidungsgrundlage!$E$40=\"x\",Urmatrix!L133,)","v":0},{"$f":"IF(Entscheidungsgrundlage!$E$40=\"x\",Urmatrix!M133,)","v":0},{"$f":"IF(Entscheidungsgrundlage!$E$40=\"x\",Urmatrix!N133,)","v":0},{"$f":"IF(Entscheidungsgrundlage!$E$40=\"x\",Urmatrix!O133,)","v":0},{"$f":"IF(Entscheidungsgrundlage!$E$40=\"x\",Urmatrix!P133,)","v":0},{"$f":"IF(Entscheidungsgrundlage!$E$40=\"x\",Urmatrix!Q133,)","v":0},{"$f":"IF(Entscheidungsgrundlage!$E$40=\"x\",Urmatrix!R133,)","v":0},{"$f":"IF(Entscheidungsgrundlage!$E$40=\"x\",Urmatrix!S133,)","v":0},{"$f":"IF(Entscheidungsgrundlage!$E$40=\"x\",Urmatrix!T133,)","v":0},{"$f":"IF(Entscheidungsgrundlage!$E$40=\"x\",Urmatrix!U133,)","v":0},{"$f":"IF(Entscheidungsgrundlage!$E$40=\"x\",Urmatrix!V133,)","v":0},{"$f":"IF(Entscheidungsgrundlage!$E$40=\"x\",Urmatrix!W133,)","v":0},{"$f":"IF(Entscheidungsgrundlage!$E$40=\"x\",Urmatrix!X133,)","v":0},{"$f":"IF(Entscheidungsgrundlage!$E$40=\"x\",Urmatrix!Y133,)","v":0},{"$f":"IF(Entscheidungsgrundlage!$E$40=\"x\",Urmatrix!Z133,)","v":0},{"$f":"IF(Entscheidungsgrundlage!$E$40=\"x\",Urmatrix!AA133,)","v":0},{"$f":"IF(Entscheidungsgrundlage!$E$40=\"x\",Urmatrix!AB133,)","v":0},{"$f":"IF(Entscheidungsgrundlage!$E$40=\"x\",Urmatrix!AC133,)","v":0},{"$f":"IF(Entscheidungsgrundlage!$E$40=\"x\",Urmatrix!AD133,)","v":0},{"$f":"IF(Entscheidungsgrundlage!$E$40=\"x\",Urmatrix!AE133,)","v":0},{"$f":"IF(Entscheidungsgrundlage!$E$40=\"x\",Urmatrix!AF133,)","v":0},{"$f":"IF(Entscheidungsgrundlage!$E$40=\"x\",Urmatrix!AG133,)","v":0},{"$f":"IF(Entscheidungsgrundlage!$E$40=\"x\",Urmatrix!AH133,)","v":0},{"$f":"IF(Entscheidungsgrundlage!$E$40=\"x\",Urmatrix!AI133,)","v":0},{"$f":"IF(Entscheidungsgrundlage!$E$40=\"x\",Urmatrix!AJ133,)","v":0},{"$f":"IF(Entscheidungsgrundlage!$E$40=\"x\",Urmatrix!AK133,)","v":0},{"$f":"IF(Entscheidungsgrundlage!$E$40=\"x\",Urmatrix!AL133,)","v":0},{"$f":"IF(Entscheidungsgrundlage!$E$40=\"x\",Urmatrix!AM133,)","v":0},{"$f":"IF(Entscheidungsgrundlage!$E$40=\"x\",Urmatrix!AN133,)","v":0},{"$f":"IF(Entscheidungsgrundlage!$E$40=\"x\",Urmatrix!AO133,)","v":0},{"$f":"IF(Entscheidungsgrundlage!$E$40=\"x\",Urmatrix!AP133,)","v":0},{"$f":"IF(Entscheidungsgrundlage!$E$40=\"x\",Urmatrix!AQ133,)","v":0},{"$f":"IF(Entscheidungsgrundlage!$E$40=\"x\",Urmatrix!AR133,)","v":0},{"$f":"IF(Entscheidungsgrundlage!$E$40=\"x\",Urmatrix!AS133,)","v":0},{"$f":"IF(Entscheidungsgrundlage!$E$40=\"x\",Urmatrix!AT133,)","v":0},{"$f":"IF(Entscheidungsgrundlage!$E$40=\"x\",Urmatrix!AU133,)","v":0},{"$f":"IF(Entscheidungsgrundlage!$E$40=\"x\",Urmatrix!AV133,)","v":0},{"$f":"IF(Entscheidungsgrundlage!$E$40=\"x\",Urmatrix!AW133,)","v":0},{"$f":"IF(Entscheidungsgrundlage!$E$40=\"x\",Urmatrix!AX133,)","v":0},{"$f":"IF(Entscheidungsgrundlage!$E$40=\"x\",Urmatrix!AY133,)","v":0},{"$f":"IF(Entscheidungsgrundlage!$E$40=\"x\",Urmatrix!AZ133,)","v":0},{"$f":"IF(Entscheidungsgrundlage!$E$40=\"x\",Urmatrix!BA133,)","v":0},{"$f":"IF(Entscheidungsgrundlage!$E$40=\"x\",Urmatrix!BB133,)","v":0},{"$f":"IF(Entscheidungsgrundlage!$E$40=\"x\",Urmatrix!BC133,)","v":0},{"$f":"IF(Entscheidungsgrundlage!$E$40=\"x\",Urmatrix!BD133,)","v":0},{"$f":"IF(Entscheidungsgrundlage!$E$40=\"x\",Urmatrix!BE133,)","v":0},{"$f":"IF(Entscheidungsgrundlage!$E$40=\"x\",Urmatrix!BF133,)","v":0},{"$f":"IF(Entscheidungsgrundlage!$E$40=\"x\",Urmatrix!BG133,)","v":0}]
[null,null,null,null,null,null,"<100k",null,{"$f":"IF(Entscheidungsgrundlage!$T$40=\"x\",Urmatrix!I134,)","v":0},{"$f":"IF(Entscheidungsgrundlage!$T$40=\"x\",Urmatrix!J134,)","v":0},{"$f":"IF(Entscheidungsgrundlage!$T$40=\"x\",Urmatrix!K134,)","v":0},{"$f":"IF(Entscheidungsgrundlage!$T$40=\"x\",Urmatrix!L134,)","v":0},{"$f":"IF(Entscheidungsgrundlage!$T$40=\"x\",Urmatrix!M134,)","v":0},{"$f":"IF(Entscheidungsgrundlage!$T$40=\"x\",Urmatrix!N134,)","v":0},{"$f":"IF(Entscheidungsgrundlage!$T$40=\"x\",Urmatrix!O134,)","v":0},{"$f":"IF(Entscheidungsgrundlage!$T$40=\"x\",Urmatrix!P134,)","v":0},{"$f":"IF(Entscheidungsgrundlage!$T$40=\"x\",Urmatrix!Q134,)","v":0},{"$f":"IF(Entscheidungsgrundlage!$T$40=\"x\",Urmatrix!R134,)","v":0},{"$f":"IF(Entscheidungsgrundlage!$T$40=\"x\",Urmatrix!S134,)","v":0},{"$f":"IF(Entscheidungsgrundlage!$T$40=\"x\",Urmatrix!T134,)","v":0},{"$f":"IF(Entscheidungsgrundlage!$T$40=\"x\",Urmatrix!U134,)","v":0},{"$f":"IF(Entscheidungsgrundlage!$T$40=\"x\",Urmatrix!V134,)","v":0},{"$f":"IF(Entscheidungsgrundlage!$T$40=\"x\",Urmatrix!W134,)","v":0},{"$f":"IF(Entscheidungsgrundlage!$T$40=\"x\",Urmatrix!X134,)","v":0},{"$f":"IF(Entscheidungsgrundlage!$T$40=\"x\",Urmatrix!Y134,)","v":0},{"$f":"IF(Entscheidungsgrundlage!$T$40=\"x\",Urmatrix!Z134,)","v":0},{"$f":"IF(Entscheidungsgrundlage!$T$40=\"x\",Urmatrix!AA134,)","v":0},{"$f":"IF(Entscheidungsgrundlage!$T$40=\"x\",Urmatrix!AB134,)","v":0},{"$f":"IF(Entscheidungsgrundlage!$T$40=\"x\",Urmatrix!AC134,)","v":0},{"$f":"IF(Entscheidungsgrundlage!$T$40=\"x\",Urmatrix!AD134,)","v":0},{"$f":"IF(Entscheidungsgrundlage!$T$40=\"x\",Urmatrix!AE134,)","v":0},{"$f":"IF(Entscheidungsgrundlage!$T$40=\"x\",Urmatrix!AF134,)","v":0},{"$f":"IF(Entscheidungsgrundlage!$T$40=\"x\",Urmatrix!AG134,)","v":0},{"$f":"IF(Entscheidungsgrundlage!$T$40=\"x\",Urmatrix!AH134,)","v":0},{"$f":"IF(Entscheidungsgrundlage!$T$40=\"x\",Urmatrix!AI134,)","v":0},{"$f":"IF(Entscheidungsgrundlage!$T$40=\"x\",Urmatrix!AJ134,)","v":0},{"$f":"IF(Entscheidungsgrundlage!$T$40=\"x\",Urmatrix!AK134,)","v":0},{"$f":"IF(Entscheidungsgrundlage!$T$40=\"x\",Urmatrix!AL134,)","v":0},{"$f":"IF(Entscheidungsgrundlage!$T$40=\"x\",Urmatrix!AM134,)","v":0},{"$f":"IF(Entscheidungsgrundlage!$T$40=\"x\",Urmatrix!AN134,)","v":0},{"$f":"IF(Entscheidungsgrundlage!$T$40=\"x\",Urmatrix!AO134,)","v":0},{"$f":"IF(Entscheidungsgrundlage!$T$40=\"x\",Urmatrix!AP134,)","v":0},{"$f":"IF(Entscheidungsgrundlage!$T$40=\"x\",Urmatrix!AQ134,)","v":0},{"$f":"IF(Entscheidungsgrundlage!$T$40=\"x\",Urmatrix!AR134,)","v":0},{"$f":"IF(Entscheidungsgrundlage!$T$40=\"x\",Urmatrix!AS134,)","v":0},{"$f":"IF(Entscheidungsgrundlage!$T$40=\"x\",Urmatrix!AT134,)","v":0},{"$f":"IF(Entscheidungsgrundlage!$T$40=\"x\",Urmatrix!AU134,)","v":0},{"$f":"IF(Entscheidungsgrundlage!$T$40=\"x\",Urmatrix!AV134,)","v":0},{"$f":"IF(Entscheidungsgrundlage!$T$40=\"x\",Urmatrix!AW134,)","v":0},{"$f":"IF(Entscheidungsgrundlage!$T$40=\"x\",Urmatrix!AX134,)","v":0},{"$f":"IF(Entscheidungsgrundlage!$T$40=\"x\",Urmatrix!AY134,)","v":0},{"$f":"IF(Entscheidungsgrundlage!$T$40=\"x\",Urmatrix!AZ134,)","v":0},{"$f":"IF(Entscheidungsgrundlage!$T$40=\"x\",Urmatrix!BA134,)","v":0},{"$f":"IF(Entscheidungsgrundlage!$T$40=\"x\",Urmatrix!BB134,)","v":0},{"$f":"IF(Entscheidungsgrundlage!$T$40=\"x\",Urmatrix!BC134,)","v":0},{"$f":"IF(Entscheidungsgrundlage!$T$40=\"x\",Urmatrix!BD134,)","v":0},{"$f":"IF(Entscheidungsgrundlage!$T$40=\"x\",Urmatrix!BE134,)","v":0},{"$f":"IF(Entscheidungsgrundlage!$T$40=\"x\",Urmatrix!BF134,)","v":0},{"$f":"IF(Entscheidungsgrundlage!$T$40=\"x\",Urmatrix!BG134,)","v":0}]
[null,null,null,null,null,null,"<1000k",null,{"$f":"IF(Entscheidungsgrundlage!$AI$40=\"x\",Urmatrix!I135,)","v":0},{"$f":"IF(Entscheidungsgrundlage!$AI$40=\"x\",Urmatrix!J135,)","v":0},{"$f":"IF(Entscheidungsgrundlage!$AI$40=\"x\",Urmatrix!K135,)","v":0},{"$f":"IF(Entscheidungsgrundlage!$AI$40=\"x\",Urmatrix!L135,)","v":0},{"$f":"IF(Entscheidungsgrundlage!$AI$40=\"x\",Urmatrix!M135,)","v":0},{"$f":"IF(Entscheidungsgrundlage!$AI$40=\"x\",Urmatrix!N135,)","v":0},{"$f":"IF(Entscheidungsgrundlage!$AI$40=\"x\",Urmatrix!O135,)","v":0},{"$f":"IF(Entscheidungsgrundlage!$AI$40=\"x\",Urmatrix!P135,)","v":0},{"$f":"IF(Entscheidungsgrundlage!$AI$40=\"x\",Urmatrix!Q135,)","v":0},{"$f":"IF(Entscheidungsgrundlage!$AI$40=\"x\",Urmatrix!R135,)","v":0},{"$f":"IF(Entscheidungsgrundlage!$AI$40=\"x\",Urmatrix!S135,)","v":0},{"$f":"IF(Entscheidungsgrundlage!$AI$40=\"x\",Urmatrix!T135,)","v":0},{"$f":"IF(Entscheidungsgrundlage!$AI$40=\"x\",Urmatrix!U135,)","v":0},{"$f":"IF(Entscheidungsgrundlage!$AI$40=\"x\",Urmatrix!V135,)","v":0},{"$f":"IF(Entscheidungsgrundlage!$AI$40=\"x\",Urmatrix!W135,)","v":0},{"$f":"IF(Entscheidungsgrundlage!$AI$40=\"x\",Urmatrix!X135,)","v":0},{"$f":"IF(Entscheidungsgrundlage!$AI$40=\"x\",Urmatrix!Y135,)","v":0},{"$f":"IF(Entscheidungsgrundlage!$AI$40=\"x\",Urmatrix!Z135,)","v":0},{"$f":"IF(Entscheidungsgrundlage!$AI$40=\"x\",Urmatrix!AA135,)","v":0},{"$f":"IF(Entscheidungsgrundlage!$AI$40=\"x\",Urmatrix!AB135,)","v":0},{"$f":"IF(Entscheidungsgrundlage!$AI$40=\"x\",Urmatrix!AC135,)","v":0},{"$f":"IF(Entscheidungsgrundlage!$AI$40=\"x\",Urmatrix!AD135,)","v":0},{"$f":"IF(Entscheidungsgrundlage!$AI$40=\"x\",Urmatrix!AE135,)","v":0},{"$f":"IF(Entscheidungsgrundlage!$AI$40=\"x\",Urmatrix!AF135,)","v":0},{"$f":"IF(Entscheidungsgrundlage!$AI$40=\"x\",Urmatrix!AG135,)","v":0},{"$f":"IF(Entscheidungsgrundlage!$AI$40=\"x\",Urmatrix!AH135,)","v":0},{"$f":"IF(Entscheidungsgrundlage!$AI$40=\"x\",Urmatrix!AI135,)","v":0},{"$f":"IF(Entscheidungsgrundlage!$AI$40=\"x\",Urmatrix!AJ135,)","v":0},{"$f":"IF(Entscheidungsgrundlage!$AI$40=\"x\",Urmatrix!AK135,)","v":0},{"$f":"IF(Entscheidungsgrundlage!$AI$40=\"x\",Urmatrix!AL135,)","v":0},{"$f":"IF(Entscheidungsgrundlage!$AI$40=\"x\",Urmatrix!AM135,)","v":0},{"$f":"IF(Entscheidungsgrundlage!$AI$40=\"x\",Urmatrix!AN135,)","v":0},{"$f":"IF(Entscheidungsgrundlage!$AI$40=\"x\",Urmatrix!AO135,)","v":0},{"$f":"IF(Entscheidungsgrundlage!$AI$40=\"x\",Urmatrix!AP135,)","v":0},{"$f":"IF(Entscheidungsgrundlage!$AI$40=\"x\",Urmatrix!AQ135,)","v":0},{"$f":"IF(Entscheidungsgrundlage!$AI$40=\"x\",Urmatrix!AR135,)","v":0},{"$f":"IF(Entscheidungsgrundlage!$AI$40=\"x\",Urmatrix!AS135,)","v":0},{"$f":"IF(Entscheidungsgrundlage!$AI$40=\"x\",Urmatrix!AT135,)","v":0},{"$f":"IF(Entscheidungsgrundlage!$AI$40=\"x\",Urmatrix!AU135,)","v":0},{"$f":"IF(Entscheidungsgrundlage!$AI$40=\"x\",Urmatrix!AV135,)","v":0},{"$f":"IF(Entscheidungsgrundlage!$AI$40=\"x\",Urmatrix!AW135,)","v":0},{"$f":"IF(Entscheidungsgrundlage!$AI$40=\"x\",Urmatrix!AX135,)","v":0},{"$f":"IF(Entscheidungsgrundlage!$AI$40=\"x\",Urmatrix!AY135,)","v":0},{"$f":"IF(Entscheidungsgrundlage!$AI$40=\"x\",Urmatrix!AZ135,)","v":0},{"$f":"IF(Entscheidungsgrundlage!$AI$40=\"x\",Urmatrix!BA135,)","v":0},{"$f":"IF(Entscheidungsgrundlage!$AI$40=\"x\",Urmatrix!BB135,)","v":0},{"$f":"IF(Entscheidungsgrundlage!$AI$40=\"x\",Urmatrix!BC135,)","v":0},{"$f":"IF(Entscheidungsgrundlage!$AI$40=\"x\",Urmatrix!BD135,)","v":0},{"$f":"IF(Entscheidungsgrundlage!$AI$40=\"x\",Urmatrix!BE135,)","v":0},{"$f":"IF(Entscheidungsgrundlage!$AI$40=\"x\",Urmatrix!BF135,)","v":0},{"$f":"IF(Entscheidungsgrundlage!$AI$40=\"x\",Urmatrix!BG135,)","v":0}]
[null,null,null,null,null,null,">1000k",null,{"$f":"IF(Entscheidungsgrundlage!$AX$40=\"x\",Urmatrix!I136,)","v":0},{"$f":"IF(Entscheidungsgrundlage!$AX$40=\"x\",Urmatrix!J136,)","v":0},{"$f":"IF(Entscheidungsgrundlage!$AX$40=\"x\",Urmatrix!K136,)","v":0},{"$f":"IF(Entscheidungsgrundlage!$AX$40=\"x\",Urmatrix!L136,)","v":0},{"$f":"IF(Entscheidungsgrundlage!$AX$40=\"x\",Urmatrix!M136,)","v":0},{"$f":"IF(Entscheidungsgrundlage!$AX$40=\"x\",Urmatrix!N136,)","v":0},{"$f":"IF(Entscheidungsgrundlage!$AX$40=\"x\",Urmatrix!O136,)","v":0},{"$f":"IF(Entscheidungsgrundlage!$AX$40=\"x\",Urmatrix!P136,)","v":0},{"$f":"IF(Entscheidungsgrundlage!$AX$40=\"x\",Urmatrix!Q136,)","v":0},{"$f":"IF(Entscheidungsgrundlage!$AX$40=\"x\",Urmatrix!R136,)","v":0},{"$f":"IF(Entscheidungsgrundlage!$AX$40=\"x\",Urmatrix!S136,)","v":0},{"$f":"IF(Entscheidungsgrundlage!$AX$40=\"x\",Urmatrix!T136,)","v":0},{"$f":"IF(Entscheidungsgrundlage!$AX$40=\"x\",Urmatrix!U136,)","v":0},{"$f":"IF(Entscheidungsgrundlage!$AX$40=\"x\",Urmatrix!V136,)","v":0},{"$f":"IF(Entscheidungsgrundlage!$AX$40=\"x\",Urmatrix!W136,)","v":0},{"$f":"IF(Entscheidungsgrundlage!$AX$40=\"x\",Urmatrix!X136,)","v":0},{"$f":"IF(Entscheidungsgrundlage!$AX$40=\"x\",Urmatrix!Y136,)","v":0},{"$f":"IF(Entscheidungsgrundlage!$AX$40=\"x\",Urmatrix!Z136,)","v":0},{"$f":"IF(Entscheidungsgrundlage!$AX$40=\"x\",Urmatrix!AA136,)","v":0},{"$f":"IF(Entscheidungsgrundlage!$AX$40=\"x\",Urmatrix!AB136,)","v":0},{"$f":"IF(Entscheidungsgrundlage!$AX$40=\"x\",Urmatrix!AC136,)","v":0},{"$f":"IF(Entscheidungsgrundlage!$AX$40=\"x\",Urmatrix!AD136,)","v":0},{"$f":"IF(Entscheidungsgrundlage!$AX$40=\"x\",Urmatrix!AE136,)","v":0},{"$f":"IF(Entscheidungsgrundlage!$AX$40=\"x\",Urmatrix!AF136,)","v":0},{"$f":"IF(Entscheidungsgrundlage!$AX$40=\"x\",Urmatrix!AG136,)","v":0},{"$f":"IF(Entscheidungsgrundlage!$AX$40=\"x\",Urmatrix!AH136,)","v":0},{"$f":"IF(Entscheidungsgrundlage!$AX$40=\"x\",Urmatrix!AI136,)","v":0},{"$f":"IF(Entscheidungsgrundlage!$AX$40=\"x\",Urmatrix!AJ136,)","v":0},{"$f":"IF(Entscheidungsgrundlage!$AX$40=\"x\",Urmatrix!AK136,)","v":0},{"$f":"IF(Entscheidungsgrundlage!$AX$40=\"x\",Urmatrix!AL136,)","v":0},{"$f":"IF(Entscheidungsgrundlage!$AX$40=\"x\",Urmatrix!AM136,)","v":0},{"$f":"IF(Entscheidungsgrundlage!$AX$40=\"x\",Urmatrix!AN136,)","v":0},{"$f":"IF(Entscheidungsgrundlage!$AX$40=\"x\",Urmatrix!AO136,)","v":0},{"$f":"IF(Entscheidungsgrundlage!$AX$40=\"x\",Urmatrix!AP136,)","v":0},{"$f":"IF(Entscheidungsgrundlage!$AX$40=\"x\",Urmatrix!AQ136,)","v":0},{"$f":"IF(Entscheidungsgrundlage!$AX$40=\"x\",Urmatrix!AR136,)","v":0},{"$f":"IF(Entscheidungsgrundlage!$AX$40=\"x\",Urmatrix!AS136,)","v":0},{"$f":"IF(Entscheidungsgrundlage!$AX$40=\"x\",Urmatrix!AT136,)","v":0},{"$f":"IF(Entscheidungsgrundlage!$AX$40=\"x\",Urmatrix!AU136,)","v":0},{"$f":"IF(Entscheidungsgrundlage!$AX$40=\"x\",Urmatrix!AV136,)","v":0},{"$f":"IF(Entscheidungsgrundlage!$AX$40=\"x\",Urmatrix!AW136,)","v":0},{"$f":"IF(Entscheidungsgrundlage!$AX$40=\"x\",Urmatrix!AX136,)","v":0},{"$f":"IF(Entscheidungsgrundlage!$AX$40=\"x\",Urmatrix!AY136,)","v":0},{"$f":"IF(Entscheidungsgrundlage!$AX$40=\"x\",Urmatrix!AZ136,)","v":0},{"$f":"IF(Entscheidungsgrundlage!$AX$40=\"x\",Urmatrix!BA136,)","v":0},{"$f":"IF(Entscheidungsgrundlage!$AX$40=\"x\",Urmatrix!BB136,)","v":0},{"$f":"IF(Entscheidungsgrundlage!$AX$40=\"x\",Urmatrix!BC136,)","v":0},{"$f":"IF(Entscheidungsgrundlage!$AX$40=\"x\",Urmatrix!BD136,)","v":0},{"$f":"IF(Entscheidungsgrundlage!$AX$40=\"x\",Urmatrix!BE136,)","v":0},{"$f":"IF(Entscheidungsgrundlage!$AX$40=\"x\",Urmatrix!BF136,)","v":0},{"$f":"IF(Entscheidungsgrundlage!$AX$40=\"x\",Urmatrix!BG136,)","v":0}]
[null,"Kujas",null,null,null,"Varianteneinführung","parallel",null,{"$f":"IF(Entscheidungsgrundlage!$E$42=\"x\",Urmatrix!I137,)","v":0},{"$f":"IF(Entscheidungsgrundlage!$E$42=\"x\",Urmatrix!J137,)","v":0},{"$f":"IF(Entscheidungsgrundlage!$E$42=\"x\",Urmatrix!K137,)","v":0},{"$f":"IF(Entscheidungsgrundlage!$E$42=\"x\",Urmatrix!L137,)","v":0},{"$f":"IF(Entscheidungsgrundlage!$E$42=\"x\",Urmatrix!M137,)","v":0},{"$f":"IF(Entscheidungsgrundlage!$E$42=\"x\",Urmatrix!N137,)","v":0},{"$f":"IF(Entscheidungsgrundlage!$E$42=\"x\",Urmatrix!O137,)","v":0},{"$f":"IF(Entscheidungsgrundlage!$E$42=\"x\",Urmatrix!P137,)","v":0},{"$f":"IF(Entscheidungsgrundlage!$E$42=\"x\",Urmatrix!Q137,)","v":0},{"$f":"IF(Entscheidungsgrundlage!$E$42=\"x\",Urmatrix!R137,)","v":0},{"$f":"IF(Entscheidungsgrundlage!$E$42=\"x\",Urmatrix!S137,)","v":0},{"$f":"IF(Entscheidungsgrundlage!$E$42=\"x\",Urmatrix!T137,)","v":0},{"$f":"IF(Entscheidungsgrundlage!$E$42=\"x\",Urmatrix!U137,)","v":0},{"$f":"IF(Entscheidungsgrundlage!$E$42=\"x\",Urmatrix!V137,)","v":0},{"$f":"IF(Entscheidungsgrundlage!$E$42=\"x\",Urmatrix!W137,)","v":0},{"$f":"IF(Entscheidungsgrundlage!$E$42=\"x\",Urmatrix!X137,)","v":0},{"$f":"IF(Entscheidungsgrundlage!$E$42=\"x\",Urmatrix!Y137,)","v":0},{"$f":"IF(Entscheidungsgrundlage!$E$42=\"x\",Urmatrix!Z137,)","v":0},{"$f":"IF(Entscheidungsgrundlage!$E$42=\"x\",Urmatrix!AA137,)","v":0},{"$f":"IF(Entscheidungsgrundlage!$E$42=\"x\",Urmatrix!AB137,)","v":0},{"$f":"IF(Entscheidungsgrundlage!$E$42=\"x\",Urmatrix!AC137,)","v":0},{"$f":"IF(Entscheidungsgrundlage!$E$42=\"x\",Urmatrix!AD137,)","v":0},{"$f":"IF(Entscheidungsgrundlage!$E$42=\"x\",Urmatrix!AE137,)","v":0},{"$f":"IF(Entscheidungsgrundlage!$E$42=\"x\",Urmatrix!AF137,)","v":0},{"$f":"IF(Entscheidungsgrundlage!$E$42=\"x\",Urmatrix!AG137,)","v":0},{"$f":"IF(Entscheidungsgrundlage!$E$42=\"x\",Urmatrix!AH137,)","v":0},{"$f":"IF(Entscheidungsgrundlage!$E$42=\"x\",Urmatrix!AI137,)","v":0},{"$f":"IF(Entscheidungsgrundlage!$E$42=\"x\",Urmatrix!AJ137,)","v":0},{"$f":"IF(Entscheidungsgrundlage!$E$42=\"x\",Urmatrix!AK137,)","v":0},{"$f":"IF(Entscheidungsgrundlage!$E$42=\"x\",Urmatrix!AL137,)","v":0},{"$f":"IF(Entscheidungsgrundlage!$E$42=\"x\",Urmatrix!AM137,)","v":0},{"$f":"IF(Entscheidungsgrundlage!$E$42=\"x\",Urmatrix!AN137,)","v":0},{"$f":"IF(Entscheidungsgrundlage!$E$42=\"x\",Urmatrix!AO137,)","v":0},{"$f":"IF(Entscheidungsgrundlage!$E$42=\"x\",Urmatrix!AP137,)","v":0},{"$f":"IF(Entscheidungsgrundlage!$E$42=\"x\",Urmatrix!AQ137,)","v":0},{"$f":"IF(Entscheidungsgrundlage!$E$42=\"x\",Urmatrix!AR137,)","v":0},{"$f":"IF(Entscheidungsgrundlage!$E$42=\"x\",Urmatrix!AS137,)","v":0},{"$f":"IF(Entscheidungsgrundlage!$E$42=\"x\",Urmatrix!AT137,)","v":0},{"$f":"IF(Entscheidungsgrundlage!$E$42=\"x\",Urmatrix!AU137,)","v":0},{"$f":"IF(Entscheidungsgrundlage!$E$42=\"x\",Urmatrix!AV137,)","v":0},{"$f":"IF(Entscheidungsgrundlage!$E$42=\"x\",Urmatrix!AW137,)","v":0},{"$f":"IF(Entscheidungsgrundlage!$E$42=\"x\",Urmatrix!AX137,)","v":0},{"$f":"IF(Entscheidungsgrundlage!$E$42=\"x\",Urmatrix!AY137,)","v":0},{"$f":"IF(Entscheidungsgrundlage!$E$42=\"x\",Urmatrix!AZ137,)","v":0},{"$f":"IF(Entscheidungsgrundlage!$E$42=\"x\",Urmatrix!BA137,)","v":0},{"$f":"IF(Entscheidungsgrundlage!$E$42=\"x\",Urmatrix!BB137,)","v":0},{"$f":"IF(Entscheidungsgrundlage!$E$42=\"x\",Urmatrix!BC137,)","v":0},{"$f":"IF(Entscheidungsgrundlage!$E$42=\"x\",Urmatrix!BD137,)","v":0},{"$f":"IF(Entscheidungsgrundlage!$E$42=\"x\",Urmatrix!BE137,)","v":0},{"$f":"IF(Entscheidungsgrundlage!$E$42=\"x\",Urmatrix!BF137,)","v":0},{"$f":"IF(Entscheidungsgrundlage!$E$42=\"x\",Urmatrix!BG137,)","v":0}]
[null,null,null,null,null,null,"sukzessiv",null,{"$f":"IF(Entscheidungsgrundlage!$Y$42=\"x\",Urmatrix!I138,)","v":0},{"$f":"IF(Entscheidungsgrundlage!$Y$42=\"x\",Urmatrix!J138,)","v":0},{"$f":"IF(Entscheidungsgrundlage!$Y$42=\"x\",Urmatrix!K138,)","v":0},{"$f":"IF(Entscheidungsgrundlage!$Y$42=\"x\",Urmatrix!L138,)","v":0},{"$f":"IF(Entscheidungsgrundlage!$Y$42=\"x\",Urmatrix!M138,)","v":0},{"$f":"IF(Entscheidungsgrundlage!$Y$42=\"x\",Urmatrix!N138,)","v":0},{"$f":"IF(Entscheidungsgrundlage!$Y$42=\"x\",Urmatrix!O138,)","v":0},{"$f":"IF(Entscheidungsgrundlage!$Y$42=\"x\",Urmatrix!P138,)","v":0},{"$f":"IF(Entscheidungsgrundlage!$Y$42=\"x\",Urmatrix!Q138,)","v":0},{"$f":"IF(Entscheidungsgrundlage!$Y$42=\"x\",Urmatrix!R138,)","v":0},{"$f":"IF(Entscheidungsgrundlage!$Y$42=\"x\",Urmatrix!S138,)","v":0},{"$f":"IF(Entscheidungsgrundlage!$Y$42=\"x\",Urmatrix!T138,)","v":0},{"$f":"IF(Entscheidungsgrundlage!$Y$42=\"x\",Urmatrix!U138,)","v":0},{"$f":"IF(Entscheidungsgrundlage!$Y$42=\"x\",Urmatrix!V138,)","v":0},{"$f":"IF(Entscheidungsgrundlage!$Y$42=\"x\",Urmatrix!W138,)","v":0},{"$f":"IF(Entscheidungsgrundlage!$Y$42=\"x\",Urmatrix!X138,)","v":0},{"$f":"IF(Entscheidungsgrundlage!$Y$42=\"x\",Urmatrix!Y138,)","v":0},{"$f":"IF(Entscheidungsgrundlage!$Y$42=\"x\",Urmatrix!Z138,)","v":0},{"$f":"IF(Entscheidungsgrundlage!$Y$42=\"x\",Urmatrix!AA138,)","v":0},{"$f":"IF(Entscheidungsgrundlage!$Y$42=\"x\",Urmatrix!AB138,)","v":0},{"$f":"IF(Entscheidungsgrundlage!$Y$42=\"x\",Urmatrix!AC138,)","v":0},{"$f":"IF(Entscheidungsgrundlage!$Y$42=\"x\",Urmatrix!AD138,)","v":0},{"$f":"IF(Entscheidungsgrundlage!$Y$42=\"x\",Urmatrix!AE138,)","v":0},{"$f":"IF(Entscheidungsgrundlage!$Y$42=\"x\",Urmatrix!AF138,)","v":0},{"$f":"IF(Entscheidungsgrundlage!$Y$42=\"x\",Urmatrix!AG138,)","v":0},{"$f":"IF(Entscheidungsgrundlage!$Y$42=\"x\",Urmatrix!AH138,)","v":0},{"$f":"IF(Entscheidungsgrundlage!$Y$42=\"x\",Urmatrix!AI138,)","v":0},{"$f":"IF(Entscheidungsgrundlage!$Y$42=\"x\",Urmatrix!AJ138,)","v":0},{"$f":"IF(Entscheidungsgrundlage!$Y$42=\"x\",Urmatrix!AK138,)","v":0},{"$f":"IF(Entscheidungsgrundlage!$Y$42=\"x\",Urmatrix!AL138,)","v":0},{"$f":"IF(Entscheidungsgrundlage!$Y$42=\"x\",Urmatrix!AM138,)","v":0},{"$f":"IF(Entscheidungsgrundlage!$Y$42=\"x\",Urmatrix!AN138,)","v":0},{"$f":"IF(Entscheidungsgrundlage!$Y$42=\"x\",Urmatrix!AO138,)","v":0},{"$f":"IF(Entscheidungsgrundlage!$Y$42=\"x\",Urmatrix!AP138,)","v":0},{"$f":"IF(Entscheidungsgrundlage!$Y$42=\"x\",Urmatrix!AQ138,)","v":0},{"$f":"IF(Entscheidungsgrundlage!$Y$42=\"x\",Urmatrix!AR138,)","v":0},{"$f":"IF(Entscheidungsgrundlage!$Y$42=\"x\",Urmatrix!AS138,)","v":0},{"$f":"IF(Entscheidungsgrundlage!$Y$42=\"x\",Urmatrix!AT138,)","v":0},{"$f":"IF(Entscheidungsgrundlage!$Y$42=\"x\",Urmatrix!AU138,)","v":0},{"$f":"IF(Entscheidungsgrundlage!$Y$42=\"x\",Urmatrix!AV138,)","v":0},{"$f":"IF(Entscheidungsgrundlage!$Y$42=\"x\",Urmatrix!AW138,)","v":0},{"$f":"IF(Entscheidungsgrundlage!$Y$42=\"x\",Urmatrix!AX138,)","v":0},{"$f":"IF(Entscheidungsgrundlage!$Y$42=\"x\",Urmatrix!AY138,)","v":0},{"$f":"IF(Entscheidungsgrundlage!$Y$42=\"x\",Urmatrix!AZ138,)","v":0},{"$f":"IF(Entscheidungsgrundlage!$Y$42=\"x\",Urmatrix!BA138,)","v":0},{"$f":"IF(Entscheidungsgrundlage!$Y$42=\"x\",Urmatrix!BB138,)","v":0},{"$f":"IF(Entscheidungsgrundlage!$Y$42=\"x\",Urmatrix!BC138,)","v":0},{"$f":"IF(Entscheidungsgrundlage!$Y$42=\"x\",Urmatrix!BD138,)","v":0},{"$f":"IF(Entscheidungsgrundlage!$Y$42=\"x\",Urmatrix!BE138,)","v":0},{"$f":"IF(Entscheidungsgrundlage!$Y$42=\"x\",Urmatrix!BF138,)","v":0},{"$f":"IF(Entscheidungsgrundlage!$Y$42=\"x\",Urmatrix!BG138,)","v":0}]
[null,null,null,null,null,null,"Stufen",null,{"$f":"IF(Entscheidungsgrundlage!$AS$42=\"x\",Urmatrix!I139,)","v":0},{"$f":"IF(Entscheidungsgrundlage!$AS$42=\"x\",Urmatrix!J139,)","v":0},{"$f":"IF(Entscheidungsgrundlage!$AS$42=\"x\",Urmatrix!K139,)","v":0},{"$f":"IF(Entscheidungsgrundlage!$AS$42=\"x\",Urmatrix!L139,)","v":0},{"$f":"IF(Entscheidungsgrundlage!$AS$42=\"x\",Urmatrix!M139,)","v":0},{"$f":"IF(Entscheidungsgrundlage!$AS$42=\"x\",Urmatrix!N139,)","v":0},{"$f":"IF(Entscheidungsgrundlage!$AS$42=\"x\",Urmatrix!O139,)","v":0},{"$f":"IF(Entscheidungsgrundlage!$AS$42=\"x\",Urmatrix!P139,)","v":0},{"$f":"IF(Entscheidungsgrundlage!$AS$42=\"x\",Urmatrix!Q139,)","v":0},{"$f":"IF(Entscheidungsgrundlage!$AS$42=\"x\",Urmatrix!R139,)","v":0},{"$f":"IF(Entscheidungsgrundlage!$AS$42=\"x\",Urmatrix!S139,)","v":0},{"$f":"IF(Entscheidungsgrundlage!$AS$42=\"x\",Urmatrix!T139,)","v":0},{"$f":"IF(Entscheidungsgrundlage!$AS$42=\"x\",Urmatrix!U139,)","v":0},{"$f":"IF(Entscheidungsgrundlage!$AS$42=\"x\",Urmatrix!V139,)","v":0},{"$f":"IF(Entscheidungsgrundlage!$AS$42=\"x\",Urmatrix!W139,)","v":0},{"$f":"IF(Entscheidungsgrundlage!$AS$42=\"x\",Urmatrix!X139,)","v":0},{"$f":"IF(Entscheidungsgrundlage!$AS$42=\"x\",Urmatrix!Y139,)","v":0},{"$f":"IF(Entscheidungsgrundlage!$AS$42=\"x\",Urmatrix!Z139,)","v":0},{"$f":"IF(Entscheidungsgrundlage!$AS$42=\"x\",Urmatrix!AA139,)","v":0},{"$f":"IF(Entscheidungsgrundlage!$AS$42=\"x\",Urmatrix!AB139,)","v":0},{"$f":"IF(Entscheidungsgrundlage!$AS$42=\"x\",Urmatrix!AC139,)","v":0},{"$f":"IF(Entscheidungsgrundlage!$AS$42=\"x\",Urmatrix!AD139,)","v":0},{"$f":"IF(Entscheidungsgrundlage!$AS$42=\"x\",Urmatrix!AE139,)","v":0},{"$f":"IF(Entscheidungsgrundlage!$AS$42=\"x\",Urmatrix!AF139,)","v":0},{"$f":"IF(Entscheidungsgrundlage!$AS$42=\"x\",Urmatrix!AG139,)","v":0},{"$f":"IF(Entscheidungsgrundlage!$AS$42=\"x\",Urmatrix!AH139,)","v":0},{"$f":"IF(Entscheidungsgrundlage!$AS$42=\"x\",Urmatrix!AI139,)","v":0},{"$f":"IF(Entscheidungsgrundlage!$AS$42=\"x\",Urmatrix!AJ139,)","v":0},{"$f":"IF(Entscheidungsgrundlage!$AS$42=\"x\",Urmatrix!AK139,)","v":0},{"$f":"IF(Entscheidungsgrundlage!$AS$42=\"x\",Urmatrix!AL139,)","v":0},{"$f":"IF(Entscheidungsgrundlage!$AS$42=\"x\",Urmatrix!AM139,)","v":0},{"$f":"IF(Entscheidungsgrundlage!$AS$42=\"x\",Urmatrix!AN139,)","v":0},{"$f":"IF(Entscheidungsgrundlage!$AS$42=\"x\",Urmatrix!AO139,)","v":0},{"$f":"IF(Entscheidungsgrundlage!$AS$42=\"x\",Urmatrix!AP139,)","v":0},{"$f":"IF(Entscheidungsgrundlage!$AS$42=\"x\",Urmatrix!AQ139,)","v":0},{"$f":"IF(Entscheidungsgrundlage!$AS$42=\"x\",Urmatrix!AR139,)","v":0},{"$f":"IF(Entscheidungsgrundlage!$AS$42=\"x\",Urmatrix!AS139,)","v":0},{"$f":"IF(Entscheidungsgrundlage!$AS$42=\"x\",Urmatrix!AT139,)","v":0},{"$f":"IF(Entscheidungsgrundlage!$AS$42=\"x\",Urmatrix!AU139,)","v":0},{"$f":"IF(Entscheidungsgrundlage!$AS$42=\"x\",Urmatrix!AV139,)","v":0},{"$f":"IF(Entscheidungsgrundlage!$AS$42=\"x\",Urmatrix!AW139,)","v":0},{"$f":"IF(Entscheidungsgrundlage!$AS$42=\"x\",Urmatrix!AX139,)","v":0},{"$f":"IF(Entscheidungsgrundlage!$AS$42=\"x\",Urmatrix!AY139,)","v":0},{"$f":"IF(Entscheidungsgrundlage!$AS$42=\"x\",Urmatrix!AZ139,)","v":0},{"$f":"IF(Entscheidungsgrundlage!$AS$42=\"x\",Urmatrix!BA139,)","v":0},{"$f":"IF(Entscheidungsgrundlage!$AS$42=\"x\",Urmatrix!BB139,)","v":0},{"$f":"IF(Entscheidungsgrundlage!$AS$42=\"x\",Urmatrix!BC139,)","v":0},{"$f":"IF(Entscheidungsgrundlage!$AS$42=\"x\",Urmatrix!BD139,)","v":0},{"$f":"IF(Entscheidungsgrundlage!$AS$42=\"x\",Urmatrix!BE139,)","v":0},{"$f":"IF(Entscheidungsgrundlage!$AS$42=\"x\",Urmatrix!BF139,)","v":0},{"$f":"IF(Entscheidungsgrundlage!$AS$42=\"x\",Urmatrix!BG139,)","v":0}]
["Einheitliches Zeilsystem","Stiller",null,null,null,"Priorisierung der Hauptziele im Anlauf","Qualität",null,{"$f":"IF('Einheitliches Zielsystem'!$E$10=\"x\",Urmatrix!I140,)","v":0},{"$f":"IF('Einheitliches Zielsystem'!$E$10=\"x\",Urmatrix!J140,)","v":0},{"$f":"IF('Einheitliches Zielsystem'!$E$10=\"x\",Urmatrix!K140,)","v":0},{"$f":"IF('Einheitliches Zielsystem'!$E$10=\"x\",Urmatrix!L140,)","v":0},{"$f":"IF('Einheitliches Zielsystem'!$E$10=\"x\",Urmatrix!M140,)","v":0},{"$f":"IF('Einheitliches Zielsystem'!$E$10=\"x\",Urmatrix!N140,)","v":0},{"$f":"IF('Einheitliches Zielsystem'!$E$10=\"x\",Urmatrix!O140,)","v":0},{"$f":"IF('Einheitliches Zielsystem'!$E$10=\"x\",Urmatrix!P140,)","v":0},{"$f":"IF('Einheitliches Zielsystem'!$E$10=\"x\",Urmatrix!Q140,)","v":0},{"$f":"IF('Einheitliches Zielsystem'!$E$10=\"x\",Urmatrix!R140,)","v":0},{"$f":"IF('Einheitliches Zielsystem'!$E$10=\"x\",Urmatrix!S140,)","v":0},{"$f":"IF('Einheitliches Zielsystem'!$E$10=\"x\",Urmatrix!T140,)","v":0},{"$f":"IF('Einheitliches Zielsystem'!$E$10=\"x\",Urmatrix!U140,)","v":0},{"$f":"IF('Einheitliches Zielsystem'!$E$10=\"x\",Urmatrix!V140,)","v":0},{"$f":"IF('Einheitliches Zielsystem'!$E$10=\"x\",Urmatrix!W140,)","v":0},{"$f":"IF('Einheitliches Zielsystem'!$E$10=\"x\",Urmatrix!X140,)","v":0},{"$f":"IF('Einheitliches Zielsystem'!$E$10=\"x\",Urmatrix!Y140,)","v":0},{"$f":"IF('Einheitliches Zielsystem'!$E$10=\"x\",Urmatrix!Z140,)","v":0},{"$f":"IF('Einheitliches Zielsystem'!$E$10=\"x\",Urmatrix!AA140,)","v":0},{"$f":"IF('Einheitliches Zielsystem'!$E$10=\"x\",Urmatrix!AB140,)","v":0},{"$f":"IF('Einheitliches Zielsystem'!$E$10=\"x\",Urmatrix!AC140,)","v":0},{"$f":"IF('Einheitliches Zielsystem'!$E$10=\"x\",Urmatrix!AD140,)","v":0},{"$f":"IF('Einheitliches Zielsystem'!$E$10=\"x\",Urmatrix!AE140,)","v":0},{"$f":"IF('Einheitliches Zielsystem'!$E$10=\"x\",Urmatrix!AF140,)","v":0},{"$f":"IF('Einheitliches Zielsystem'!$E$10=\"x\",Urmatrix!AG140,)","v":0},{"$f":"IF('Einheitliches Zielsystem'!$E$10=\"x\",Urmatrix!AH140,)","v":0},{"$f":"IF('Einheitliches Zielsystem'!$E$10=\"x\",Urmatrix!AI140,)","v":0},{"$f":"IF('Einheitliches Zielsystem'!$E$10=\"x\",Urmatrix!AJ140,)","v":0},{"$f":"IF('Einheitliches Zielsystem'!$E$10=\"x\",Urmatrix!AK140,)","v":0},{"$f":"IF('Einheitliches Zielsystem'!$E$10=\"x\",Urmatrix!AL140,)","v":0},{"$f":"IF('Einheitliches Zielsystem'!$E$10=\"x\",Urmatrix!AM140,)","v":0},{"$f":"IF('Einheitliches Zielsystem'!$E$10=\"x\",Urmatrix!AN140,)","v":0},{"$f":"IF('Einheitliches Zielsystem'!$E$10=\"x\",Urmatrix!AO140,)","v":0},{"$f":"IF('Einheitliches Zielsystem'!$E$10=\"x\",Urmatrix!AP140,)","v":0},{"$f":"IF('Einheitliches Zielsystem'!$E$10=\"x\",Urmatrix!AQ140,)","v":0},{"$f":"IF('Einheitliches Zielsystem'!$E$10=\"x\",Urmatrix!AR140,)","v":0},{"$f":"IF('Einheitliches Zielsystem'!$E$10=\"x\",Urmatrix!AS140,)","v":0},{"$f":"IF('Einheitliches Zielsystem'!$E$10=\"x\",Urmatrix!AT140,)","v":0},{"$f":"IF('Einheitliches Zielsystem'!$E$10=\"x\",Urmatrix!AU140,)","v":0},{"$f":"IF('Einheitliches Zielsystem'!$E$10=\"x\",Urmatrix!AV140,)","v":0},{"$f":"IF('Einheitliches Zielsystem'!$E$10=\"x\",Urmatrix!AW140,)","v":0},{"$f":"IF('Einheitliches Zielsystem'!$E$10=\"x\",Urmatrix!AX140,)","v":0},{"$f":"IF('Einheitliches Zielsystem'!$E$10=\"x\",Urmatrix!AY140,)","v":0},{"$f":"IF('Einheitliches Zielsystem'!$E$10=\"x\",Urmatrix!AZ140,)","v":0},{"$f":"IF('Einheitliches Zielsystem'!$E$10=\"x\",Urmatrix!BA140,)","v":0},{"$f":"IF('Einheitliches Zielsystem'!$E$10=\"x\",Urmatrix!BB140,)","v":0},{"$f":"IF('Einheitliches Zielsystem'!$E$10=\"x\",Urmatrix!BC140,)","v":0},{"$f":"IF('Einheitliches Zielsystem'!$E$10=\"x\",Urmatrix!BD140,)","v":0},{"$f":"IF('Einheitliches Zielsystem'!$E$10=\"x\",Urmatrix!BE140,)","v":0},{"$f":"IF('Einheitliches Zielsystem'!$E$10=\"x\",Urmatrix!BF140,)","v":0},{"$f":"IF('Einheitliches Zielsystem'!$E$10=\"x\",Urmatrix!BG140,)","v":0}]
[null,null,null,null,null,null,"Zeit",null,{"$f":"IF('Einheitliches Zielsystem'!$Y$10=\"x\",Urmatrix!I141,)","v":0},{"$f":"IF('Einheitliches Zielsystem'!$Y$10=\"x\",Urmatrix!J141,)","v":0},{"$f":"IF('Einheitliches Zielsystem'!$Y$10=\"x\",Urmatrix!K141,)","v":0},{"$f":"IF('Einheitliches Zielsystem'!$Y$10=\"x\",Urmatrix!L141,)","v":0},{"$f":"IF('Einheitliches Zielsystem'!$Y$10=\"x\",Urmatrix!M141,)","v":0},{"$f":"IF('Einheitliches Zielsystem'!$Y$10=\"x\",Urmatrix!N141,)","v":0},{"$f":"IF('Einheitliches Zielsystem'!$Y$10=\"x\",Urmatrix!O141,)","v":0},{"$f":"IF('Einheitliches Zielsystem'!$Y$10=\"x\",Urmatrix!P141,)","v":0},{"$f":"IF('Einheitliches Zielsystem'!$Y$10=\"x\",Urmatrix!Q141,)","v":0},{"$f":"IF('Einheitliches Zielsystem'!$Y$10=\"x\",Urmatrix!R141,)","v":0},{"$f":"IF('Einheitliches Zielsystem'!$Y$10=\"x\",Urmatrix!S141,)","v":0},{"$f":"IF('Einheitliches Zielsystem'!$Y$10=\"x\",Urmatrix!T141,)","v":0},{"$f":"IF('Einheitliches Zielsystem'!$Y$10=\"x\",Urmatrix!U141,)","v":0},{"$f":"IF('Einheitliches Zielsystem'!$Y$10=\"x\",Urmatrix!V141,)","v":0},{"$f":"IF('Einheitliches Zielsystem'!$Y$10=\"x\",Urmatrix!W141,)","v":0},{"$f":"IF('Einheitliches Zielsystem'!$Y$10=\"x\",Urmatrix!X141,)","v":0},{"$f":"IF('Einheitliches Zielsystem'!$Y$10=\"x\",Urmatrix!Y141,)","v":0},{"$f":"IF('Einheitliches Zielsystem'!$Y$10=\"x\",Urmatrix!Z141,)","v":0},{"$f":"IF('Einheitliches Zielsystem'!$Y$10=\"x\",Urmatrix!AA141,)","v":0},{"$f":"IF('Einheitliches Zielsystem'!$Y$10=\"x\",Urmatrix!AB141,)","v":0},{"$f":"IF('Einheitliches Zielsystem'!$Y$10=\"x\",Urmatrix!AC141,)","v":0},{"$f":"IF('Einheitliches Zielsystem'!$Y$10=\"x\",Urmatrix!AD141,)","v":0},{"$f":"IF('Einheitliches Zielsystem'!$Y$10=\"x\",Urmatrix!AE141,)","v":0},{"$f":"IF('Einheitliches Zielsystem'!$Y$10=\"x\",Urmatrix!AF141,)","v":0},{"$f":"IF('Einheitliches Zielsystem'!$Y$10=\"x\",Urmatrix!AG141,)","v":0},{"$f":"IF('Einheitliches Zielsystem'!$Y$10=\"x\",Urmatrix!AH141,)","v":0},{"$f":"IF('Einheitliches Zielsystem'!$Y$10=\"x\",Urmatrix!AI141,)","v":0},{"$f":"IF('Einheitliches Zielsystem'!$Y$10=\"x\",Urmatrix!AJ141,)","v":0},{"$f":"IF('Einheitliches Zielsystem'!$Y$10=\"x\",Urmatrix!AK141,)","v":0},{"$f":"IF('Einheitliches Zielsystem'!$Y$10=\"x\",Urmatrix!AL141,)","v":0},{"$f":"IF('Einheitliches Zielsystem'!$Y$10=\"x\",Urmatrix!AM141,)","v":0},{"$f":"IF('Einheitliches Zielsystem'!$Y$10=\"x\",Urmatrix!AN141,)","v":0},{"$f":"IF('Einheitliches Zielsystem'!$Y$10=\"x\",Urmatrix!AO141,)","v":0},{"$f":"IF('Einheitliches Zielsystem'!$Y$10=\"x\",Urmatrix!AP141,)","v":0},{"$f":"IF('Einheitliches Zielsystem'!$Y$10=\"x\",Urmatrix!AQ141,)","v":0},{"$f":"IF('Einheitliches Zielsystem'!$Y$10=\"x\",Urmatrix!AR141,)","v":0},{"$f":"IF('Einheitliches Zielsystem'!$Y$10=\"x\",Urmatrix!AS141,)","v":0},{"$f":"IF('Einheitliches Zielsystem'!$Y$10=\"x\",Urmatrix!AT141,)","v":0},{"$f":"IF('Einheitliches Zielsystem'!$Y$10=\"x\",Urmatrix!AU141,)","v":0},{"$f":"IF('Einheitliches Zielsystem'!$Y$10=\"x\",Urmatrix!AV141,)","v":0},{"$f":"IF('Einheitliches Zielsystem'!$Y$10=\"x\",Urmatrix!AW141,)","v":0},{"$f":"IF('Einheitliches Zielsystem'!$Y$10=\"x\",Urmatrix!AX141,)","v":0},{"$f":"IF('Einheitliches Zielsystem'!$Y$10=\"x\",Urmatrix!AY141,)","v":0},{"$f":"IF('Einheitliches Zielsystem'!$Y$10=\"x\",Urmatrix!AZ141,)","v":0},{"$f":"IF('Einheitliches Zielsystem'!$Y$10=\"x\",Urmatrix!BA141,)","v":0},{"$f":"IF('Einheitliches Zielsystem'!$Y$10=\"x\",Urmatrix!BB141,)","v":0},{"$f":"IF('Einheitliches Zielsystem'!$Y$10=\"x\",Urmatrix!BC141,)","v":0},{"$f":"IF('Einheitliches Zielsystem'!$Y$10=\"x\",Urmatrix!BD141,)","v":0},{"$f":"IF('Einheitliches Zielsystem'!$Y$10=\"x\",Urmatrix!BE141,)","v":0},{"$f":"IF('Einheitliches Zielsystem'!$Y$10=\"x\",Urmatrix!BF141,)","v":0},{"$f":"IF('Einheitliches Zielsystem'!$Y$10=\"x\",Urmatrix!BG141,)","v":0}]
[null,null,null,null,null,null,"Kosten",null,{"$f":"IF('Einheitliches Zielsystem'!$AS$10=\"x\",Urmatrix!I142,)","v":0},{"$f":"IF('Einheitliches Zielsystem'!$AS$10=\"x\",Urmatrix!J142,)","v":0},{"$f":"IF('Einheitliches Zielsystem'!$AS$10=\"x\",Urmatrix!K142,)","v":0},{"$f":"IF('Einheitliches Zielsystem'!$AS$10=\"x\",Urmatrix!L142,)","v":0},{"$f":"IF('Einheitliches Zielsystem'!$AS$10=\"x\",Urmatrix!M142,)","v":0},{"$f":"IF('Einheitliches Zielsystem'!$AS$10=\"x\",Urmatrix!N142,)","v":0},{"$f":"IF('Einheitliches Zielsystem'!$AS$10=\"x\",Urmatrix!O142,)","v":0},{"$f":"IF('Einheitliches Zielsystem'!$AS$10=\"x\",Urmatrix!P142,)","v":0},{"$f":"IF('Einheitliches Zielsystem'!$AS$10=\"x\",Urmatrix!Q142,)","v":0},{"$f":"IF('Einheitliches Zielsystem'!$AS$10=\"x\",Urmatrix!R142,)","v":0},{"$f":"IF('Einheitliches Zielsystem'!$AS$10=\"x\",Urmatrix!S142,)","v":0},{"$f":"IF('Einheitliches Zielsystem'!$AS$10=\"x\",Urmatrix!T142,)","v":0},{"$f":"IF('Einheitliches Zielsystem'!$AS$10=\"x\",Urmatrix!U142,)","v":0},{"$f":"IF('Einheitliches Zielsystem'!$AS$10=\"x\",Urmatrix!V142,)","v":0},{"$f":"IF('Einheitliches Zielsystem'!$AS$10=\"x\",Urmatrix!W142,)","v":0},{"$f":"IF('Einheitliches Zielsystem'!$AS$10=\"x\",Urmatrix!X142,)","v":0},{"$f":"IF('Einheitliches Zielsystem'!$AS$10=\"x\",Urmatrix!Y142,)","v":0},{"$f":"IF('Einheitliches Zielsystem'!$AS$10=\"x\",Urmatrix!Z142,)","v":0},{"$f":"IF('Einheitliches Zielsystem'!$AS$10=\"x\",Urmatrix!AA142,)","v":0},{"$f":"IF('Einheitliches Zielsystem'!$AS$10=\"x\",Urmatrix!AB142,)","v":0},{"$f":"IF('Einheitliches Zielsystem'!$AS$10=\"x\",Urmatrix!AC142,)","v":0},{"$f":"IF('Einheitliches Zielsystem'!$AS$10=\"x\",Urmatrix!AD142,)","v":0},{"$f":"IF('Einheitliches Zielsystem'!$AS$10=\"x\",Urmatrix!AE142,)","v":0},{"$f":"IF('Einheitliches Zielsystem'!$AS$10=\"x\",Urmatrix!AF142,)","v":0},{"$f":"IF('Einheitliches Zielsystem'!$AS$10=\"x\",Urmatrix!AG142,)","v":0},{"$f":"IF('Einheitliches Zielsystem'!$AS$10=\"x\",Urmatrix!AH142,)","v":0},{"$f":"IF('Einheitliches Zielsystem'!$AS$10=\"x\",Urmatrix!AI142,)","v":0},{"$f":"IF('Einheitliches Zielsystem'!$AS$10=\"x\",Urmatrix!AJ142,)","v":0},{"$f":"IF('Einheitliches Zielsystem'!$AS$10=\"x\",Urmatrix!AK142,)","v":0},{"$f":"IF('Einheitliches Zielsystem'!$AS$10=\"x\",Urmatrix!AL142,)","v":0},{"$f":"IF('Einheitliches Zielsystem'!$AS$10=\"x\",Urmatrix!AM142,)","v":0},{"$f":"IF('Einheitliches Zielsystem'!$AS$10=\"x\",Urmatrix!AN142,)","v":0},{"$f":"IF('Einheitliches Zielsystem'!$AS$10=\"x\",Urmatrix!AO142,)","v":0},{"$f":"IF('Einheitliches Zielsystem'!$AS$10=\"x\",Urmatrix!AP142,)","v":0},{"$f":"IF('Einheitliches Zielsystem'!$AS$10=\"x\",Urmatrix!AQ142,)","v":0},{"$f":"IF('Einheitliches Zielsystem'!$AS$10=\"x\",Urmatrix!AR142,)","v":0},{"$f":"IF('Einheitliches Zielsystem'!$AS$10=\"x\",Urmatrix!AS142,)","v":0},{"$f":"IF('Einheitliches Zielsystem'!$AS$10=\"x\",Urmatrix!AT142,)","v":0},{"$f":"IF('Einheitliches Zielsystem'!$AS$10=\"x\",Urmatrix!AU142,)","v":0},{"$f":"IF('Einheitliches Zielsystem'!$AS$10=\"x\",Urmatrix!AV142,)","v":0},{"$f":"IF('Einheitliches Zielsystem'!$AS$10=\"x\",Urmatrix!AW142,)","v":0},{"$f":"IF('Einheitliches Zielsystem'!$AS$10=\"x\",Urmatrix!AX142,)","v":0},{"$f":"IF('Einheitliches Zielsystem'!$AS$10=\"x\",Urmatrix!AY142,)","v":0},{"$f":"IF('Einheitliches Zielsystem'!$AS$10=\"x\",Urmatrix!AZ142,)","v":0},{"$f":"IF('Einheitliches Zielsystem'!$AS$10=\"x\",Urmatrix!BA142,)","v":0},{"$f":"IF('Einheitliches Zielsystem'!$AS$10=\"x\",Urmatrix!BB142,)","v":0},{"$f":"IF('Einheitliches Zielsystem'!$AS$10=\"x\",Urmatrix!BC142,)","v":0},{"$f":"IF('Einheitliches Zielsystem'!$AS$10=\"x\",Urmatrix!BD142,)","v":0},{"$f":"IF('Einheitliches Zielsystem'!$AS$10=\"x\",Urmatrix!BE142,)","v":0},{"$f":"IF('Einheitliches Zielsystem'!$AS$10=\"x\",Urmatrix!BF142,)","v":0},{"$f":"IF('Einheitliches Zielsystem'!$AS$10=\"x\",Urmatrix!BG142,)","v":0}]
[null,null,null,null,null,"Kennzahlabdeckung","Qualität"]
[null,null,null,null,null,null,"Zeit"]
[null,null,null,null,null,null,"Kosten"]
[null,"Bußwolder",null,null,null,"Nebenziele","Mitarbeiter-Motivation",null,{"$f":"IF('Einheitliches Zielsystem'!$E$51=\"x\",Urmatrix!I146,)","v":0},{"$f":"IF('Einheitliches Zielsystem'!$E$51=\"x\",Urmatrix!J146,)","v":0},{"$f":"IF('Einheitliches Zielsystem'!$E$51=\"x\",Urmatrix!K146,)","v":0},{"$f":"IF('Einheitliches Zielsystem'!$E$51=\"x\",Urmatrix!L146,)","v":0},{"$f":"IF('Einheitliches Zielsystem'!$E$51=\"x\",Urmatrix!M146,)","v":0},{"$f":"IF('Einheitliches Zielsystem'!$E$51=\"x\",Urmatrix!N146,)","v":0},{"$f":"IF('Einheitliches Zielsystem'!$E$51=\"x\",Urmatrix!O146,)","v":0},{"$f":"IF('Einheitliches Zielsystem'!$E$51=\"x\",Urmatrix!P146,)","v":0},{"$f":"IF('Einheitliches Zielsystem'!$E$51=\"x\",Urmatrix!Q146,)","v":0},{"$f":"IF('Einheitliches Zielsystem'!$E$51=\"x\",Urmatrix!R146,)","v":0},{"$f":"IF('Einheitliches Zielsystem'!$E$51=\"x\",Urmatrix!S146,)","v":0},{"$f":"IF('Einheitliches Zielsystem'!$E$51=\"x\",Urmatrix!T146,)","v":0},{"$f":"IF('Einheitliches Zielsystem'!$E$51=\"x\",Urmatrix!U146,)","v":0},{"$f":"IF('Einheitliches Zielsystem'!$E$51=\"x\",Urmatrix!V146,)","v":0},{"$f":"IF('Einheitliches Zielsystem'!$E$51=\"x\",Urmatrix!W146,)","v":0},{"$f":"IF('Einheitliches Zielsystem'!$E$51=\"x\",Urmatrix!X146,)","v":0},{"$f":"IF('Einheitliches Zielsystem'!$E$51=\"x\",Urmatrix!Y146,)","v":0},{"$f":"IF('Einheitliches Zielsystem'!$E$51=\"x\",Urmatrix!Z146,)","v":0},{"$f":"IF('Einheitliches Zielsystem'!$E$51=\"x\",Urmatrix!AA146,)","v":0},{"$f":"IF('Einheitliches Zielsystem'!$E$51=\"x\",Urmatrix!AB146,)","v":0},{"$f":"IF('Einheitliches Zielsystem'!$E$51=\"x\",Urmatrix!AC146,)","v":0},{"$f":"IF('Einheitliches Zielsystem'!$E$51=\"x\",Urmatrix!AD146,)","v":0},{"$f":"IF('Einheitliches Zielsystem'!$E$51=\"x\",Urmatrix!AE146,)","v":0},{"$f":"IF('Einheitliches Zielsystem'!$E$51=\"x\",Urmatrix!AF146,)","v":0},{"$f":"IF('Einheitliches Zielsystem'!$E$51=\"x\",Urmatrix!AG146,)","v":0},{"$f":"IF('Einheitliches Zielsystem'!$E$51=\"x\",Urmatrix!AH146,)","v":0},{"$f":"IF('Einheitliches Zielsystem'!$E$51=\"x\",Urmatrix!AI146,)","v":0},{"$f":"IF('Einheitliches Zielsystem'!$E$51=\"x\",Urmatrix!AJ146,)","v":0},{"$f":"IF('Einheitliches Zielsystem'!$E$51=\"x\",Urmatrix!AK146,)","v":0},{"$f":"IF('Einheitliches Zielsystem'!$E$51=\"x\",Urmatrix!AL146,)","v":0},{"$f":"IF('Einheitliches Zielsystem'!$E$51=\"x\",Urmatrix!AM146,)","v":0},{"$f":"IF('Einheitliches Zielsystem'!$E$51=\"x\",Urmatrix!AN146,)","v":0},{"$f":"IF('Einheitliches Zielsystem'!$E$51=\"x\",Urmatrix!AO146,)","v":0},{"$f":"IF('Einheitliches Zielsystem'!$E$51=\"x\",Urmatrix!AP146,)","v":0},{"$f":"IF('Einheitliches Zielsystem'!$E$51=\"x\",Urmatrix!AQ146,)","v":0},{"$f":"IF('Einheitliches Zielsystem'!$E$51=\"x\",Urmatrix!AR146,)","v":0},{"$f":"IF('Einheitliches Zielsystem'!$E$51=\"x\",Urmatrix!AS146,)","v":0},{"$f":"IF('Einheitliches Zielsystem'!$E$51=\"x\",Urmatrix!AT146,)","v":0},{"$f":"IF('Einheitliches Zielsystem'!$E$51=\"x\",Urmatrix!AU146,)","v":0},{"$f":"IF('Einheitliches Zielsystem'!$E$51=\"x\",Urmatrix!AV146,)","v":0},{"$f":"IF('Einheitliches Zielsystem'!$E$51=\"x\",Urmatrix!AW146,)","v":0},{"$f":"IF('Einheitliches Zielsystem'!$E$51=\"x\",Urmatrix!AX146,)","v":0},{"$f":"IF('Einheitliches Zielsystem'!$E$51=\"x\",Urmatrix!AY146,)","v":0},{"$f":"IF('Einheitliches Zielsystem'!$E$51=\"x\",Urmatrix!AZ146,)","v":0},{"$f":"IF('Einheitliches Zielsystem'!$E$51=\"x\",Urmatrix!BA146,)","v":0},{"$f":"IF('Einheitliches Zielsystem'!$E$51=\"x\",Urmatrix!BB146,)","v":0},{"$f":"IF('Einheitliches Zielsystem'!$E$51=\"x\",Urmatrix!BC146,)","v":0},{"$f":"IF('Einheitliches Zielsystem'!$E$51=\"x\",Urmatrix!BD146,)","v":0},{"$f":"IF('Einheitliches Zielsystem'!$E$51=\"x\",Urmatrix!BE146,)","v":0},{"$f":"IF('Einheitliches Zielsystem'!$E$51=\"x\",Urmatrix!BF146,)","v":0},{"$f":"IF('Einheitliches Zielsystem'!$E$51=\"x\",Urmatrix!BG146,)","v":0}]
[null,null,null,null,null,null,"Ökologische Ziele",null,{"$f":"IF('Einheitliches Zielsystem'!$Y$51=\"x\",Urmatrix!I147,)","v":0},{"$f":"IF('Einheitliches Zielsystem'!$Y$51=\"x\",Urmatrix!J147,)","v":0},{"$f":"IF('Einheitliches Zielsystem'!$Y$51=\"x\",Urmatrix!K147,)","v":0},{"$f":"IF('Einheitliches Zielsystem'!$Y$51=\"x\",Urmatrix!L147,)","v":0},{"$f":"IF('Einheitliches Zielsystem'!$Y$51=\"x\",Urmatrix!M147,)","v":0},{"$f":"IF('Einheitliches Zielsystem'!$Y$51=\"x\",Urmatrix!N147,)","v":0},{"$f":"IF('Einheitliches Zielsystem'!$Y$51=\"x\",Urmatrix!O147,)","v":0},{"$f":"IF('Einheitliches Zielsystem'!$Y$51=\"x\",Urmatrix!P147,)","v":0},{"$f":"IF('Einheitliches Zielsystem'!$Y$51=\"x\",Urmatrix!Q147,)","v":0},{"$f":"IF('Einheitliches Zielsystem'!$Y$51=\"x\",Urmatrix!R147,)","v":0},{"$f":"IF('Einheitliches Zielsystem'!$Y$51=\"x\",Urmatrix!S147,)","v":0},{"$f":"IF('Einheitliches Zielsystem'!$Y$51=\"x\",Urmatrix!T147,)","v":0},{"$f":"IF('Einheitliches Zielsystem'!$Y$51=\"x\",Urmatrix!U147,)","v":0},{"$f":"IF('Einheitliches Zielsystem'!$Y$51=\"x\",Urmatrix!V147,)","v":0},{"$f":"IF('Einheitliches Zielsystem'!$Y$51=\"x\",Urmatrix!W147,)","v":0},{"$f":"IF('Einheitliches Zielsystem'!$Y$51=\"x\",Urmatrix!X147,)","v":0},{"$f":"IF('Einheitliches Zielsystem'!$Y$51=\"x\",Urmatrix!Y147,)","v":0},{"$f":"IF('Einheitliches Zielsystem'!$Y$51=\"x\",Urmatrix!Z147,)","v":0},{"$f":"IF('Einheitliches Zielsystem'!$Y$51=\"x\",Urmatrix!AA147,)","v":0},{"$f":"IF('Einheitliches Zielsystem'!$Y$51=\"x\",Urmatrix!AB147,)","v":0},{"$f":"IF('Einheitliches Zielsystem'!$Y$51=\"x\",Urmatrix!AC147,)","v":0},{"$f":"IF('Einheitliches Zielsystem'!$Y$51=\"x\",Urmatrix!AD147,)","v":0},{"$f":"IF('Einheitliches Zielsystem'!$Y$51=\"x\",Urmatrix!AE147,)","v":0},{"$f":"IF('Einheitliches Zielsystem'!$Y$51=\"x\",Urmatrix!AF147,)","v":0},{"$f":"IF('Einheitliches Zielsystem'!$Y$51=\"x\",Urmatrix!AG147,)","v":0},{"$f":"IF('Einheitliches Zielsystem'!$Y$51=\"x\",Urmatrix!AH147,)","v":0},{"$f":"IF('Einheitliches Zielsystem'!$Y$51=\"x\",Urmatrix!AI147,)","v":0},{"$f":"IF('Einheitliches Zielsystem'!$Y$51=\"x\",Urmatrix!AJ147,)","v":0},{"$f":"IF('Einheitliches Zielsystem'!$Y$51=\"x\",Urmatrix!AK147,)","v":0},{"$f":"IF('Einheitliches Zielsystem'!$Y$51=\"x\",Urmatrix!AL147,)","v":0},{"$f":"IF('Einheitliches Zielsystem'!$Y$51=\"x\",Urmatrix!AM147,)","v":0},{"$f":"IF('Einheitliches Zielsystem'!$Y$51=\"x\",Urmatrix!AN147,)","v":0},{"$f":"IF('Einheitliches Zielsystem'!$Y$51=\"x\",Urmatrix!AO147,)","v":0},{"$f":"IF('Einheitliches Zielsystem'!$Y$51=\"x\",Urmatrix!AP147,)","v":0},{"$f":"IF('Einheitliches Zielsystem'!$Y$51=\"x\",Urmatrix!AQ147,)","v":0},{"$f":"IF('Einheitliches Zielsystem'!$Y$51=\"x\",Urmatrix!AR147,)","v":0},{"$f":"IF('Einheitliches Zielsystem'!$Y$51=\"x\",Urmatrix!AS147,)","v":0},{"$f":"IF('Einheitliches Zielsystem'!$Y$51=\"x\",Urmatrix!AT147,)","v":0},{"$f":"IF('Einheitliches Zielsystem'!$Y$51=\"x\",Urmatrix!AU147,)","v":0},{"$f":"IF('Einheitliches Zielsystem'!$Y$51=\"x\",Urmatrix!AV147,)","v":0},{"$f":"IF('Einheitliches Zielsystem'!$Y$51=\"x\",Urmatrix!AW147,)","v":0},{"$f":"IF('Einheitliches Zielsystem'!$Y$51=\"x\",Urmatrix!AX147,)","v":0},{"$f":"IF('Einheitliches Zielsystem'!$Y$51=\"x\",Urmatrix!AY147,)","v":0},{"$f":"IF('Einheitliches Zielsystem'!$Y$51=\"x\",Urmatrix!AZ147,)","v":0},{"$f":"IF('Einheitliches Zielsystem'!$Y$51=\"x\",Urmatrix!BA147,)","v":0},{"$f":"IF('Einheitliches Zielsystem'!$Y$51=\"x\",Urmatrix!BB147,)","v":0},{"$f":"IF('Einheitliches Zielsystem'!$Y$51=\"x\",Urmatrix!BC147,)","v":0},{"$f":"IF('Einheitliches Zielsystem'!$Y$51=\"x\",Urmatrix!BD147,)","v":0},{"$f":"IF('Einheitliches Zielsystem'!$Y$51=\"x\",Urmatrix!BE147,)","v":0},{"$f":"IF('Einheitliches Zielsystem'!$Y$51=\"x\",Urmatrix!BF147,)","v":0},{"$f":"IF('Einheitliches Zielsystem'!$Y$51=\"x\",Urmatrix!BG147,)","v":0}]
[null,null,null,null,null,null,"Soziale/ Nomative Ziele",null,{"$f":"IF('Einheitliches Zielsystem'!$AS$51=\"x\",Urmatrix!I148,)","v":0},{"$f":"IF('Einheitliches Zielsystem'!$AS$51=\"x\",Urmatrix!J148,)","v":0},{"$f":"IF('Einheitliches Zielsystem'!$AS$51=\"x\",Urmatrix!K148,)","v":0},{"$f":"IF('Einheitliches Zielsystem'!$AS$51=\"x\",Urmatrix!L148,)","v":0},{"$f":"IF('Einheitliches Zielsystem'!$AS$51=\"x\",Urmatrix!M148,)","v":0},{"$f":"IF('Einheitliches Zielsystem'!$AS$51=\"x\",Urmatrix!N148,)","v":0},{"$f":"IF('Einheitliches Zielsystem'!$AS$51=\"x\",Urmatrix!O148,)","v":0},{"$f":"IF('Einheitliches Zielsystem'!$AS$51=\"x\",Urmatrix!P148,)","v":0},{"$f":"IF('Einheitliches Zielsystem'!$AS$51=\"x\",Urmatrix!Q148,)","v":0},{"$f":"IF('Einheitliches Zielsystem'!$AS$51=\"x\",Urmatrix!R148,)","v":0},{"$f":"IF('Einheitliches Zielsystem'!$AS$51=\"x\",Urmatrix!S148,)","v":0},{"$f":"IF('Einheitliches Zielsystem'!$AS$51=\"x\",Urmatrix!T148,)","v":0},{"$f":"IF('Einheitliches Zielsystem'!$AS$51=\"x\",Urmatrix!U148,)","v":0},{"$f":"IF('Einheitliches Zielsystem'!$AS$51=\"x\",Urmatrix!V148,)","v":0},{"$f":"IF('Einheitliches Zielsystem'!$AS$51=\"x\",Urmatrix!W148,)","v":0},{"$f":"IF('Einheitliches Zielsystem'!$AS$51=\"x\",Urmatrix!X148,)","v":0},{"$f":"IF('Einheitliches Zielsystem'!$AS$51=\"x\",Urmatrix!Y148,)","v":0},{"$f":"IF('Einheitliches Zielsystem'!$AS$51=\"x\",Urmatrix!Z148,)","v":0},{"$f":"IF('Einheitliches Zielsystem'!$AS$51=\"x\",Urmatrix!AA148,)","v":0},{"$f":"IF('Einheitliches Zielsystem'!$AS$51=\"x\",Urmatrix!AB148,)","v":0},{"$f":"IF('Einheitliches Zielsystem'!$AS$51=\"x\",Urmatrix!AC148,)","v":0},{"$f":"IF('Einheitliches Zielsystem'!$AS$51=\"x\",Urmatrix!AD148,)","v":0},{"$f":"IF('Einheitliches Zielsystem'!$AS$51=\"x\",Urmatrix!AE148,)","v":0},{"$f":"IF('Einheitliches Zielsystem'!$AS$51=\"x\",Urmatrix!AF148,)","v":0},{"$f":"IF('Einheitliches Zielsystem'!$AS$51=\"x\",Urmatrix!AG148,)","v":0},{"$f":"IF('Einheitliches Zielsystem'!$AS$51=\"x\",Urmatrix!AH148,)","v":0},{"$f":"IF('Einheitliches Zielsystem'!$AS$51=\"x\",Urmatrix!AI148,)","v":0},{"$f":"IF('Einheitliches Zielsystem'!$AS$51=\"x\",Urmatrix!AJ148,)","v":0},{"$f":"IF('Einheitliches Zielsystem'!$AS$51=\"x\",Urmatrix!AK148,)","v":0},{"$f":"IF('Einheitliches Zielsystem'!$AS$51=\"x\",Urmatrix!AL148,)","v":0},{"$f":"IF('Einheitliches Zielsystem'!$AS$51=\"x\",Urmatrix!AM148,)","v":0},{"$f":"IF('Einheitliches Zielsystem'!$AS$51=\"x\",Urmatrix!AN148,)","v":0},{"$f":"IF('Einheitliches Zielsystem'!$AS$51=\"x\",Urmatrix!AO148,)","v":0},{"$f":"IF('Einheitliches Zielsystem'!$AS$51=\"x\",Urmatrix!AP148,)","v":0},{"$f":"IF('Einheitliches Zielsystem'!$AS$51=\"x\",Urmatrix!AQ148,)","v":0},{"$f":"IF('Einheitliches Zielsystem'!$AS$51=\"x\",Urmatrix!AR148,)","v":0},{"$f":"IF('Einheitliches Zielsystem'!$AS$51=\"x\",Urmatrix!AS148,)","v":0},{"$f":"IF('Einheitliches Zielsystem'!$AS$51=\"x\",Urmatrix!AT148,)","v":0},{"$f":"IF('Einheitliches Zielsystem'!$AS$51=\"x\",Urmatrix!AU148,)","v":0},{"$f":"IF('Einheitliches Zielsystem'!$AS$51=\"x\",Urmatrix!AV148,)","v":0},{"$f":"IF('Einheitliches Zielsystem'!$AS$51=\"x\",Urmatrix!AW148,)","v":0},{"$f":"IF('Einheitliches Zielsystem'!$AS$51=\"x\",Urmatrix!AX148,)","v":0},{"$f":"IF('Einheitliches Zielsystem'!$AS$51=\"x\",Urmatrix!AY148,)","v":0},{"$f":"IF('Einheitliches Zielsystem'!$AS$51=\"x\",Urmatrix!AZ148,)","v":0},{"$f":"IF('Einheitliches Zielsystem'!$AS$51=\"x\",Urmatrix!BA148,)","v":0},{"$f":"IF('Einheitliches Zielsystem'!$AS$51=\"x\",Urmatrix!BB148,)","v":0},{"$f":"IF('Einheitliches Zielsystem'!$AS$51=\"x\",Urmatrix!BC148,)","v":0},{"$f":"IF('Einheitliches Zielsystem'!$AS$51=\"x\",Urmatrix!BD148,)","v":0},{"$f":"IF('Einheitliches Zielsystem'!$AS$51=\"x\",Urmatrix!BE148,)","v":0},{"$f":"IF('Einheitliches Zielsystem'!$AS$51=\"x\",Urmatrix!BF148,)","v":0},{"$f":"IF('Einheitliches Zielsystem'!$AS$51=\"x\",Urmatrix!BG148,)","v":0}]
[]
[null,null,null,null,null,null,"Summe",null,{"$f":"SUM(I33:I147)","v":0},{"$f":"SUM(J33:J147)","v":0},0,0,0,0,0,0,0,0,0,0,0,0,0,0,0,0,0,0,0,0,0,0,0,0,0,0,0,0,0,0,0,0,0,0,0,0,0,0,0,0,0,0,0,0,0,0,0,0,0]
[]
[null,null,null,null,null,null,"Abweichung von Urmatrix",null,{"$f":"Urmatrix!I150-'Ist-Matrix'!I149","v":259},{"$f":"Urmatrix!J150-'Ist-Matrix'!J149","v":304},{"$f":"Urmatrix!K150-'Ist-Matrix'!K149","v":82},{"$f":"Urmatrix!L150-'Ist-Matrix'!L149","v":114},{"$f":"Urmatrix!M150-'Ist-Matrix'!M149","v":131},{"$f":"Urmatrix!N150-'Ist-Matrix'!N149","v":27},{"$f":"Urmatrix!O150-'Ist-Matrix'!O149","v":284},{"$f":"Urmatrix!P150-'Ist-Matrix'!P149","v":298},{"$f":"Urmatrix!Q150-'Ist-Matrix'!Q149","v":248},{"$f":"Urmatrix!R150-'Ist-Matrix'!R149","v":246},{"$f":"Urmatrix!S150-'Ist-Matrix'!S149","v":272},{"$f":"Urmatrix!T150-'Ist-Matrix'!T149","v":198},{"$f":"Urmatrix!U150-'Ist-Matrix'!U149","v":126},{"$f":"Urmatrix!V150-'Ist-Matrix'!V149","v":126},{"$f":"Urmatrix!W150-'Ist-Matrix'!W149","v":214},{"$f":"Urmatrix!X150-'Ist-Matrix'!X149","v":247},{"$f":"Urmatrix!Y150-'Ist-Matrix'!Y149","v":175},{"$f":"Urmatrix!Z150-'Ist-Matrix'!Z149","v":126},{"$f":"Urmatrix!AA150-'Ist-Matrix'!AA149","v":23},{"$f":"Urmatrix!AB150-'Ist-Matrix'!AB149","v":227},{"$f":"Urmatrix!AC150-'Ist-Matrix'!AC149","v":91},{"$f":"Urmatrix!AD150-'Ist-Matrix'!AD149","v":112},{"$f":"Urmatrix!AE150-'Ist-Matrix'!AE149","v":52},{"$f":"Urmatrix!AF150-'Ist-Matrix'!AF149","v":75},{"$f":"Urmatrix!AG150-'Ist-Matrix'!AG149","v":75},{"$f":"Urmatrix!AH150-'Ist-Matrix'!AH149","v":75},{"$f":"Urmatrix!AI150-'Ist-Matrix'!AI149","v":89},{"$f":"Urmatrix!AJ150-'Ist-Matrix'!AJ149","v":219},{"$f":"Urmatrix!AK150-'Ist-Matrix'!AK149","v":270},{"$f":"Urmatrix!AL150-'Ist-Matrix'!AL149","v":248},{"$f":"Urmatrix!AM150-'Ist-Matrix'!AM149","v":264},{"$f":"Urmatrix!AN150-'Ist-Matrix'!AN149","v":258},{"$f":"Urmatrix!AO150-'Ist-Matrix'!AO149","v":165},{"$f":"Urmatrix!AP150-'Ist-Matrix'!AP149","v":298},{"$f":"Urmatrix!AQ150-'Ist-Matrix'!AQ149","v":167},{"$f":"Urmatrix!AR150-'Ist-Matrix'!AR149","v":292},{"$f":"Urmatrix!AS150-'Ist-Matrix'!AS149","v":201},{"$f":"Urmatrix!AT150-'Ist-Matrix'!AT149","v":63},{"$f":"Urmatrix!AU150-'Ist-Matrix'!AU149","v":57},{"$f":"Urmatrix!AV150-'Ist-Matrix'!AV149","v":63},{"$f":"Urmatrix!AW150-'Ist-Matrix'!AW149","v":215},{"$f":"Urmatrix!AX150-'Ist-Matrix'!AX149","v":222},{"$f":"Urmatrix!AY150-'Ist-Matrix'!AY149","v":192},{"$f":"Urmatrix!AZ150-'Ist-Matrix'!AZ149","v":188},{"$f":"Urmatrix!BA150-'Ist-Matrix'!BA149","v":121},{"$f":"Urmatrix!BB150-'Ist-Matrix'!BB149","v":190},{"$f":"Urmatrix!BC150-'Ist-Matrix'!BC149","v":117},{"$f":"Urmatrix!BD150-'Ist-Matrix'!BD149","v":48},{"$f":"Urmatrix!BE150-'Ist-Matrix'!BE149","v":60},{"$f":"Urmatrix!BF150-'Ist-Matrix'!BF149","v":69},{"$f":"Urmatrix!BG150-'Ist-Matrix'!BG149","v":66}]
[]
[null,null,null,null,null,null,"Relvanz der Managementdimension",null,{"$f":"1-(I151/Urmatrix!I150)","v":0},{"$f":"1-(J151/Urmatrix!J150)","v":0},{"$f":"1-(K151/Urmatrix!K150)","v":0},{"$f":"1-(L151/Urmatrix!L150)","v":0},{"$f":"1-(M151/Urmatrix!M150)","v":0},{"$f":"1-(N151/Urmatrix!N150)","v":0},{"$f":"1-(O151/Urmatrix!O150)","v":0},{"$f":"1-(P151/Urmatrix!P150)","v":0},{"$f":"1-(Q151/Urmatrix!Q150)","v":0},{"$f":"1-(R151/Urmatrix!R150)","v":0},{"$f":"1-(S151/Urmatrix!S150)","v":0},{"$f":"1-(T151/Urmatrix!T150)","v":0},{"$f":"1-(U151/Urmatrix!U150)","v":0},{"$f":"1-(V151/Urmatrix!V150)","v":0},{"$f":"1-(W151/Urmatrix!W150)","v":0},{"$f":"1-(X151/Urmatrix!X150)","v":0},{"$f":"1-(Y151/Urmatrix!Y150)","v":0},{"$f":"1-(Z151/Urmatrix!Z150)","v":0},{"$f":"1-(AA151/Urmatrix!AA150)","v":0},{"$f":"1-(AB151/Urmatrix!AB150)","v":0},{"$f":"1-(AC151/Urmatrix!AC150)","v":0},{"$f":"1-(AD151/Urmatrix!AD150)","v":0},{"$f":"1-(AE151/Urmatrix!AE150)","v":0},{"$f":"1-(AF151/Urmatrix!AF150)","v":0},{"$f":"1-(AG151/Urmatrix!AG150)","v":0},{"$f":"1-(AH151/Urmatrix!AH150)","v":0},{"$f":"1-(AI151/Urmatrix!AI150)","v":0},{"$f":"1-(AJ151/Urmatrix!AJ150)","v":0},{"$f":"1-(AK151/Urmatrix!AK150)","v":0},{"$f":"1-(AL151/Urmatrix!AL150)","v":0},{"$f":"1-(AM151/Urmatrix!AM150)","v":0},{"$f":"1-(AN151/Urmatrix!AN150)","v":0},{"$f":"1-(AO151/Urmatrix!AO150)","v":0},{"$f":"1-(AP151/Urmatrix!AP150)","v":0},{"$f":"1-(AQ151/Urmatrix!AQ150)","v":0},{"$f":"1-(AR151/Urmatrix!AR150)","v":0},{"$f":"1-(AS151/Urmatrix!AS150)","v":0},{"$f":"1-(AT151/Urmatrix!AT150)","v":0},{"$f":"1-(AU151/Urmatrix!AU150)","v":0},{"$f":"1-(AV151/Urmatrix!AV150)","v":0},{"$f":"1-(AW151/Urmatrix!AW150)","v":0},{"$f":"1-(AX151/Urmatrix!AX150)","v":0},{"$f":"1-(AY151/Urmatrix!AY150)","v":0},{"$f":"1-(AZ151/Urmatrix!AZ150)","v":0},{"$f":"1-(BA151/Urmatrix!BA150)","v":0},{"$f":"1-(BB151/Urmatrix!BB150)","v":0},{"$f":"1-(BC151/Urmatrix!BC150)","v":0},{"$f":"1-(BD151/Urmatrix!BD150)","v":0},{"$f":"1-(BE151/Urmatrix!BE150)","v":0},{"$f":"1-(BF151/Urmatrix!BF150)","v":0},{"$f":"1-(BG151/Urmatrix!BG150)","v":0}]

{"sheet":"Report","index":6,"n_rows":6,"n_cols":25,"rows_kept":6,"cut":false,"hidden":false,"merged":[[0,0,1,26],[3,2,3,24]]}
["Report"]
[]
[]
[null,null,"Dissertationen im GRK"]
[null,null,"Patrick Beaujean","Peter Burggräf","Chatrin Wesch-Potente","Bastian Nau","Martin Göbel","Uwe Groß","Thomas Gartzen","Esther Borowski","Tim Renner","Sebastian Schmitt","Jerome Quick","Isabel Basse","Christoph Nowacki","Steffen Buchholz","Simon Müller","Frank Steiner","Sebastian Reuter","Marc Kujas","Sebastian Stiller","Christian Janßen","Andreas Maue","Maik Schür-meyer","Peter Bußwolder"]
[null,null,{"$f":"'Ist-Matrix'!G9","v":0},{"$f":"'Ist-Matrix'!G10","v":0},{"$f":"'Ist-Matrix'!G11","v":0},{"$f":"'Ist-Matrix'!G12","v":0},{"$f":"'Ist-Matrix'!G13","v":0},{"$f":"'Ist-Matrix'!G14","v":0},{"$f":"'Ist-Matrix'!G15","v":0},{"$f":"'Ist-Matrix'!G16","v":0},{"$f":"'Ist-Matrix'!G17","v":0},{"$f":"'Ist-Matrix'!G18","v":0},{"$f":"'Ist-Matrix'!G19","v":0},{"$f":"'Ist-Matrix'!G20","v":0},{"$f":"'Ist-Matrix'!G21","v":0},{"$f":"'Ist-Matrix'!G22","v":0},{"$f":"'Ist-Matrix'!G23","v":0},{"$f":"'Ist-Matrix'!G24","v":0},{"$f":"'Ist-Matrix'!G25","v":0},{"$f":"'Ist-Matrix'!G26","v":0},{"$f":"'Ist-Matrix'!G27","v":0},{"$f":"'Ist-Matrix'!G28","v":0},{"$f":"'Ist-Matrix'!G29","v":0},{"$f":"'Ist-Matrix'!G30","v":0},{"$f":"'Ist-Matrix'!G31","v":0}]

{"sheet":"Urmatrix","index":7,"n_rows":150,"n_cols":59,"rows_kept":150,"cut":false,"hidden":true,"merged":[[74,0,138,0],[145,5,147,5],[139,1,141,1],[139,2,141,2],[139,3,141,3],[139,4,141,4],[139,5,141,5],[145,1,147,1],[145,2,147,2],[145,3,147,3],[145,4,147,4],[142,5,144,5],[129,1,131,1],[129,2,131,2],[129,3,131,3],[129,4,131,4],[129,5,131,5],[132,1,135,1],[132,2,135,2],[132,3,135,3],[132,4,135,4],[132,5,135,5],[136,1,138,1],[136,2,138,2],[136,3,138,3],[136,4,138,4],[136,5,138,5],[121,4,122,4],[121,5,122,5],[123,1,125,1],[123,2,125,2],[123,3,125,3],[123,4,125,4],[123,5,125,5],[126,1,128,1],[126,2,128,2],[126,3,128,3],[126,4,128,4],[126,5,128,5],[121,1,122,1],[121,2,122,2],[121,3,122,3],[103,5,105,5],[106,1,117,1],[106,2,117,2],[106,3,117,3],[106,4,117,4],[106,5,117,5],[118,1,120,1],[118,2,120,2],[118,3,120,3],[118,4,120,4],[118,5,120,5],[103,1,105,1],[103,2,105,2],[103,3,105,3],[103,4,105,4],[95,1,98,1],[95,2,98,2],[95,3,98,3],[95,4,98,4],[95,5,98,5],[99,1,102,1],[99,2,102,2],[99,3,102,3],[99,4,102,4],[99,5,102,5],[70,1,73,1],[70,2,73,2],[70,3,73,3],[70,4,73,4],[70,5,73,5],[74,1,76,1],[74,2,76,2],[74,3,76,3],[74,4,76,4],[86,1,88,1],[86,2,88,2],[86,3,88,3],[86,4,88,4],[86,5,88,5],[89,1,94,1],[89,2,94,2],[89,3,94,3],[89,4,94,4],[89,5,94,5],[81,1,85,1],[81,2,85,2],[81,3,85,3],[81,4,85,4],[74,5,76,5],[77,1,80,1],[77,2,80,2],[77,3,80,3],[77,4,80,4],[77,5,80,5],[81,5,85,5],[67,5,69,5],[59,1,62,1],[59,2,62,2],[59,3,62,3],[59,4,62,4],[59,5,62,5],[63,1,66,1],[63,2,66,2],[63,3,66,3],[63,4,66,4],[63,5,66,5],[67,1,69,1],[67,2,69,2],[67,3,69,3],[67,4,69,4],[53,1,55,1],[53,2,55,2],[53,3,55,3],[53,4,55,4],[53,5,55,5],[56,1,58,1],[56,2,58,2],[56,3,58,3],[56,4,58,4],[56,5,58,5],[36,2,38,2],[45,1,48,1],[45,2,48,2],[45,3,48,3],[45,4,48,4],[45,5,48,5],[49,1,52,1],[49,2,52,2],[49,3,52,3],[49,4,52,4],[49,5,52,5],[39,1,41,1],[39,2,41,2],[39,3,41,3],[39,4,41,4],[39,5,41,5],[42,1,44,1],[42,2,44,2],[42,3,44,3],[42,4,44,4],[42,5,44,5],[0,8,0,58],[1,55,1,58],[2,55,2,58],[4,55,4,58],[8,55,8,58],[6,55,6,58],[1,45,1,47],[8,16,8,21],[8,24,8,27],[8,28,8,29],[8,30,8,34],[8,35,8,40],[8,41,8,44],[8,45,8,47],[1,16,1,21],[1,22,1,23],[1,24,1,27],[1,28,1,29],[1,30,1,34],[1,35,1,40],[1,41,1,44],[6,28,6,29],[6,30,6,34],[6,35,6,40],[6,41,6,44],[2,16,2,21],[2,22,2,23],[4,16,4,21],[4,22,4,23],[4,24,4,27],[2,11,2,12],[1,48,1,54],[2,48,2,54],[4,48,4,54],[5,48,5,54],[6,45,6,47],[4,11,4,12],[8,48,8,54],[8,22,8,23],[6,48,6,54],[8,13,8,15],[4,28,4,29],[4,30,4,34],[4,35,4,40],[2,28,2,29],[2,30,2,34],[2,35,2,40],[2,41,2,44],[2,45,2,47],[4,41,4,44],[4,45,4,47],[6,22,6,23],[3,22,3,23],[2,24,2,27],[6,13,6,15],[6,16,6,21],[6,24,6,27],[5,30,5,34],[5,35,5,40],[5,41,5,44],[5,45,5,47],[8,11,8,12],[142,1,144,1],[142,2,144,2],[142,3,144,3],[142,4,144,4],[1,8,1,10],[1,13,1,15],[2,8,2,10],[2,13,2,15],[4,8,4,10],[4,13,4,15],[6,8,6,10],[6,11,6,12],[8,8,8,10],[33,1,35,1],[33,2,35,2],[33,3,35,3],[33,4,35,4],[33,5,35,5],[36,1,38,1],[1,11,1,12],[36,3,38,3],[36,4,38,4],[17,8,17,10],[11,24,11,27],[11,30,11,34],[11,35,11,40],[11,41,11,44],[11,45,11,47],[11,55,11,58],[10,8,10,10],[139,0,147,0],[33,0,73,0],[31,16,31,21],[19,22,19,23],[20,22,20,23],[21,22,21,23],[22,22,22,23],[23,22,23,23],[24,22,24,23],[25,22,25,23],[26,22,26,23],[27,22,27,23],[28,22,28,23],[29,22,29,23],[29,16,29,21],[30,16,30,21],[36,5,38,5],[15,24,15,27],[15,30,15,34],[15,35,15,40],[15,41,15,44],[15,45,15,47],[15,55,15,58],[14,8,14,10],[12,35,12,40],[12,41,12,44],[12,45,12,47],[12,55,12,58],[13,8,13,10],[13,13,13,15],[13,16,13,21],[13,22,13,23],[13,24,13,27],[13,30,13,34],[13,35,13,40],[13,41,13,44],[13,45,13,47],[13,55,13,58],[12,8,12,10],[18,8,18,10],[9,22,9,23],[10,22,10,23],[12,22,12,23],[14,22,14,23],[16,22,16,23],[17,22,17,23],[18,22,18,23],[16,8,16,10],[15,8,15,10],[15,13,15,15],[15,16,15,21],[15,22,15,23],[9,13,9,15],[10,13,10,15],[12,13,12,15],[14,13,14,15],[16,13,16,15],[17,13,17,15],[18,13,18,15],[11,8,11,10],[11,13,11,15],[11,16,11,21],[11,22,11,23],[29,8,29,10],[30,8,30,10],[31,8,31,10],[19,8,19,10],[20,8,20,10],[21,8,21,10],[22,8,22,10],[23,8,23,10],[24,8,24,10],[25,8,25,10],[26,8,26,10],[27,8,27,10],[21,13,21,15],[22,13,22,15],[23,13,23,15],[24,13,24,15],[25,13,25,15],[26,13,26,15],[27,13,27,15],[28,13,28,15],[28,8,28,10],[19,13,19,15],[20,13,20,15],[30,24,30,27],[31,24,31,27],[29,13,29,15],[30,13,30,15],[31,13,31,15],[9,16,9,21],[10,16,10,21],[12,16,12,21],[14,16,14,21],[16,16,16,21],[17,16,17,21],[18,16,18,21],[19,16,19,21],[20,16,20,21],[21,16,21,21],[22,16,22,21],[23,16,23,21],[24,16,24,21],[25,16,25,21],[26,16,26,21],[27,16,27,21],[28,16,28,21],[23,30,23,34],[24,30,24,34],[25,30,25,34],[26,30,26,34],[30,22,30,23],[31,22,31,23],[9,24,9,27],[10,24,10,27],[12,24,12,27],[14,24,14,27],[16,24,16,27],[17,24,17,27],[18,24,18,27],[19,24,19,27],[20,24,20,27],[21,24,21,27],[22,24,22,27],[23,24,23,27],[24,24,24,27],[25,24,25,27],[26,24,26,27],[27,24,27,27],[28,24,28,27],[29,24,29,27],[27,30,27,34],[28,30,28,34],[29,30,29,34],[30,30,30,34],[31,30,31,34],[9,35,9,40],[17,35,17,40],[18,35,18,40],[19,35,19,40],[20,35,20,40],[21,35,21,40],[22,35,22,40],[23,35,23,40],[24,35,24,40],[25,35,25,40],[26,35,26,40],[27,35,27,40],[28,35,28,40],[29,35,29,40],[30,35,30,40],[31,35,31,40],[18,30,18,34],[19,30,19,34],[20,30,20,34],[24,41,24,44],[25,41,25,44],[26,41,26,44],[27,41,27,44],[28,41,28,44],[29,41,29,44],[30,41,30,44],[31,41,31,44],[9,41,9,44],[17,41,17,44],[18,41,18,44],[19,41,19,44],[20,41,20,44],[21,41,21,44],[22,41,22,44],[23,41,23,44],[16,41,16,44],[14,41,14,44],[10,41,10,44],[25,45,25,47],[26,45,26,47],[27,45,27,47],[28,45,28,47],[29,45,29,47],[30,45,30,47],[31,45,31,47],[17,45,17,47],[18,45,18,47],[19,45,19,47],[20,45,20,47],[21,45,21,47],[22,45,22,47],[23,45,23,47],[24,45,24,47],[23,55,23,58],[24,55,24,58],[25,55,25,58],[26,55,26,58],[27,55,27,58],[28,55,28,58],[29,55,29,58],[30,55,30,58],[31,55,31,58],[18,55,18,58],[19,55,19,58],[20,55,20,58],[21,55,21,58],[22,55,22,58],[21,30,21,34],[22,30,22,34],[16,35,16,40],[16,45,16,47],[16,55,16,58],[10,30,10,34],[12,30,12,34],[14,30,14,34],[16,30,16,34],[17,30,17,34],[14,35,14,40],[14,45,14,47],[14,55,14,58],[10,35,10,40],[17,55,17,58],[10,45,10,47],[10,55,10,58],[5,55,5,58],[9,45,9,47],[9,55,9,58],[3,8,3,10],[3,11,3,12],[3,13,3,15],[3,16,3,21],[3,24,3,27],[3,28,3,29],[3,30,3,34],[3,35,3,40],[3,41,3,44],[3,45,3,47],[3,48,3,54],[3,55,3,58],[5,8,5,10],[5,11,5,12],[5,13,5,15],[5,16,5,21],[5,22,5,23],[5,24,5,27],[5,28,5,29],[9,30,9,34],[9,8,9,10]]}
[null,null,null,null,null,null,null,null,"Anlaufmanagementdimensionen"]
[null,null,null,null,null,null,null,null,"Schürmeyer",null,null,"Müller",null,"Steiner",null,null,"Stiller",null,null,null,null,null,"Nowacki",null,"Janßen",null,null,null,"Maue",null,"Kujas",null,null,null,null,"Buchholz",null,null,null,null,null,"Basse",null,null,null,"Müller",null,null,"Bußwolder",null,null,null,null,null,null,"Stiller"]
[null,null,null,null,null,null,null,null,"Tätigkeitsprofil des Managementsystems",null,null,"Modellbildung",null,"Managementebene",null,null,"Anlaufmanagement in der primären Organisationsstruktur",null,null,null,null,null,"Anlaufmanagement-Staffing",null,"Sekundärorganisation des Anlaufmanagements",null,null,null,"Auslagerung des Anlaufmanagements als Schlüsselkompetenz",null,"Leitungskomeptenzen des Anlaufmanagements",null,null,null,null,"Handlungsrahmen/ Interdisziplinarität",null,null,null,null,null,"Kontrollobjekte",null,null,null,"Managementumfang",null,null,"Qualifizierungsobjekte",null,null,null,null,null,null,"Anlaufstrategien zur Integration von Varianten"]
[null,null,null,null,null,null,null,null,"Beschreibung",null,null,"Beschreibung",null,"Beschreibung",null,null,"Beschreibung",null,null,null,null,null,"Beschreibung",null,"Beschreibung",null,null,null,"Beschreibung",null,"Beschreibung",null,null,null,null,"Beschreibung",null,null,null,null,null,"Beschreibung",null,null,null,"Beschreibung",null,null,"Beschreibung",null,null,null,null,null,null,"Beschreibung"]
[null,null,null,null,null,null,null,"Kommentar/ Beschreibung","Bei der Betrachtung von Magementsystemen ist zwischen grunsätzlich unterschiedlichen Arten von Tätigkeitsprofilen zu unterscheiden. Übt das Managementsystem vornehmlich zukunftsbezogene Tätigkeiten aus, so kann von einem planenden Tätigkeitsprofil gesprochen werden. Planende Tätigkeiten im Anlaufmanagement umfassen beispielsweise das Aufstellen Personal-, Maschinen-, Bedarfs- oder Investitionsplänen. Jene Aufgaben, die sich auf den Erfüllungsgrad der Pläne oder bestimmter Zielvorgaben konzentrieren, können zu den \"Kontrollierenden Aufgaben\" zusammengefasst werden. Dabei können alle zuvor aufgestellten Pläne hinsichtlich ihrer Einhaltung, alle Ziele hinsichtlich ihrer Erfüllung und alle Parameter hinsichtlich ihrer Akzeptabilität kontrolliert werden. Jene Handlungen, die durch das Auftreten eines unvorhergesehenen Ereignisses (\"Störung\") hervorgerufen werden und auf die Reduzierung von negativen Auswirkungen abzielen, werden zu den \"Reaktiven Maßnahmen\" zusammengefasst.",null,null,"Modelle lassen sich als Abbildung oder Repräsentation eines bestimmten Originals verstehen. Geht man davon aus, dass ein Original ein Objekt der Realität ist, stellt ein Modell folglich die Abbildung eines Realitätsausschnitts dar. Weil im Sinne einer systemtheoretischen Anwendung der Modellierung grundsätzlich von einem komplexen System auszugehen ist, lassen sich die Elemente und Relationen des Systems, sowie unterschiedliche, im Zeitablauf dynamische Zustände kaum beschreiben und analysieren. Um jedoch Schlussfolgerungen über das Systemverhalten des realen Objektes zu ermöglichen oder kontrollierend und bei Bedarf korrigierend einwirken zu können, ist ein vereinfachendes Modell notwendig. In der Realität finden Modelle auch zunehmend in simulativen Bereichen, bespw. als Prognosemodelle.  Die zugrundeliegeden Modelle müssen hierzu \"ausführbar\" sein, d.h. sie müssen Daten verarbeiten können.",null,"Nach dem Drei-Ebenen-Modell sollte das Anlaufmanagement Erfolgskriterien auf drei logischen Ebenen erfüllen: operatives Management (\"Effizienz\"), strategisches Management (\"Effektivität\") und normatives Management (\"Nachhaltigkeit\"). Unabhängig von der Entscheidung der organisationalen Ausgestaltung des Anlaufmanagements, finden einzelne Entscheidungen im Rahmen des Anlaufmanagements auf verschiedenen Managementebenen statt und addressieren folgerichtig auch unterschiedliche Akteure im Unternehmen. Die Anlaufplanung und -strategie sowie das Projektmanagement, die Projektkultur und -organisation bilden dabei den Rahmen für die einzelnen Bausteine des Anlaufmanagement. Das Prinzip der Rekursion innerhalb des Drei-Ebenen-Modells verdeutlicht, dass alle drei logischen Managementebenen (operative, strategische und normative) jeweils auf jeder der organisatorischen Rekursionsebenen (übergeordnete Ebene, Projekt, Teilprojekte) ausgeprägt sein sollten. Dies führt dazu, dass beispielsweise auch für die Unterprojekte, Ziele des strategischen und Prinzipien des normativen Managements gelten.\nDas Drei-Ebenen-Modell besitzt für die Projektmanager einen doppelten Nutzen. Erstens hilft es, komplexe Managementprobleme durch deren Strukturierung und durch die Konzentration auf die dargelegten Maßstäbe zu bewältigen. Zweitens liefert es ein Analyseschema für mögliche Konflikte, die aus dem Widerspruch oder Wettbewerb zwischen den verschiedenen logischen Ebenen entstehen.\n ",null,null,"Es gibt grundsätzlich verschiedene Möglichkeiten das Anlaufmanagement in der Organisation des Unternehmens zu verankern. Das Anlaufmanagement kann als eigene Funktion als \"Organisationseinheit des Konzerns\" arbeiten. Das Anlaufmanagement als Organisationseinheit des Werks führt die Anläufe in einem Werk. Wird das Anlaufmanagement nicht in der Primärorganisation eines Unternehmens verankert ist es denkbar, kann der Anlaufmanager als eigene Rolle im Entwicklungsprojekt vorgesehen werden oder die Aufgaben in die Verantwortung des Projektleiters als Teile der Projektorganisation fallen. Dabei ist zu unterscheiden, ob die Rolle/ die Aufgaben des Anlaufmanagements durch Mitarbeiter der Entwicklungs oder die Serienorganisation übernommen werden. ",null,null,null,null,null,"In den entstehenden Problemsituationen während des Produktionsanlaufes kann üblicherweise nur auf eine dünne Personaldecke zurückgegriffen werden, die die Bildung von Task Forces nicht zulässt. Oftmals ist die Organisation funktional strukturiert, wodurch die Nachteile der Bereichsegoismen durch die sequenzielle Logik der einzelnen Bearbeiter sich negativ auswirken. Die Personalselektion und -qualifizierung bei der Auswahl der Teammitglieder soll zum einen aufgrund der fachlichen Anforderungen geschehen und zum anderen die Fähigkeit der Personen in einem Team zu arbeiten einbeziehen. Im Rahmen der Zielsetzung müssen zum einen Gruppenziele gesetzt werden, zum anderen muss sichergestellt werden, dass die Gruppenziele nicht mit den individuellen Zielen der Teammitglieder in Widerspruch stehen. \nAufgabe der Planung des Personaleinsatzes im Produktionsanlaufs ist die Verteilung der gegenwärtigen Mitarbeiter auf die verschiedenen Arbeitsplätze unter Berücksichtigung der quantitativen, zeitlichen und örtlichen Erfordernisse des Anlaufs.",null,"\"Sekundärorganisationen sind hierarchieübergreifende/-ergänzende, zeitlich\nmeist befristete Organisationseinheiten zur Durchführung neuartiger oder einmaliger\nAktivitäten sowie zur Verbesserung bei dauerhaften Aufgaben. In der Praxis\nhäufig vorkommende Formen von Sekundärorganisationen sind das Stabsprinzip,\ndas Matrixprinzip, das Ausgliederungsprinzip und das Arbeitsgruppenprinzip.\" Schuh 2008 S. 56",null,null,null,"Für eine mögliche Auslagerung des Anlaufmanagements gibt es im wesentlichen zwei Gründe. Zum einen erfordern insbesondere komplexe Produktionsanläufe einen hohen Personaleinsatz. Die personellen Ressourcen sind vielen Fällen nicht vorhanden. Gerade wenn eine Organisation mehrere Produktionsanläufe parallel durchführt, reicht das vorhandene Personal zur Abdeckung der notwendigen Managementaufgaben vielfach nicht aus. Ein weiterer Grund für eine Auslagerungsentscheidung ist, dass die für den Anlauf notwendige Expertise in der Organisation nicht vorhanden ist. Es gibt bereits einige Unternehmen, die sich auf die Unterstützung und Beratung bei Produktionsanläufen spezialisiert hat.",null,"Ein Controlling als Teil des Anlaufmanagements basiert im Wesentlichen auf den Rollenkonzepten und Kompetenzzuordnungen wie sie in den angrenzenden Phasen (F&E, Serienproduktion) zu finden sind. Der jeweilige Gegenstand, auf den sich das Controlling bezieht, dient hier als Unterscheidungskriterium. Neben der reinen Ergebniskontrolle kann das Verfahren, etwa der Produktionsprozess, als Gegenstand dienen. Weitere Arten der Kompetenz bietet eine Unterscheidung zwischen der Kontrolle und Richtlinien. Die Anlauforganisation kann für involvierte Unternehmensbereiche Richtlinien festlegen oder deren Ausführungen kontrollieren. Darüber hinausgehend kann eine Fremdentscheidungs-/ oder Weisungkompetenz vorliegen. Die Anlauforganisation hat dabei das Recht für andere, in den Anlauf involvierte Unternehmensbereiche, anlaufrelevante Entscheidungen zu treffen.",null,null,null,null,"Das Anlaufmanagment geht mit einem hohen Maß an Komplexität einher, die aus der zunehmenden Dynamik, der Vielzahl von Interdependenzen und der Interdisziplinarität der beteiligten Funktionalbereiche ergibt. Die Komplexität als Folge der Interdisziplinarität resultiert aus den originär getrennten Funktionalbereichen, die gleichzeitig in das Anlaufmanagement involviert sind z.B. Produktion, Produktentwicklung, Logistik, Einkauf und Qualitätsmanagement. Darüber hinaus müssen sowohl unternehmensinterne als auch unternehmensübergreifende  Bereiche interdisziplinär und vernetzt zusammen arbeiten. ",null,null,null,null,null,"Im Anlauf können gemäß des Zieldreiecks aus Zeit, Kosten und Qualität unterschiedliche Kontrollobjekte hinsichtlich der jeweiligen Priorisierung eines dieser Ziele herangezogen werden.\nDie Kontrolle der Termine betrifft vor allem die Einhaltung von Meilensteinen und das Erreichen der Kammlinie zum definierten Zeitpunkt. \nDas Kontrollobjekt Kosten gliedert sich in die direkten und indirekten Anlaufkosten.\nNeben der direkten Prüfung der Produktqualität kann auf diese auch durch Kontrolle der Fertigungsprozesse zurückgeschlossen werden. Zudem betrifft die Prozessqualität auch organisatorische und nicht wertschöpfende Prozesse\n",null,null,null,"Es gibt verschiedene Möglichkeiten den Managementumfang des Anlaufs zu gestalten. Grundsätzlich lassen sich die Arten des Eingriffs in regelmäßige und ereignisbasierte Arten unterscheiden. Bei den regelmäßigen Eingriffen werden beispielsweise tägliche oder wöchentliche Statusberichte zum aktuellen Geschehen präsentiert. Für das ereignisbasierte Management lässt sich zwischen erwarteten und unerwarteten Ereignissen unterscheiden. Zu den erwarteten Ereignissen zählt beispielsweise das Erreichen von vorher definierten Meilensteinen. Zum Managementumfang bei unerwarteten Ereignissen zählt die Reaktion auf ungeplante Änderungen – wie beispielsweise Prozessinstabilitäten.",null,null,"Um das Erreichen eines stabilen Anlaufs zu gewährleisten, ist die Qualifizierung der einzelnen Elemente eines Anlaufprojektes notwendig. Dies umfasst insbesondere Produkte, Prozesse, Lieferanten und Mitarbeiter. Ermöglicht wird dies zum Teil über die Dokumentation vergangener Anläufe. Neben der Anlaufplanung ist das Reifegradcontrolling ein Mittel zur Validierung. In frühen Phasen des Anlaufs steht das Produkt im Mittelpunkt (z.B. durch Prototypen), während in späteren Phasen der Produktionsprozess relevanter wird. Hier können Leistungstest unter Serienbedingungen Aussagen über die Leistungsfähigkeit generieren. Da Zulieferer ebenfalls auf den Anlauf einwirken, sind sie frühzeitig zu selektieren. Aus der Kombination der Eigenschaften des Anlaufobjektes und denen des Zulieferers ist die Anlaufkritizität zu bestimmen. Risikoanalysen und Prozessaudits unterstützen das Vorgehen. Mitarbeiter haben zu jedem Zeitpunkt entscheidenden Einfluss auf den Erfolg des Projekts. Gerade die frühzeitige Mitarbeiterqualifikation kann hier, verbunden mit Personalkontinuität, unterstützend wirken. Dieser Aspekt hat große Schnittmengen mit einer adäquaten Dokumentation. Durch systematische Erfassung und Aufbereitung der gesammelten Erfahrungen, können die Informationsverfügbarkeit verbessert und mögliche Handlungsalternativen aufgezeigt werden.",null,null,null,null,null,null,"Mit den Anlaufstrategien werden situationsabhängige Strategien zur Bildung von Reihenfolgen in Produktanläufen mehrere Varianten beschrieben. Slow-Motion: Der komplette Produktmix wird langsam parallel hochgefahren, um den Lernfortschritt\nzu unterstützen. Erst zum Ende wird die Ausbringung deutlich erhöht.\nVolume First: Eine Produktvariante wird schnell hochgefahren, um unmittelbar nach Anlaufbeginn\ndie geplante Produktionsrate zu erreichen.\nDedication: Der komplette Produktmix wird parallel hochgefahren. Nach Deckung des anfänglich\nerhöhten Lernbedarfs der Mitarbeiter findet ein schneller Hochlauf statt.\nStep-by-step: Der Produktmix wird sequenziell hochgefahren, um produktspezifische Anlagenstörungen\nvoneinander zu entkoppeln und Fehlerursachen gezielt zu beheben."]
[null,null,null,null,null,null,null,null,"Dissertationen im GRK",null,null,"Dissertationen im GRK",null,"Dissertationen im GRK",null,null,"Dissertationen im GRK",null,null,null,null,null,"Dissertationen im GRK",null,"Dissertationen im GRK",null,null,null,"Dissertationen im GRK",null,"Dissertationen im GRK",null,null,null,null,"Dissertationen im GRK",null,null,null,null,null,"Dissertationen im GRK",null,null,null,"Dissertationen im GRK",null,null,"Dissertationen im GRK",null,null,null,null,null,null,"Dissertationen im GRK"]
[null,null,null,null,null,null,null,"Dissertationen des GRK","Disseration Sebastian Schmitt:\nAufgabenmodell zur qualitätsorientierten Planung, Evaluierung und Regelung des Anlaufmanagements\n\nDissertation Patrick Beaujean: aufbauorganisatorisches Gestaltungsmodell für das reaktive Qualitätsmanagement\n\nDissertation Maik Schürmeyer (nicht veröffentlicht):\nKybernetische Produktionsprogrammplanung bei anlaufintensiver Programmfertigung",null,null,"Dissertation Bastian Nau: Anlauforietierte Technologieplanung zur Auswahl von Fertigungstechnologien\nDisseration Steffen Buchholz (nicht veröffentlicht): Substitutionsrisiko von Fertigungssystemen\nDisseration Tim Renner: Theoretischer Ansatz zur quantitativen Simulation des Produktionsanlaufs\nDissertation Sebastian Stiller (nicht veröffentlicht): Systemtheoretische Modellierung von Realisierungssystemen zur Simulation des Systemverhaltens - Modellierung des Fallbeispiels Produktionsanlauf mit Simulation einer Anlaufkurve\nDissertation Isabel Basse (nicht veröffentlicht): Systemtheoretische Modellierung von Qualitätsprüfungen im Anlauf\nDissertation Martin Göbel: Inbetriebnahme von Industrierobotern durch inituitive, herstellerunabhängige Spezifikation von Roboterprogrammen\nDissertation Simon Müller (nicht veröffentlicht): Verbesserte Planung und Inbetriebnahme von automatisierten Produktionsprozessen durch Viable-MES-Modelle\nDissertation Christoph Nowacki (nicht veröffentlicht): Identifikation des optimalen Grades aus Standardisierung und Flexibilität in Technologieketten\nDissertation Thomas Gartzen, S. 107f: Wirkmodell der komplexitätsspezifischen Instabilität im Anlauf\nDissertation Andreas Maue (nicht veröffentlicht): Integration des Anlaufs in die Serienplanung bei Kleinserien\nDissertation Christian Janßen (nicht veröffentlicht): Modellierung der Inbetriebnahme des Automobils ",null,"Dissertation Esther Borowski: \nEbenen des Agilen Anlaufmanagementsystems\nDissertation Frank Steiner (nicht veröffentlicht): strategische Aspekte des Anlaufmanagments in heterogenen / unsicheren Märkten n Dissertation\nUwe Gross (S.96ff.): Die strategische Rolle des Anlaufmanagments für den Neuprodukterfolg\nDissertation Maik Schürmeyer:\nKybernetische Produktionsprogrammplanung bei anlaufintensiver Programmfertigung",null,null,"Dissertation Uwe Gross: Organisationstheortetische Aspekte zur effektiven und effizienten Reaktion auf Probleme im Produktionsanlauf\nDisseration Sebastian Schmitt:\nAufgabenmodell zur qualitätsorientierten Planung, Evaluierung und Regelung des Anlaufmanagements\nn Dissertation Andreas Maue (nicht veröffentlicht): \nIntegration des Anlaufs in die Serienplanung bei Kleinserien",null,null,null,null,null,"Dissertation Tim Renner\nDissertation Wesch: Synchronisationsmechanismen zwischen Mitarbeitern und Kommunikation in Teams",null,"Disseration Patrick Beaujean:\nn Gründe für die Schaffung von Sekundärorganisationen (S. 32 ff)\nDisseration Sebastian Schmitt:\nMöglichkeit zur Gestaltung der Sekundärorganisation",null,null,null,"keine Dissertation",null,"Dissertation Sebastian Stiller (nicht veröffentlicht): Leitungskompetenzen als Differenzierungsmerkmale des Realisierungsmanagements\nEsther Borowski: Eingriffe des Anlaufmanagements in den Anlauf",null,null,null,null,"Dissertation Isabel Basse (nicht veröffentlicht): innerbetriebliches, anlaufendes Montagesystem\nDissertation Thomas Gartzen: S. 35f: Vorstellung der Anlaufstrategien und Diskussion von Anlaufkurventypologien n Dissertation Uwe Gross: (S.15) Schnittstellen im Neuproduktentwicklungsprozess n Dissertation Uwe Gross: (S.125ff.) Mitigating Effects of Supply Chain Integration\nJerome Quick (nicht veröffentlicht): Anlaufmanagement in Supply Chains",null,null,null,null,null,"Dissertation Bastian Nau: Anlauforietierte Technologieplanung zur Auswahl von Fertigungstechnologien\nDissertation Sebastian Stiller (nicht veröffentlicht): Zielsystem zur Erfolgsmessung in der Produktrealisierung (auf Anlauf anwendbar)\nDissertation Isabel Basse (nicht veröffentlicht): Kontrolle der Produkt- und Prozessqualität\nDissertation Marc Kujas (nicht veröffentlicht): Lebenszyklusorientierte Kosten-/Nutzenanalyse von Modellwechseln langlebiger Gebrauchsgüter\nDissertation Thomas Gartzen, S. 204ff: Steuerung und Regelung der diskreten Migration n Dissertation Uwe Gross: (S.19) Ziele im Produktionsanlauf",null,null,null,"n Dissertation Uwe Gross: Organisationstheoretische Aspekte zur effektiven und effizienten Reaktion auf Probleme im Produktionsanlauf\nn Dissertation Tim Renner: Beeinflussung in den Tätigkeiten des Anlaufmanagements\n",null,null,"Dissertation Uwe Gross: \nProduct Innovation and the Factory (Bezug zur Produktqualifizierung)\nDissertation Tim Renner: \nSerienreifegrad nach Wangenheim (1998); Zielkatalog des Produktionsanlaufs (Mitarbeiter und Prozessstabilität)\nThomas Gartzen:\nMaßnahmen zur... Mitarbeiterfokussierung / Organisationsfokussierung / Netzwerkfokussierung / Prozessfokussierung / Produktfokussierung\nPeter Bußwolder (nicht veröffentlicht):\nStärkung der Entscheidungsfähigkeit von Mitarbeitern in komplexen Systemen\nJerome Quick (nicht veröffentlicht): Anlaufmanagement in Supply Chains\nCathrin Wesch-Potente (nicht veröffentlicht): Koordination von Teams im Anlauf\nDissertation Christian Janßen (nicht veröffentlicht):\nModellierung der Inbetriebnahme des Automobils \nDissertation Martin Göbel: \nInbetriebnahme von Industrierobotern durch inituitive, herstellerunabhängige Spezifikation von Roboterprogrammen\nDissertation Simon Müller (nicht veröffentlicht):\nVerbesserte Planung und Inbetriebnahme von automatisierten Produktionsprozessen durch Viable-MES-Modelle",null,null,null,null,null,null,"n Dissertation Thomas Gartzen, S. 35f: Vorstellung der Anlaufstrategien und Diskussion von Anlaufkurventypologien \nn Dissertation Christoph Nowacki (nicht veröffentlicht):\nReduktion der varianteninduziierten Komplexität in einer integrierten Produkt- und Prozessentwicklung n Dissertation Frank Steiner (nicht veröffentlicht): Planung und Umsetzung eines variantenreichen Produktlösungsraumes für heterogene Märkte\n"]
[]
[null,null,null,null,null,null,null,"Methoden und Quellen für die weitere Bearbeitung","Scholz-Reiter, Bernd; Krohne, Farian; Ebert, Konrad; Halmich, Julian (2010) Reaktionsstrategiemodell für ein effizientes Anlaufmanagement\n\nPfohl, Hans-Christian; Stölzle, Wolfgang (1997) Planung und Kontrolle - Konzeption, Gestaltung, Implementierung",null,null,"Stachowiak 1973, S. 129; Heinen 1985, S. 19; Adam 1996, S. 60f.; Bossel 1994, S. 27; Dörner 1984, S. 337; Strina n.v., S. 34",null,"\nBleicher, K. (2001): Das Konzept integriertes Management. 6. Auflage. Frankfurt, New York: Campus Verlag.\nSchwaninger, M. (1994): Managementsysteme. St. Galler Management-Konzept, Band 4. Frankfurt/New York: Campus.\nSchwaninger, M., Körner, M. (2001): Systemisches Projektmanagement: Ein Instrumentarium\nfür komplexe Veränderungs- und Entwicklungsprojekte. Diskussionspapier. No. 43. September. St. Gallen.\n",null,null,"Arbeits- und Aufgabenanalyse und -Synthese zur Organisationsgestaltung (Vahs S. 51ff; Steinmann/ Schreyögg 2005, S. 443; Kosiol 1976, S. 49ff, Bleicher 1991, S. 49)",null,null,null,null,null,"ENDER, T. (2009). Prognose von Personalbedarfen im Produktionsanlauf: unter Berücksichtigung dynamischer Planungsgrössen. Aachen, Shaker. \nRottinger, S. (2005). Mehrphasige Personalentwicklungsplanung für Fertigungssysteme auf Basis des Technologiekalender-Konzeptes. Karlsruhe: Univ.-Verl. \nSchmelzer, Hermann J. 1992. Organisation und Controlling von Produktentwicklungen: Praxis des wettbewerbsorientierten Entwicklungsmanagements. Stuttgart: Schäffer-Poeschel. ",null," Schuh 2008; Schmidt, G. (Organisation), 2002, S. 7 1.",null,null,null,null,null,"Definition von Rollen und Kompetenzarten (Vahs 2007, S. 65ff)\nInformationsmanagement (Lutz/Lehner, 2008, S. 174ff.)",null,null,null,null,"Schmitt 2010 Das Aachner Modell zum interdisziplinären Anlaufmanagment, wt Werktstattstechnik online, S.317-322;                      Schuh 2008 Anlaufmanagement in der Automobilindustrie erfolgreich umsetzen,  Springer, S.55 ff.                                                                                                      Schuh 2005 Anlaufmanagement: Kosten senken - Anlaufzeit verkürzen - Qualität sichern. wt Werkstattstechnik online, S.405-409",null,null,null,null,null,null,null,null,null,"Moderation des Anlaufmanagements (Pufall/Frasso/de Kok, 2007, S.21ff.; Ender, 2009, S.36)",null,null,"Schuh, Kampker, Franzkoch (2005), S. 405-409; Wiendahl et al. (2002), S. 26-32; Schulte: Logistik (2013), S. 287-292; In: Schuh (Hrsg.): Anlaufmanagement in der Automobilindustrie erfolgreich umsetzen (2008): Franzkoch, Gottschalk, S. 55-64; Druml, Blechinger, S. 121-129; Kirst, S. 93-105.",null,null,null,null,null,null,"Schuh, G. et al. (Optimised production ramp-up), 2004, S. 8"]
[null,null,null,null,null,null,{"$f":"COUNT(I10:BG10)","v":2},"Patrick Beaujean",1,null,null,null,null,null,null,null,null,null,null,null,null,null,null,null,null,null,null,null,null,null,null,null,null,null,null,null,null,null,null,null,null,null,null,null,null,null,null,null,null,1]
[null,null,null,null,null,null,1,"Peter Burggräf",null,null,null,null,null,null,null,null,null,null,null,null,null,null,null,null,1]
[null,null,null,null,null,null,2,"Chatrin Wesch-Potente",null,null,null,null,null,null,null,null,null,null,null,null,null,null,1,null,null,null,null,null,null,null,null,null,null,null,null,null,null,null,null,null,null,null,null,null,null,null,null,null,null,null,null,null,null,null,1]
[null,null,null,null,null,null,2,"Bastian Nau",null,null,null,1,null,null,null,null,null,null,null,null,null,null,null,null,null,null,null,null,null,null,null,null,null,null,null,null,null,null,null,null,null,1]
[null,null,null,null,null,null,2,"Martin Göbel",null,null,null,1,null,null,null,null,null,null,null,null,null,null,null,null,null,null,null,null,null,null,null,null,null,null,null,null,null,null,null,null,null,null,null,null,null,null,null,null,null,null,null,1]
[null,null,null,null,null,null,5,"Uwe Groß",null,null,null,null,null,1,null,null,1,null,null,null,null,null,null,null,null,null,null,null,null,null,null,null,null,null,null,1,null,null,null,null,null,null,null,null,null,1,null,null,null,null,1]
[null,null,null,null,null,null,10,"Thomas Gartzen",null,null,null,null,null,null,null,null,null,null,null,null,null,null,null,null,null,null,null,null,null,null,null,null,null,null,null,1,null,null,null,null,null,1,null,null,null,null,null,null,1,1,1,1,1,1,1,1]
[null,null,null,null,null,null,2,"Esther Borowski",null,null,null,null,null,1,null,null,null,null,null,null,null,null,null,null,null,null,null,null,null,null,1]
[null,null,null,null,null,null,5,"Tim Renner",null,null,null,null,1,null,null,null,null,null,null,null,null,null,1,null,null,null,null,null,null,null,null,null,null,null,null,null,null,null,null,null,null,null,null,null,null,1,null,null,null,null,null,1,null,null,1]
[null,null,null,null,null,null,3,"Sebastian Schmitt",1,null,null,null,null,null,null,null,1,null,null,null,null,null,null,null,1]
[null,null,null,null,null,null,2,"Jerome Quick",null,null,null,null,null,null,null,null,null,null,null,null,null,null,null,null,null,null,null,null,null,null,null,null,null,null,null,1,null,null,null,null,null,null,null,null,null,null,null,null,null,null,null,null,1]
[null,null,null,null,null,null,2,"Isabel Basse",null,null,null,1,null,null,null,null,null,null,null,null,null,null,null,null,null,null,null,null,null,null,null,null,null,null,null,null,null,null,null,null,null,1]
[null,null,null,null,null,null,2,"Christoph Nowacki",null,null,null,1,null,null,null,null,null,null,null,null,null,null,null,null,null,null,null,null,null,null,null,null,null,null,null,null,null,null,null,null,null,null,null,null,null,null,null,null,null,null,null,null,null,null,null,1]
[null,null,null,null,null,null,1,"Steffen Buchholz",null,null,null,1]
[null,null,null,null,null,null,2,"Simon Müller",null,null,null,1,null,null,null,null,null,null,null,null,null,null,null,null,null,null,null,null,null,null,null,null,null,null,null,null,null,null,null,null,null,null,null,null,null,null,null,null,null,null,null,1]
[null,null,null,null,null,null,1,"Frank Steiner",null,null,null,null,null,1]
[null,null,null,null,null,null,1,"Sebastian Reuter",null,null,null,1]
[null,null,null,null,null,null,1,"Marc Kujas",null,null,null,null,null,null,null,null,null,null,null,null,null,null,null,null,null,null,null,null,null,null,null,null,null,null,null,null,null,null,null,null,null,1]
[null,null,null,null,null,null,4,"Sebastian Stiller",null,null,null,null,1,null,null,null,null,null,null,null,null,null,null,null,null,null,null,null,null,null,1,null,null,null,null,null,null,null,null,null,null,1,null,null,null,null,null,null,null,1]
[null,null,null,null,null,null,2,"Christian Janßen",null,null,null,1,null,null,null,null,null,null,null,null,null,null,null,null,null,null,null,null,null,null,null,null,null,null,null,null,null,null,null,null,null,null,null,null,null,null,null,null,null,null,null,1]
[null,null,null,null,null,null,1,"Andreas Maue",null,null,null,1]
[null,null,null,null,null,null,2,"Maik Schürmeyer",1,null,null,null,null,1]
[null,null,null,null,null,null,1,"Peter Bußwolder",null,null,null,null,null,null,null,null,null,null,null,null,null,null,null,null,null,null,null,null,null,null,null,null,null,null,null,null,null,null,null,null,null,null,null,null,null,null,null,null,null,null,null,null,null,null,1]
[null,"Verantwortlich","Kommentar/ Beschreibung","Quellen für die weitere Bearbeitung","Dissertationen des GRK","Merkmal Unternehmens-, Anlauf-, und Anlaufzieldimension","Ausprägungen","kein Anlaufmangement geeignet","Planen","Kontrollieren","Eskalieren/ Reagieren","Modellieren","Simulieren","normatives Management","strategisches Management","taktisch/ operatives Management","Stabsstelle des Konzerns","Stabsstelle des Werks","spezialisierte/ fachspezifischer Anlaufmanager","Teil der Projektorganistion des Entwicklungsprojekts"," untersteht der Entwicklung","untersteht der Serie","Aufgaben werden alleine wahrgenommen","Aufgaben werden im Team wahrgenommen","prozessorientiert strukturiert","nach den Objekten/ Kunden (Produkte, Prozesse) strukturiert","regional strukturiert","projektindividuell strukturiert","rein intern","mit Hilfe von externen Experten/ Beratern","Fremdentscheidungs-/ Weisungskompetenz","Richtlinienkompetenz","Kontrollkompetenz","verfahrenskontrolle","Ergebniskonrolle","abteilungsintern","abteilungsübergreifend","werksintern","werksübergreifend","konzernweit","Lieferkette","Termine","Kosten","Produktqualität","Prozessqualität","kontinuierlich","ereignisorientiert - geplant","ereignisorientiert - ungeplant","genaue Projekt-dokumentation","Definition und Entwicklung  von Best Practices","Maßnahmen mit Produktfokussierung","Maßnahmen mit Prozessfokussierung","Maßnahmen mit Netzwerkfokussierung","Maßnahmen mit Organisationsfokussierung","Maßnahmen mit Mitarbeiterfokussierung","Slow Motion","First Volume","Step-by-Step","Dedication"]
["Unternehmensdimensionen",null,null,null,null,"Komplexität der Produktarchitektur","gering",null,1,1,null,1,1,null,null,1,1,1,1,9,null,3,9,1,9,1,null,1,null,null,1,1,1,1,9,1,1,1,1,null,null,null,null,1,null,null,null,null,1,1,1,1,1,null,9]
[null,null,null,null,null,null,"mittel",null,3,3,null,3,3,null,null,3,3,3,3,3,1,1,3,3,3,3,null,3,null,null,3,3,3,3,9,3,3,3,3,null,null,null,null,3,null,null,null,null,3,3,3,3,3,null,3]
[null,null,null,null,null,null,"hoch",null,9,9,null,9,9,null,null,9,9,9,9,1,3,null,1,9,1,9,null,9,null,null,9,9,9,9,9,9,9,9,9,null,null,null,null,9,null,null,null,null,9,9,9,9,9,null,1]
[null,"Stiller",null,null,null,"Sicherheitsrelevanz des Produktes","gering",null,null,null,null,1,1,null,null,null,null,null,1,9,null,null,9,1]
[null,null,null,null,null,null,"mittel",null,null,null,null,3,3,null,null,null,null,null,3,3,null,null,3,3]
[null,null,null,null,null,null,"hoch",null,null,null,null,9,9,null,null,null,null,null,9,1,null,null,1,9]
[null,null,null,null,null,"Art des Produkts","Verbrauchsgüter",null,null,null,null,null,null,null,1,1,null,null,null,null,null,null,null,null,1,3,null,1,null,null,null,null,null,null,null,null,null,null,null,null,null,null,null,3,null,null,null,null,1,3,1,1,null,null,1]
[null,null,null,null,null,null,"kurzlebige Gebrauchsgüter",null,null,null,null,null,null,null,3,3,null,null,null,null,null,null,null,null,3,3,null,3,null,null,null,null,null,null,null,null,null,null,null,null,null,null,null,3,null,null,null,null,3,9,3,3,null,null,1]
[null,null,null,null,null,null,"langlebige Gebrauchsgüter",null,null,null,null,null,null,null,9,9,null,null,null,null,null,null,null,null,9,3,null,3,null,null,null,null,null,null,null,null,null,null,null,null,null,null,null,9,null,null,null,null,9,9,9,9,null,null,3]
[null,"Stiller",null,null,null,"geplanter Umsatzanteil","gering",null,1,1,1,1,1,null,1,null,1,3,1,9,null,null,9,1,null,null,null,null,null,null,null,null,null,null,null,null,null,null,null,1,null,1,null,1,null,null,null,null,1,3,null,null,null,1,1]
[null,null,null,null,null,null,"mittel",null,3,3,3,3,3,null,3,null,3,3,3,3,null,null,3,3,null,null,null,null,null,null,null,null,null,null,null,null,null,null,null,3,null,3,null,3,null,null,null,null,3,9,null,null,null,3,1]
[null,null,null,null,null,null,"hoch",null,9,9,9,9,9,null,9,null,9,3,9,1,null,null,1,9,null,null,null,null,null,null,null,null,null,null,null,null,null,null,null,9,null,9,null,9,null,null,null,null,9,9,null,null,null,9,3]
[null,null,null,null,null,"Anzahl gefertigter Produkte pro Jahr","< 100",null,null,null,null,null,null,null,null,null,null,null,null,null,9,1,null,null,1,9,null,9,null,null,null,null,null,null,null,null,null,null,null,null,null,null,null,null,null,null,null,null,null,null,1,1]
[null,null,null,null,null,null,"100 - 9999",null,null,null,null,null,null,null,null,null,null,null,null,null,3,3,null,null,1,3,null,3,null,null,null,null,null,null,null,null,null,null,null,null,null,null,null,null,null,null,null,null,null,null,3,3]
[null,null,null,null,null,null,"10000 - 1 Mio.",null,null,null,null,null,null,null,null,null,null,null,null,null,3,3,null,null,3,1,null,1,null,null,null,null,null,null,null,null,null,null,null,null,null,null,null,null,null,null,null,null,null,null,3,3]
[null,null,null,null,null,null,"> 1 Mio.",null,null,null,null,null,null,null,null,null,null,null,null,null,1,9,null,null,9,1,null,1,null,null,null,null,null,null,null,null,null,null,null,null,null,null,null,null,null,null,null,null,null,null,9,9]
[null,null,null,null,null,"Erzeugnisspektrum","Erzeugnisse nach Kundenspezifikation",null,9,9,null,null,null,null,9,9,null,null,1,9,9,1,null,null,1,9,null,9,3,null,null,null,null,null,null,1,1,1,1,1,1,9,null,null,null,null,null,null,9,null,1,1,null,null,9,null,null,9,9]
[null,null,null,null,null,null,"Standarderz. mit kundenspez. Var.",null,9,9,null,null,1,null,9,9,null,null,3,3,3,3,null,null,1,3,null,9,3,null,null,null,null,null,null,1,1,1,1,1,1,9,null,null,null,null,null,null,9,1,3,3,null,null,9,1,1,3,3]
[null,null,null,null,null,null,"Standarderzeugnisse mit Varianten",null,3,3,null,null,3,null,3,3,null,null,3,3,3,3,null,null,3,1,null,3,1,null,null,null,null,null,null,9,9,9,9,9,9,null,null,null,null,null,null,null,3,9,9,9,null,null,null,3,3,1,1]
[null,null,null,null,null,null,"Standarderzeugnisse ohne Varianten",null,1,1,null,null,9,null,1,1,null,null,9,1,1,9,null,null,9,1,null,1,1,null,null,null,null,null,null,3,3,3,3,3,3,null,null,null,null,null,null,null,3,9,3,3,null,null,null,9,9]
[null,null,null,null,null,"Wichtigkeit des\nProduktpreises","Kostenführerschaft",null,null,null,null,null,null,null,3,9,null,null,null,null,1,9,null,null,null,1,null,1,null,null,null,null,null,null,null,1,3,3,9,9,9,9,9,null,null,null,null,null,null,9,null,null,9,9]
[null,null,null,null,null,null,"Preisführerschaft",null,null,null,null,null,null,null,null,null,null,null,null,null,1,1,null,null,null,9,null,1,null,null,null,null,null,null,null,null,null,null,null,null,null,null,null,null,null,null,null,null,null,null,null,null,1,1]
[null,null,null,null,null,null,"Qualitätsführerschaft",null,3,9,null,null,null,null,9,3,null,null,3,null,9,1,null,null,null,9,null,9,null,null,null,null,null,null,null,1,3,3,9,9,9,null,null,9,9,null,null,null,null,9,null,null,3,3]
[null,null,null,null,null,"Wichtigkeit produktspezifischer Dienstleistungen","klein",null,null,null,null,null,null,null,1,null,null,null,null,null,null,null,1,9,null,1,1,1]
[null,null,null,null,null,null,"mittel",null,null,null,null,null,null,null,3,null,null,null,null,null,null,null,3,3,null,3,3,3]
[null,null,null,null,null,null,"groß",null,null,null,null,null,null,null,9,null,null,null,null,null,null,null,9,1,null,9,9,9]
[null,null,null,null,null,"Häufigkeit des\nKundenbedarfs","nicht wiederkehrend","X",null,null,null,null,null,null,null,null,null,null,null,null,null,null,null,null,1,9,null,9,null,null,null,null,null,null,null,null,null,null,null,null,null,1,null,1,null,null,null,9]
[null,null,null,null,null,null,"blockweise",null,null,null,null,null,null,null,null,9,null,null,null,null,null,null,null,null,1,3,null,3,null,null,null,null,null,null,null,null,null,null,null,null,null,3,null,3,null,null,null,9]
[null,null,null,null,null,null,"regulär",null,null,null,null,null,null,null,null,3,null,null,null,null,null,null,null,null,3,1,null,1,null,null,null,null,null,null,null,null,null,null,null,null,null,3,null,3,null,null,9]
[null,null,null,null,null,null,"kontinuierlich",null,null,null,null,null,null,null,null,1,null,null,null,null,null,null,null,null,3,1,null,1,null,null,null,null,null,null,null,null,null,null,null,null,null,9,null,9,null,9]
[null,null,null,null,null,"Regelmäßigkeit des\nKundenbedarfs","unregelmäßig",null,null,null,null,null,null,null,null,9,null,null,null,null,null,null,null,null,1,9,null,9,null,null,null,null,null,null,null,null,null,null,null,null,null,1,null,1,null,null,null,9]
[null,null,null,null,null,null,"saisonal",null,null,null,null,null,null,null,null,3,null,null,null,null,null,null,null,null,3,3,null,3,null,null,null,null,null,null,null,null,null,null,null,null,null,3,null,3,null,null,null,9]
[null,null,null,null,null,null,"trendabhängig",null,null,null,null,null,null,null,null,3,null,null,null,null,null,null,null,null,3,1,null,1,null,null,null,null,null,null,null,null,null,null,null,null,null,9,null,9,null,null,9]
[null,null,null,null,null,null,"regelmäßig/konstant",null,null,null,null,null,null,null,null,1,null,null,null,null,null,null,null,null,9,1,null,1,null,null,null,null,null,null,null,null,null,null,null,null,null,9,null,9,null,9]
[null,null,null,null,null,"Beschaffungsart","überwiegend externe Beschaffung",null,3,9,null,null,null,null,9,1,null,null,null,null,null,null,null,null,1,null,null,9,1,null,null,null,null,null,null,1,1,3,3,9,9,9,9,9,null,null,null,null,null,null,null,null,9]
[null,null,null,null,null,null,"teilweise externe Beschaffung",null,1,3,null,null,null,null,3,3,null,null,null,null,null,null,null,null,3,null,null,3,3,null,null,null,null,null,null,1,1,3,3,9,9,3,3,3,null,null,null,null,null,null,null,null,3]
[null,null,null,null,null,null,"kaum externe Beschaffung",null,null,1,null,null,null,null,1,9,null,null,null,null,null,null,null,null,9,null,null,1,9,null,null,null,null,null,null,9,9,3,3,1,1,1,1,1,null,null,null,null,null,null,null,null,1]
[null,null,null,null,null,"Produktionskonzept","Engineer-to-Order","x",null,null,null,null,null,null,null,null,null,null,null,null,null,null,null,null,1,9,null,9,9,null,null,null,null,null,null,9,9,9,3,3,1,9,1,9,null,null,null,null,3,3,9,1,null,null,9]
[null,null,null,null,null,null,"Make-to-Order","x",null,null,null,null,null,null,null,null,null,null,null,null,null,null,null,null,3,3,null,9,9,null,null,null,null,null,null,3,3,9,9,1,1,9,1,9,null,null,null,null,3,3,3,1,null,null,9]
[null,null,null,null,null,null,"Assemble-to-Order",null,null,null,null,null,null,null,null,9,1,1,1,3,null,null,null,null,3,3,null,3,3,null,null,null,null,null,null,1,1,3,3,9,9,3,3,3,null,null,null,null,3,9,3,3,null,null,3]
[null,null,null,null,null,null,"Make-to-Stock",null,null,null,null,null,null,null,null,1,3,3,3,1,null,null,null,null,9,1,null,1,1,null,null,null,null,null,null,3,3,3,9,9,9,1,9,1,null,null,null,null,3,9,1,9,null,null,3]
["Entscheidungsgrundlage","Basse",null,null,null,"Änderungsgrad/ Innovationsgrad","neu",null,9,9,null,9,1,null,9,9,1,1,1,9,9,1,1,9,1,null,null,9,null,9,9,9,9,9,9,9,9,9,9,9,9,9,9,9,9,null,null,null,null,null,9,9,9,9,null,9,1,9,1]
[null,null,null,null,null,null,"geändert",null,3,3,null,9,3,null,3,3,3,3,3,3,3,3,3,3,3,null,null,3,null,3,3,3,3,3,3,3,3,3,3,3,3,3,3,3,3,null,null,null,null,null,3,3,3,3,null,3,3,3,3]
[null,null,null,null,null,null,"angepasst",null,3,3,null,9,9,null,1,1,9,9,9,1,1,9,9,1,9,null,null,1,null,1,1,1,1,1,1,1,1,1,1,1,1,1,1,1,1,null,null,null,null,null,1,1,1,1,null,1,9,1,9]
[null,"Kujas",null,null,null,"Änderungsgegenstand","Prozess",null,9,9,null,9,3,null,1,9,null,null,null,null,null,9,null,null,null,null,null,null,null,9,null,null,null,null,null,null,null,null,null,null,null,null,null,null,9,null,null,null,9,9,1,9]
[null,null,null,null,null,null,"Produkt",null,9,9,null,9,9,null,1,9,null,null,null,null,9,null,null,null,null,null,null,null,null,3,null,null,null,null,null,3,3,9,9,9,3,null,null,9,null,null,null,null,9,9,9,9]
[null,null,null,null,null,null,"Umfeld",null,1,1,null,1,null,null,9,1,3,3,3,null,null,null,null,3,null,null,null,null,null,9,null,null,null,null,null,1,1,3,3,9,9,null,null,null,null,null,null,null,null,null,3,3,3]
[null,null,null,null,null,null,"Organisation",null,3,3,null,3,1,null,9,3,3,3,3,null,null,null,null,9,null,null,null,null,null,3,null,null,null,null,null,9,9,9,9,3,3,9,null,null,null,null,null,null,null,null,1,1,null,9]
[null,"Stiller",null,null,null,"Phase im Produktentwicklungs-prozess","Prototyp",null,3,3,1,null,null,null,9,1,1,1,1,9,null,null,null,null,null,null,null,null,null,null,null,9,9,9,9,1,9,9,3,3,3,null,null,9,null,null,null,null,3,1,9,3,9,9,9]
[null,null,null,null,null,null,"Vorserie",null,3,3,1,null,1,null,9,1,1,1,1,9,null,null,null,null,null,null,null,null,null,null,null,1,1,1,1,1,9,9,3,3,3,1,1,9,9,null,null,null,3,1,9,9,3,3,9]
[null,null,null,null,null,null,"0-Serie",null,9,3,3,null,3,null,3,3,9,9,9,1,null,null,null,null,null,null,null,null,null,null,null,1,1,1,1,1,9,9,3,3,3,3,3,3,9,null,null,null,9,3,3,9,3,3]
[null,null,null,null,null,null,"Hochlauf",null,9,3,9,null,9,null,1,9,9,9,9,1,null,null,null,null,null,null,null,null,null,null,null,3,3,3,3,1,9,9,3,3,3,9,9,3,3,null,null,null,9,3,3,3,1,1]
[null,null,null,null,null,null,"Serie",null,null,null,null,null,null,null,1,9,null,null,null,null,null,null,null,null,null,null,null,null,null,null,null,9,9,9,9,1,9,9,3,3,3,3,3,3,3,null,null,null,9,9,1,1]
[null,null,null,null,null,"Häufigkeit von Anläufen","mehrmals im Monat",null,null,null,null,9,9,null,1,9,9,9,9,null,null,null,1,9,9,null,null,1,null,null,null,null,null,null,null,9,9,3,3,1,1,null,null,null,null,null,null,null,null,9]
[null,null,null,null,null,null,"mehrmals im Jahr",null,null,null,null,3,3,null,3,3,3,3,3,null,null,null,3,3,3,null,null,3,null,null,null,null,null,null,null,3,3,9,9,3,3,null,null,null,null,null,null,null,null,3]
[null,null,null,null,null,null,"selten",null,null,null,null,1,1,null,9,1,null,null,null,9,null,null,9,1,1,null,null,9,null,null,null,null,null,null,null,1,3,9,9,3,1,null,null,null,null,null,null,null,null,1]
[null,"Steiner",null,null,null,"Änderungsgrund","KVP (Hochfahren auf Nennkapazität)",null,null,null,null,null,null,null,1,9,null,null,null,null,null,9,null,null,null,null,null,null,null,null,null,null,null,null,null,9,9,3,3,3,3,9,3,null,9,null,null,null,null,9,3,3,null,null,9]
[null,null,null,null,null,null,"Qualitätsmängel (Produkt/ Prozess)",null,null,9,3,null,null,null,1,9,null,null,null,null,9,3,null,null,null,null,null,null,null,9,null,null,null,null,null,9,9,3,9,3,3,3,3,9,9,null,null,null,null,9,9,9]
[null,null,null,null,null,null,"Prozess-Technologie",null,null,null,null,null,null,null,null,null,null,null,null,null,null,9,null,null,null,null,null,null,null,null,null,null,null,null,null,null,null,null,null,null,null,null,null,null,null,null,null,null,null,null,null,null,3]
[null,null,null,null,null,null,"Produkt-Technologie",null,null,null,null,null,null,null,9,3,null,null,null,null,9,null,null,null,null,null,null,null,null,3,null,null,null,null,null,1,3,9,9,9,9,null,3,null,9,null,null,null,9,null,9,3,3]
[null,null,null,null,null,null,"Gesetz",null,null,null,null,null,null,null,9,1,null,null,null,null,null,null,null,null,null,null,null,null,null,null,null,null,null,null,null,1,3,3,3,9,3,3,null,null,null,null,null,null,9,null,3,1]
[null,null,null,null,null,null,"Kundenwunsch",null,null,3,null,null,null,null,9,1,null,null,null,null,3,null,null,null,null,null,null,null,null,1,null,null,null,null,null,1,1,1,1,3,3,9,null,9,null,null,null,null,null,null,3,1]
[null,null,null,null,null,"Laufzeit / Dauer","Tage",null,null,null,null,null,null,null,1,9,null,null,null,9,null,null,9,1,null,null,null,1,null,null,null,null,null,null,null,null,null,null,null,null,null,null,null,null,null,null,null,null,null,null,null,null,null,null,null,null,null,9,9]
[null,null,null,null,null,null,">14 Tage",null,null,null,null,null,null,null,1,9,1,1,1,3,null,null,3,3,null,null,null,3,null,null,null,null,null,null,null,null,null,null,null,null,null,null,null,null,null,null,null,null,null,null,null,null,null,1,null,1,1,3,3]
[null,null,null,null,null,null,">8 Wochen",null,null,null,null,null,null,null,3,3,3,3,3,1,null,null,1,9,null,null,null,3,null,null,null,null,null,null,null,null,null,null,null,null,null,null,null,null,null,null,null,null,null,null,null,null,null,3,null,3,3,1,1]
[null,null,null,null,null,null,">6 Monate",null,null,null,null,null,null,null,9,1,9,9,9,null,null,null,1,9,null,null,null,9,null,null,null,null,null,null,null,null,null,null,null,null,null,null,null,null,null,null,null,null,null,null,null,null,null,9,null,9,9]
[null,"Bußwolder",null,null,null,"involvierte Mitarbeiter","Einzelperson",null,null,null,null,null,1,null,null,null,null,null,null,null,null,null,9,1]
[null,null,null,null,null,null,"Gruppe (2-4)",null,1,1,null,null,1,null,null,null,null,null,null,null,null,null,9,1,null,null,null,null,null,null,null,null,null,null,null,null,null,null,null,null,null,null,null,null,null,null,null,null,null,null,null,null,null,1]
[null,null,null,null,null,null,"Team (5-12)",null,3,3,null,null,3,null,null,null,null,null,3,null,null,null,9,1,null,null,null,null,null,null,null,null,null,null,null,null,null,null,null,null,null,null,null,null,null,null,null,null,null,null,null,null,null,3]
[null,null,null,null,null,null,"Mehrere Teams (>12)",null,9,9,null,null,9,null,null,null,9,9,9,null,null,null,1,9,null,null,null,null,null,null,null,null,null,null,null,null,null,null,null,null,null,null,null,null,null,null,null,null,null,null,null,null,null,9]
[null,"Müller",null,null,null,"Qualifikation involvierter Mitarbeiter","individuelle Experten",null,9,9,null,null,null,null,null,null,9,9,9,1,null,null,null,null,1,null,null,9,1,9,null,null,null,null,null,null,null,null,null,null,null,null,null,null,null,null,null,null,3,9,"?","?",null,null,1]
[null,null,null,null,null,null,"sensibilisierte Mitarbeiter ",null,3,3,null,null,null,null,null,null,3,3,3,3,null,null,null,null,9,null,null,1,9,1,null,null,null,null,null,null,null,null,null,null,null,null,null,null,null,null,null,null,3,3,"?","?",null,null,3]
[null,null,null,null,null,null,"anlauferfahrene Mitarbeiter",null,1,1,null,null,null,null,null,null,1,1,1,9,null,null,null,null,3,null,null,3,3,3,null,null,null,null,null,null,null,null,null,null,null,null,null,null,null,null,null,null,3,1,"?","?",null,null,9]
[null,"Nowacki",null,null,null,"Interdisziplinarität","Produktentwicklung",null,3,3,null,null,null,null,3,null,3,3,3,1,null,null,1,3,null,null,null,null,null,null,null,null,null,null,null,"?","?","?","?","?","?",3,null,9,null,null,null,null,3,null,null,null,null,3]
[null,null,null,null,null,null,"Technologieplanung",null,3,3,null,null,null,null,3,null,3,3,3,1,null,null,1,3,null,null,null,null,null,null,null,null,null,null,null,"?","?","?","?","?","?",null,null,null,9,null,null,null,3,null,null,null,null,3]
[null,null,null,null,null,null,"Logistik",null,3,3,null,null,null,null,null,3,3,3,3,1,null,null,1,3,null,null,null,null,null,null,null,null,null,null,null,"?","?","?","?","?","?",null,null,null,null,null,null,null,3,null,null,null,null,3]
[null,null,null,null,null,null,"Qualität",null,3,3,null,null,null,null,null,3,3,3,3,1,null,null,1,3,null,null,null,null,null,null,null,null,null,null,null,"?","?","?","?","?","?",null,null,9,9,null,null,null,3,null,null,null,null,3]
[null,null,null,null,null,null,"Fabikplanung",null,3,3,null,null,null,null,3,null,3,3,3,1,null,null,1,3,null,null,null,null,null,null,null,null,null,null,null,"?","?","?","?","?","?",null,null,null,9,null,null,null,3,null,null,null,null,3]
[null,null,null,null,null,null,"Serienproduktion",null,3,3,null,null,null,null,null,3,3,3,3,1,null,null,1,3,null,null,null,null,null,null,null,null,null,null,null,"?","?","?","?","?","?",null,null,null,9,null,null,null,3,null,null,null,null,3]
[null,null,null,null,null,null,"Einkauf",null,3,3,null,null,null,null,null,3,3,3,3,1,null,null,1,3,null,null,null,null,null,null,null,null,null,null,null,"?","?","?","?","?","?",null,9,null,null,null,null,null,3,null,null,null,9,3]
[null,null,null,null,null,null,"Vertrieb/ Produktmanagement",null,3,3,null,null,null,null,3,null,3,3,3,1,null,null,1,3,null,null,null,null,null,null,null,null,null,null,null,"?","?","?","?","?","?",9,null,null,null,null,null,null,3,null,null,null,null,3]
[null,null,null,null,null,null,"Geschäftsführung",null,3,3,null,null,null,null,3,null,3,3,3,1,null,null,1,3,null,null,null,null,null,null,null,null,null,null,null,"?","?","?","?","?","?",9,9,9,9,null,null,null,3,null,null,null,null,3]
[null,null,null,null,null,null,"Lieferkette/ Zulieferer",null,3,3,null,null,null,null,1,1,3,3,3,1,null,null,1,3,null,null,null,null,null,null,null,null,null,null,null,"?","?","?","?","?","?",9,9,9,1,null,null,null,3,null,null,null,9,3]
[null,null,null,null,null,null,"weitere Standorte",null,3,3,null,null,null,null,1,1,3,3,3,1,null,null,1,3,null,null,null,null,null,null,null,null,null,null,null,"?","?","?","?","?","?",9,9,9,3,null,null,null,3,null,null,null,null,3]
[null,null,null,null,null,null,"Andere",null,3,3,null,null,null,null,1,1,3,3,3,1,null,null,1,3,null,null,null,null,null,null,null,null,null,null,null,"?","?","?","?","?","?",null,null,null,null,null,null,null,3,null,null,null,null,3]
[null,null,null,null,null,"Räumliche Verteilung","stationär",null,1,1,null,null,null,null,null,null,1,9,null,null,null,null,9,1,null,null,null,null,null,1,1,1,1,1,1,"?","?","?","?","?","?",1,1,1,1,null,null,null,null,null,null,null,1,1]
[null,null,null,null,null,null,"regional",null,3,3,null,null,null,null,null,null,3,3,null,null,null,null,6,3,null,null,null,null,null,3,3,3,3,3,3,"?","?","?","?","?","?",3,3,3,3,null,null,null,null,null,null,null,3,3]
[null,null,null,null,null,null,"überregional",null,9,9,null,null,null,null,null,null,9,1,null,null,null,null,1,9,null,null,null,null,null,9,9,9,9,9,9,"?","?","?","?","?","?",9,9,9,9,null,null,null,null,null,null,null,9,9]
[null,null,null,null,null,"Internationalität der Mitarbeiter","national",null,1,1,null,null,null,null,null,null,3,3,3,null,null,null,null,null,null,null,9,null,null,null,null,null,null,null,null,null,null,null,null,null,null,null,null,null,null,null,null,null,null,null,null,null,null,3]
[null,null,null,null,null,null,"international",null,9,9,null,null,null,null,null,null,9,9,9,null,null,null,null,null,null,null,1,null,null,null,null,null,null,null,null,null,null,null,null,null,null,null,null,null,null,null,null,null,null,null,null,null,null,9]
[null,"Reuter",null,null,null,"Zielhomogenität","Zielneutralität",null,1,1,1,null,null,null,1,null,1,1,1,9,null,null,9,1,null,null,null,null,null,null,null,null,null,null,null,1,3,3,9,9,1,null,null,null,null,null,null,null,null,null,null,null,null,1]
[null,null,null,null,null,null,"Zielkomplementarität ",null,3,3,3,null,null,null,3,null,3,3,3,3,null,null,3,3,null,null,null,null,null,null,null,null,null,null,null,1,3,3,9,9,1,null,null,null,null,null,null,null,null,null,null,null,null,3]
[null,null,null,null,null,null,"Zielkonkurrenz ",null,9,9,9,null,null,null,9,null,9,9,9,1,null,null,1,9,null,null,null,null,null,null,null,null,null,null,null,1,3,3,9,9,1,null,null,null,null,null,null,null,null,null,null,null,null,9]
[null,"Basse",null,null,null," Häufikeit von Änderungen","gering",null,1,1,1,null,null,null,null,1,null,null,null,null,1,9,9,1,null,null,null,null,null,null,null,null,null,null,null,9,9,3,1,1,1,1,1,1,1,null,null,9,1,null,1,1]
[null,null,null,null,null,null,"mittel",null,3,3,3,null,null,null,null,3,null,null,null,null,3,3,3,3,null,null,null,null,null,null,null,null,null,null,null,9,9,3,1,1,1,3,3,3,3,null,9,null,3,null,3,3]
[null,null,null,null,null,null,"hoch",null,9,9,9,null,null,null,null,9,null,null,null,null,9,1,1,9,null,null,null,null,null,null,null,null,null,null,null,9,9,3,1,1,1,9,9,9,9,9,null,null,9,null,9,9]
[null,"Stiller",null,null,null,"Ändeurngsaufwand i.V. z. Entwicklungsaufwand","gering",null,1,1,1,null,null,null,1,null,null,null,null,null,1,9,9,1,null,null,null,null,1,9,null,null,null,null,null,9,9,3,3,1,1,1,1,1,1,null,null,9,1,null,1,1]
[null,null,null,null,null,null,"mittel",null,3,3,3,null,null,null,3,null,null,null,null,null,3,3,3,3,null,null,null,null,3,3,null,null,null,null,null,9,9,3,3,1,1,3,3,3,3,null,9,null,3,null,3,3]
[null,null,null,null,null,null,"hoch",null,9,9,9,null,null,null,9,null,null,null,null,null,9,1,1,9,null,null,null,null,9,1,null,null,null,null,null,9,9,3,3,1,1,9,9,9,9,9,null,null,9,null,9,9]
[null,null,null,null,null,"Projektkosten/ -umfang","<10k",null,null,null,null,null,null,null,null,null,1,1,1,9,null,null,9,1,9,null,null,1,9,1,null,null,null,null,null,9,3,3,1,1,1]
[null,null,null,null,null,null,"<100k",null,1,1,1,null,null,null,null,null,1,1,1,9,null,null,3,3,3,null,null,3,9,1,null,null,null,null,null,9,9,3,3,1,1,null,null,null,null,null,null,null,null,null,null,null,1,1]
[null,null,null,null,null,null,"<1000k",null,3,3,3,null,null,null,null,null,3,3,3,3,null,null,1,9,3,null,null,3,3,3,null,null,null,null,null,3,3,9,9,3,3,null,null,null,null,null,null,null,null,null,null,null,3,3]
[null,null,null,null,null,null,">1000k",null,9,9,9,null,null,null,null,null,9,9,9,1,null,null,1,9,1,null,null,9,1,9,null,null,null,null,null,1,3,3,9,9,3,null,null,null,null,null,null,null,null,null,null,null,9,9]
[null,"Kujas",null,null,null,"Varianteneinführung","parallel",null,null,null,null,null,null,null,9,9,9,9,9,null,null,null,1,9,9,null,null,1,null,9,9,9,9,9,9,null,null,null,null,null,null,9,null,null,9,9,null,null,null,9,9,9,null,null,null,9,null,3,3]
[null,null,null,null,null,null,"sukzessiv",null,null,null,null,null,null,null,3,3,3,3,3,null,null,null,3,3,3,null,null,3,null,null,3,3,3,3,3,null,null,null,null,null,null,9,null,null,3,null,9,null,null,9,3,3,null,null,null,null,9,9,3]
[null,null,null,null,null,null,"Stufen",null,null,null,null,null,null,null,3,3,1,1,1,null,null,null,9,1,1,null,null,9,null,null,1,1,1,1,1,null,null,null,null,null,null,9,null,null,1,null,9,null,null,9,1,1,null,null,null,null,3,9,3]
["Einheitliches Zeilsystem","Stiller",null,null,null,"Priorisierung der Hauptziele im Anlauf","Qualität",null,1,9,null,null,null,null,9,9,3,3,3,3,1,9,null,null,null,null,null,null,null,null,null,null,null,null,null,null,1,3,3,9,1,null,null,9,9,9]
[null,null,null,null,null,null,"Zeit",null,1,9,null,null,null,null,9,9,9,9,9,1,9,1,null,null,null,null,null,null,null,null,null,null,null,null,null,null,1,3,3,9,1,9,null,null,null,9,null,null,null,null,null,null,null,null,null,null,null,9,9]
[null,null,null,null,null,null,"Kosten",null,1,9,null,null,null,null,9,9,null,null,null,9,null,0,null,null,null,null,null,null,null,null,null,null,null,null,null,null,1,3,3,9,1,null,9,null,null,null,3,9,null,null,null,null,null,null,null,null,9,null,9]
[null,null,null,null,null,"Kennzahlabdeckung","Qualität",null,null,null,null,1,1,null,null,null,null,null,null,null,null,null,null,null,null,null,null,null,null,null,null,null,null,null,null,null,null,null,null,null,null,null,null,9,9]
[null,null,null,null,null,null,"Zeit",null,null,null,null,3,3,null,null,null,null,null,null,null,null,null,null,null,null,null,null,null,null,null,null,null,null,null,null,null,null,null,null,null,null,9]
[null,null,null,null,null,null,"Kosten",null,null,null,null,9,9,null,null,null,null,null,null,null,null,null,null,null,null,null,null,null,null,null,null,null,null,null,null,null,null,null,null,null,null,null,9]
[null,"Bußwolder",null,null,null,"Nebenziele","Mitarbeiter-Motivation",null,1,3,null,null,null,9,null,null,1,3,3,9,null,null,null,null,null,null,null,null,null,null,null,null,null,null,null,9,3,3,9,3,1,null,null,null,null,null,null,null,null,null,null,null,null,9,9]
[null,null,null,null,null,null,"Ökologische Ziele",null,1,3,null,null,null,9,null,null,9,9,9,1,null,null,null,null,null,null,null,null,null,null,null,null,null,null,null,9,9,3,3,3,1,null,null,null,null,null,null,null,null,null,null,null,null,3]
[null,null,null,null,null,null,"Soziale/ Nomative Ziele",null,1,3,null,null,null,9,null,null,9,9,9,1,null,null,null,null,null,null,null,null,null,null,null,null,null,null,null,1,3,3,9,9,3,null,null,null,null,null,null,null,null,null,null,null,null,1,3]
[]
[null,null,null,null,null,null,"Summe",null,{"$f":"SUM(I34:I148)","v":259},{"$f":"SUM(J34:J148)","v":304},82,114,131,27,284,298,248,246,272,198,126,126,214,247,175,126,23,227,91,112,52,75,75,75,89,219,270,248,264,258,165,298,167,292,201,63,57,63,215,222,192,188,121,190,117,48,60,69,66]

{"sheet":"Parameter","index":8,"n_rows":29,"n_cols":77,"rows_kept":29,"cut":false,"hidden":true,"merged":[[28,52,53,56],[28,58,53,62],[28,64,53,68],[28,70,53,74],[0,76,1,80],[2,76,3,80],[4,76,25,80],[26,76,27,80],[28,76,53,80],[0,52,1,56],[0,58,1,62],[0,64,1,68],[0,70,1,74],[2,52,3,56],[2,58,3,62],[2,64,3,68],[2,70,3,74],[0,46,1,50],[2,28,3,32],[2,34,3,38],[2,40,3,44],[2,46,3,50],[0,28,1,32],[0,34,1,38],[26,4,27,8],[26,10,27,14],[26,16,27,20],[26,22,27,26],[0,40,1,44],[4,40,25,44],[26,28,27,32],[26,34,27,38],[26,40,27,44],[28,4,53,8],[28,10,53,14],[28,16,53,20],[28,22,53,26],[0,4,1,8],[0,10,1,14],[0,16,1,20],[2,4,3,8],[2,10,3,14],[2,16,3,20],[4,4,25,8],[4,10,25,14],[4,16,25,20],[0,22,1,26],[2,22,3,26],[4,22,25,26],[4,52,25,56],[4,58,25,62],[4,64,25,68],[4,70,25,74],[28,28,53,32],[28,34,53,38],[28,40,53,44],[28,46,53,50],[4,28,25,32],[4,34,25,38],[4,46,25,50],[26,46,27,50],[26,52,27,56],[26,58,27,62],[26,64,27,68],[26,70,27,74]]}
[0.5,null,"Priorität A",null,"Tätigkeitsprofil des Managementsystems",null,null,null,null,null,"Modellbildung",null,null,null,null,null,"Managementebene",null,null,null,null,null,"Anlaufmanagement in der primären Organisationsstruktur",null,null,null,null,null,"Anlaufmanagement-Staffing",null,null,null,null,null,"Sekundärorganisation des Anlaufmanagements",null,null,null,null,null,"Auslagerung des Anlaufmanagements als Schlüsselkompetenz",null,null,null,null,null,"Leitungskomeptenzen des Anlaufmanagements",null,null,null,null,null,"Handlungsrahmen/ Interdisziplinarität",null,null,null,null,null,"Kontrollobjekte",null,null,null,null,null,"Managementumfang",null,null,null,null,null,"Qualifizierungsobjekte",null,null,null,null,null,"Anlaufstrategien zur Integration von Varianten"]
[0.3,null,"Priorität B"]
[null,null,"Priorität C",null,"Beschreibung",null,null,null,null,null,"Beschreibung",null,null,null,null,null,"Beschreibung",null,null,null,null,null,"Beschreibung",null,null,null,null,null,"Beschreibung",null,null,null,null,null,"Beschreibung",null,null,null,null,null,"Beschreibung",null,null,null,null,null,"Beschreibung",null,null,null,null,null,"Beschreibung",null,null,null,null,null,"Beschreibung",null,null,null,null,null,"Beschreibung",null,null,null,null,null,"Beschreibung",null,null,null,null,null,"Beschreibung"]
[]
["x",null,null,null,"Bei der Betrachtung von Magementsystemen ist zwischen grunsätzlich unterschiedlichen Arten von Tätigkeitsprofilen zu unterscheiden. Übt das Managementsystem vornehmlich zukunftsbezogene Tätigkeiten aus, so kann von einem planenden Tätigkeitsprofil gesprochen werden. Planende Tätigkeiten im Anlaufmanagement umfassen beispielsweise das Aufstellen Personal-, Maschinen-, Bedarfs- oder Investitionsplänen. Jene Aufgaben, die sich auf den Erfüllungsgrad der Pläne oder bestimmter Zielvorgaben konzentrieren, können zu den \"Kontrollierenden Aufgaben\" zusammengefasst werden. Dabei können alle zuvor aufgestellten Pläne hinsichtlich ihrer Einhaltung, alle Ziele hinsichtlich ihrer Erfüllung und alle Parameter hinsichtlich ihrer Akzeptabilität kontrolliert werden. Jene Handlungen, die durch das Auftreten eines unvorhergesehenen Ereignisses (\"Störung\") hervorgerufen werden und auf die Reduzierung von negativen Auswirkungen abzielen, werden zu den \"Reaktiven Maßnahmen\" zusammengefasst.",null,null,null,null,null,"Modelle lassen sich als Abbildung oder Repräsentation eines bestimmten Originals verstehen. Geht man davon aus, dass ein Original ein Objekt der Realität ist, stellt ein Modell folglich die Abbildung eines Realitätsausschnitts dar. Weil im Sinne einer systemtheoretischen Anwendung der Modellierung grundsätzlich von einem komplexen System auszugehen ist, lassen sich die Elemente und Relationen des Systems, sowie unterschiedliche, im Zeitablauf dynamische Zustände kaum beschreiben und analysieren. Um jedoch Schlussfolgerungen über das Systemverhalten des realen Objektes zu ermöglichen oder kontrollierend und bei Bedarf korrigierend einwirken zu können, ist ein vereinfachendes Modell notwendig. In der Realität finden Modelle auch zunehmend in simulativen Bereichen, bespw. als Prognosemodelle.  Die zugrundeliegeden Modelle müssen hierzu \"ausführbar\" sein, d.h. sie müssen Daten verarbeiten können.",null,null,null,null,null,"Nach dem Drei-Ebenen-Modell sollte das Anlaufmanagement Erfolgskriterien auf drei logischen Ebenen erfüllen: operatives Management (\"Effizienz\"), strategisches Management (\"Effektivität\") und normatives Management (\"Nachhaltigkeit\"). Unabhängig von der Entscheidung der organisationalen Ausgestaltung des Anlaufmanagements, finden einzelne Entscheidungen im Rahmen des Anlaufmanagements auf verschiedenen Managementebenen statt und addressieren folgerichtig auch unterschiedliche Akteure im Unternehmen. Die Anlaufplanung und -strategie sowie das Projektmanagement, die Projektkultur und -organisation bilden dabei den Rahmen für die einzelnen Bausteine des Anlaufmanagement. Das Prinzip der Rekursion innerhalb des Drei-Ebenen-Modells verdeutlicht, dass alle drei logischen Managementebenen (operative, strategische und normative) jeweils auf jeder der organisatorischen Rekursionsebenen (übergeordnete Ebene, Projekt, Teilprojekte) ausgeprägt sein sollten. Dies führt dazu, dass beispielsweise auch für die Unterprojekte, Ziele des strategischen und Prinzipien des normativen Managements gelten.\nDas Drei-Ebenen-Modell besitzt für die Projektmanager einen doppelten Nutzen. Erstens hilft es, komplexe Managementprobleme durch deren Strukturierung und durch die Konzentration auf die dargelegten Maßstäbe zu bewältigen. Zweitens liefert es ein Analyseschema für mögliche Konflikte, die aus dem Widerspruch oder Wettbewerb zwischen den verschiedenen logischen Ebenen entstehen.\n ",null,null,null,null,null,"Es gibt grundsätzlich verschiedene Möglichkeiten das Anlaufmanagement in der Organisation des Unternehmens zu verankern. Das Anlaufmanagement kann als eigene Funktion als \"Organisationseinheit des Konzerns\" arbeiten. Das Anlaufmanagement als Organisationseinheit des Werks führt die Anläufe in einem Werk. Wird das Anlaufmanagement nicht in der Primärorganisation eines Unternehmens verankert ist es denkbar, kann der Anlaufmanager als eigene Rolle im Entwicklungsprojekt vorgesehen werden oder die Aufgaben in die Verantwortung des Projektleiters als Teile der Projektorganisation fallen. Dabei ist zu unterscheiden, ob die Rolle/ die Aufgaben des Anlaufmanagements durch Mitarbeiter der Entwicklungs oder die Serienorganisation übernommen werden. ",null,null,null,null,null,"In den entstehenden Problemsituationen während des Produktionsanlaufes kann üblicherweise nur auf eine dünne Personaldecke zurückgegriffen werden, die die Bildung von Task Forces nicht zulässt. Oftmals ist die Organisation funktional strukturiert, wodurch die Nachteile der Bereichsegoismen durch die sequenzielle Logik der einzelnen Bearbeiter sich negativ auswirken. Die Personalselektion und -qualifizierung bei der Auswahl der Teammitglieder soll zum einen aufgrund der fachlichen Anforderungen geschehen und zum anderen die Fähigkeit der Personen in einem Team zu arbeiten einbeziehen. Im Rahmen der Zielsetzung müssen zum einen Gruppenziele gesetzt werden, zum anderen muss sichergestellt werden, dass die Gruppenziele nicht mit den individuellen Zielen der Teammitglieder in Widerspruch stehen. \nAufgabe der Planung des Personaleinsatzes im Produktionsanlaufs ist die Verteilung der gegenwärtigen Mitarbeiter auf die verschiedenen Arbeitsplätze unter Berücksichtigung der quantitativen, zeitlichen und örtlichen Erfordernisse des Anlaufs.",null,null,null,null,null,"\"Sekundärorganisationen sind hierarchieübergreifende/-ergänzende, zeitlich\nmeist befristete Organisationseinheiten zur Durchführung neuartiger oder einmaliger\nAktivitäten sowie zur Verbesserung bei dauerhaften Aufgaben. In der Praxis\nhäufig vorkommende Formen von Sekundärorganisationen sind das Stabsprinzip,\ndas Matrixprinzip, das Ausgliederungsprinzip und das Arbeitsgruppenprinzip.\" Schuh 2008 S. 56",null,null,null,null,null,"Für eine mögliche Auslagerung des Anlaufmanagements gibt es im wesentlichen zwei Gründe. Zum einen erfordern insbesondere komplexe Produktionsanläufe einen hohen Personaleinsatz. Die personellen Ressourcen sind vielen Fällen nicht vorhanden. Gerade wenn eine Organisation mehrere Produktionsanläufe parallel durchführt, reicht das vorhandene Personal zur Abdeckung der notwendigen Managementaufgaben vielfach nicht aus. Ein weiterer Grund für eine Auslagerungsentscheidung ist, dass die für den Anlauf notwendige Expertise in der Organisation nicht vorhanden ist. Es gibt bereits einige Unternehmen, die sich auf die Unterstützung und Beratung bei Produktionsanläufen spezialisiert hat.",null,null,null,null,null,"Ein Controlling als Teil des Anlaufmanagements basiert im Wesentlichen auf den Rollenkonzepten und Kompetenzzuordnungen wie sie in den angrenzenden Phasen (F&E, Serienproduktion) zu finden sind. Der jeweilige Gegenstand, auf den sich das Controlling bezieht, dient hier als Unterscheidungskriterium. Neben der reinen Ergebniskontrolle kann das Verfahren, etwa der Produktionsprozess, als Gegenstand dienen. Weitere Arten der Kompetenz bietet eine Unterscheidung zwischen der Kontrolle und Richtlinien. Die Anlauforganisation kann für involvierte Unternehmensbereiche Richtlinien festlegen oder deren Ausführungen kontrollieren. Darüber hinausgehend kann eine Fremdentscheidungs-/ oder Weisungkompetenz vorliegen. Die Anlauforganisation hat dabei das Recht für andere, in den Anlauf involvierte Unternehmensbereiche, anlaufrelevante Entscheidungen zu treffen.",null,null,null,null,null,"Das Anlaufmanagment geht mit einem hohen Maß an Komplexität einher, die aus der zunehmenden Dynamik, der Vielzahl von Interdependenzen und der Interdisziplinarität der beteiligten Funktionalbereiche ergibt. Die Komplexität als Folge der Interdisziplinarität resultiert aus den originär getrennten Funktionalbereichen, die gleichzeitig in das Anlaufmanagement involviert sind z.B. Produktion, Produktentwicklung, Logistik, Einkauf und Qualitätsmanagement. Darüber hinaus müssen sowohl unternehmensinterne als auch unternehmensübergreifende  Bereiche interdisziplinär und vernetzt zusammen arbeiten. ",null,null,null,null,null,"Im Anlauf können gemäß des Zieldreiecks aus Zeit, Kosten und Qualität unterschiedliche Kontrollobjekte hinsichtlich der jeweiligen Priorisierung eines dieser Ziele herangezogen werden.\nDie Kontrolle der Termine betrifft vor allem die Einhaltung von Meilensteinen und das Erreichen der Kammlinie zum definierten Zeitpunkt. \nDas Kontrollobjekt Kosten gliedert sich in die direkten und indirekten Anlaufkosten.\nNeben der direkten Prüfung der Produktqualität kann auf diese auch durch Kontrolle der Fertigungsprozesse zurückgeschlossen werden. Zudem betrifft die Prozessqualität auch organisatorische und nicht wertschöpfende Prozesse\n",null,null,null,null,null,"Es gibt verschiedene Möglichkeiten den Managementumfang des Anlaufs zu gestalten. Grundsätzlich lassen sich die Arten des Eingriffs in regelmäßige und ereignisbasierte Arten unterscheiden. Bei den regelmäßigen Eingriffen werden beispielsweise tägliche oder wöchentliche Statusberichte zum aktuellen Geschehen präsentiert. Für das ereignisbasierte Management lässt sich zwischen erwarteten und unerwarteten Ereignissen unterscheiden. Zu den erwarteten Ereignissen zählt beispielsweise das Erreichen von vorher definierten Meilensteinen. Zum Managementumfang bei unerwarteten Ereignissen zählt die Reaktion auf ungeplante Änderungen – wie beispielsweise Prozessinstabilitäten.",null,null,null,null,null,"Um das Erreichen eines stabilen Anlaufs zu gewährleisten, ist die Qualifizierung der einzelnen Elemente eines Anlaufprojektes notwendig. Dies umfasst insbesondere Produkte, Prozesse, Lieferanten und Mitarbeiter. Ermöglicht wird dies zum Teil über die Dokumentation vergangener Anläufe. Neben der Anlaufplanung ist das Reifegradcontrolling ein Mittel zur Validierung. In frühen Phasen des Anlaufs steht das Produkt im Mittelpunkt (z.B. durch Prototypen), während in späteren Phasen der Produktionsprozess relevanter wird. Hier können Leistungstest unter Serienbedingungen Aussagen über die Leistungsfähigkeit generieren. Da Zulieferer ebenfalls auf den Anlauf einwirken, sind sie frühzeitig zu selektieren. Aus der Kombination der Eigenschaften des Anlaufobjektes und denen des Zulieferers ist die Anlaufkritizität zu bestimmen. Risikoanalysen und Prozessaudits unterstützen das Vorgehen. Mitarbeiter haben zu jedem Zeitpunkt entscheidenden Einfluss auf den Erfolg des Projekts. Gerade die frühzeitige Mitarbeiterqualifikation kann hier, verbunden mit Personalkontinuität, unterstützend wirken. Dieser Aspekt hat große Schnittmengen mit einer adäquaten Dokumentation. Durch systematische Erfassung und Aufbereitung der gesammelten Erfahrungen, können die Informationsverfügbarkeit verbessert und mögliche Handlungsalternativen aufgezeigt werden.",null,null,null,null,null,"Mit den Anlaufstrategien werden situationsabhängige Strategien zur Bildung von Reihenfolgen in Produktanläufen mehrere Varianten beschrieben. Slow-Motion: Der komplette Produktmix wird langsam parallel hochgefahren, um den Lernfortschritt\nzu unterstützen. Erst zum Ende wird die Ausbringung deutlich erhöht.\nVolume First: Eine Produktvariante wird schnell hochgefahren, um unmittelbar nach Anlaufbeginn\ndie geplante Produktionsrate zu erreichen.\nDedication: Der komplette Produktmix wird parallel hochgefahren. Nach Deckung des anfänglich\nerhöhten Lernbedarfs der Mitarbeiter findet ein schneller Hochlauf statt.\nStep-by-step: Der Produktmix wird sequenziell hochgefahren, um produktspezifische Anlagenstörungen\nvoneinander zu entkoppeln und Fehlerursachen gezielt zu beheben."]
[]
[]
[]
[]
[]
[]
[]
[]
[]
[]
[]
[]
[]
[]
[]
[]
[]
[]
[]
[]
[]
[null,null,null,null,"Dissertationen im GRK",null,null,null,null,null,"Dissertationen im GRK",null,null,null,null,null,"Dissertationen im GRK",null,null,null,null,null,"Dissertationen im GRK",null,null,null,null,null,"Dissertationen im GRK",null,null,null,null,null,"Dissertationen im GRK",null,null,null,null,null,"Dissertationen im GRK",null,null,null,null,null,"Dissertationen im GRK",null,null,null,null,null,"Dissertationen im GRK",null,null,null,null,null,"Dissertationen im GRK",null,null,null,null,null,"Dissertationen im GRK",null,null,null,null,null,"Dissertationen im GRK",null,null,null,null,null,"Dissertationen im GRK"]
[]
[null,null,null,null,"Disseration Sebastian Schmitt:\nAufgabenmodell zur qualitätsorientierten Planung, Evaluierung und Regelung des Anlaufmanagements\n\nDissertation Patrick Beaujean: aufbauorganisatorisches Gestaltungsmodell für das reaktive Qualitätsmanagement\n\nDissertation Maik Schürmeyer (nicht veröffentlicht):\nKybernetische Produktionsprogrammplanung bei anlaufintensiver Programmfertigung",null,null,null,null,null,"Dissertation Bastian Nau: Anlauforietierte Technologieplanung zur Auswahl von Fertigungstechnologien\nDisseration Steffen Buchholz (nicht veröffentlicht): Substitutionsrisiko von Fertigungssystemen\nDisseration Tim Renner: Theoretischer Ansatz zur quantitativen Simulation des Produktionsanlaufs\nDissertation Sebastian Stiller (nicht veröffentlicht): Systemtheoretische Modellierung von Realisierungssystemen zur Simulation des Systemverhaltens - Modellierung des Fallbeispiels Produktionsanlauf mit Simulation einer Anlaufkurve\nDissertation Isabel Basse (nicht veröffentlicht): Systemtheoretische Modellierung von Qualitätsprüfungen im Anlauf\nDissertation Martin Göbel: Inbetriebnahme von Industrierobotern durch inituitive, herstellerunabhängige Spezifikation von Roboterprogrammen\nDissertation Simon Müller (nicht veröffentlicht): Verbesserte Planung und Inbetriebnahme von automatisierten Produktionsprozessen durch Viable-MES-Modelle\nDissertation Christoph Nowacki (nicht veröffentlicht): Identifikation des optimalen Grades aus Standardisierung und Flexibilität in Technologieketten\nDissertation Thomas Gartzen, S. 107f: Wirkmodell der komplexitätsspezifischen Instabilität im Anlauf\nDissertation Andreas Maue (nicht veröffentlicht): Integration des Anlaufs in die Serienplanung bei Kleinserien\nDissertation Christian Janßen (nicht veröffentlicht): Modellierung der Inbetriebnahme des Automobils ",null,null,null,null,null,"Dissertation Esther Borowski: \nEbenen des Agilen Anlaufmanagementsystems\nDissertation Frank Steiner (nicht veröffentlicht): strategische Aspekte des Anlaufmanagments in heterogenen / unsicheren Märkten n Dissertation\nUwe Gross (S.96ff.): Die strategische Rolle des Anlaufmanagments für den Neuprodukterfolg\nDissertation Maik Schürmeyer:\nKybernetische Produktionsprogrammplanung bei anlaufintensiver Programmfertigung",null,null,null,null,null,"Dissertation Uwe Gross: Organisationstheortetische Aspekte zur effektiven und effizienten Reaktion auf Probleme im Produktionsanlauf\nDisseration Sebastian Schmitt:\nAufgabenmodell zur qualitätsorientierten Planung, Evaluierung und Regelung des Anlaufmanagements\nn Dissertation Andreas Maue (nicht veröffentlicht): \nIntegration des Anlaufs in die Serienplanung bei Kleinserien",null,null,null,null,null,"Dissertation Tim Renner\nDissertation Wesch: Synchronisationsmechanismen zwischen Mitarbeitern und Kommunikation in Teams",null,null,null,null,null,"Disseration Patrick Beaujean:\nn Gründe für die Schaffung von Sekundärorganisationen (S. 32 ff)\nDisseration Sebastian Schmitt:\nMöglichkeit zur Gestaltung der Sekundärorganisation",null,null,null,null,null,"keine Dissertation",null,null,null,null,null,"Dissertation Sebastian Stiller (nicht veröffentlicht): Leitungskompetenzen als Differenzierungsmerkmale des Realisierungsmanagements\nEsther Borowski: Eingriffe des Anlaufmanagements in den Anlauf",null,null,null,null,null,"Dissertation Isabel Basse (nicht veröffentlicht): innerbetriebliches, anlaufendes Montagesystem\nDissertation Thomas Gartzen: S. 35f: Vorstellung der Anlaufstrategien und Diskussion von Anlaufkurventypologien n Dissertation Uwe Gross: (S.15) Schnittstellen im Neuproduktentwicklungsprozess n Dissertation Uwe Gross: (S.125ff.) Mitigating Effects of Supply Chain Integration\nJerome Quick (nicht veröffentlicht): Anlaufmanagement in Supply Chains",null,null,null,null,null,"Dissertation Bastian Nau: Anlauforietierte Technologieplanung zur Auswahl von Fertigungstechnologien\nDissertation Sebastian Stiller (nicht veröffentlicht): Zielsystem zur Erfolgsmessung in der Produktrealisierung (auf Anlauf anwendbar)\nDissertation Isabel Basse (nicht veröffentlicht): Kontrolle der Produkt- und Prozessqualität\nDissertation Marc Kujas (nicht veröffentlicht): Lebenszyklusorientierte Kosten-/Nutzenanalyse von Modellwechseln langlebiger Gebrauchsgüter\nDissertation Thomas Gartzen, S. 204ff: Steuerung und Regelung der diskreten Migration n Dissertation Uwe Gross: (S.19) Ziele im Produktionsanlauf",null,null,null,null,null,"n Dissertation Uwe Gross: Organisationstheoretische Aspekte zur effektiven und effizienten Reaktion auf Probleme im Produktionsanlauf\nn Dissertation Tim Renner: Beeinflussung in den Tätigkeiten des Anlaufmanagements\n",null,null,null,null,null,"Dissertation Uwe Gross: \nProduct Innovation and the Factory (Bezug zur Produktqualifizierung)\nDissertation Tim Renner: \nSerienreifegrad nach Wangenheim (1998); Zielkatalog des Produktionsanlaufs (Mitarbeiter und Prozessstabilität)\nThomas Gartzen:\nMaßnahmen zur... Mitarbeiterfokussierung / Organisationsfokussierung / Netzwerkfokussierung / Prozessfokussierung / Produktfokussierung\nPeter Bußwolder (nicht veröffentlicht):\nStärkung der Entscheidungsfähigkeit von Mitarbeitern in komplexen Systemen\nJerome Quick (nicht veröffentlicht): Anlaufmanagement in Supply Chains\nCathrin Wesch-Potente (nicht veröffentlicht): Koordination von Teams im Anlauf\nDissertation Christian Janßen (nicht veröffentlicht):\nModellierung der Inbetriebnahme des Automobils \nDissertation Martin Göbel: \nInbetriebnahme von Industrierobotern durch inituitive, herstellerunabhängige Spezifikation von Roboterprogrammen\nDissertation Simon Müller (nicht veröffentlicht):\nVerbesserte Planung und Inbetriebnahme von automatisierten Produktionsprozessen durch Viable-MES-Modelle",null,null,null,null,null,"n Dissertation Thomas Gartzen, S. 35f: Vorstellung der Anlaufstrategien und Diskussion von Anlaufkurventypologien \nn Dissertation Christoph Nowacki (nicht veröffentlicht):\nReduktion der varianteninduziierten Komplexität in einer integrierten Produkt- und Prozessentwicklung n Dissertation Frank Steiner (nicht veröffentlicht): Planung und Umsetzung eines variantenreichen Produktlösungsraumes für heterogene Märkte\n"]